BEGIN:VCALENDAR
VERSION:2.0
PRODID:-//OlyLife P-90普及委員会 - ECPv6.8.1//NONSGML v1.0//EN
CALSCALE:GREGORIAN
METHOD:PUBLISH
X-WR-CALNAME:OlyLife P-90普及委員会
X-ORIGINAL-URL:https://olylife-japan.com
X-WR-CALDESC:OlyLife P-90普及委員会 のイベント
REFRESH-INTERVAL;VALUE=DURATION:PT1H
X-Robots-Tag:noindex
X-PUBLISHED-TTL:PT1H
BEGIN:VTIMEZONE
TZID:Asia/Tokyo
BEGIN:STANDARD
TZOFFSETFROM:+0900
TZOFFSETTO:+0900
TZNAME:JST
DTSTART:20250101T000000
END:STANDARD
END:VTIMEZONE
BEGIN:VEVENT
DTSTART;TZID=Asia/Tokyo:20250829T131500
DTEND;TZID=Asia/Tokyo:20250829T170000
DTSTAMP:20260420T162532
CREATED:20250816T060249Z
LAST-MODIFIED:20250816T060249Z
UID:3930-1756473300-1756486800@olylife-japan.com
SUMMARY:東京✨体験会＆セミナー
DESCRIPTION:東京✨体験会＆セミナー\n東京セミナー \n▪️日時\n８月29日(金)\n受付）13時15分開場\n開演）13時30分 \n講師：小澤正道 \n主催：世良めぐみ \n担当：中村千佐江\n電話：09089620119 \n会員協力費　会員500円\n新規　無料 \n※ご紹介様は、体験ご希望の方のお水のご準備をお願いいたします。 \n▪️会場\nとしま区民センター\n7階\n〒170-0013 東京都豊島区東池袋１丁目２０−１０\nhttps://maps.app.goo.gl/xY1ehNiii8KzkjYB8?g_st=com.google.maps.preview.copy
URL:https://olylife-japan.com/all-event/%e6%9d%b1%e4%ba%ac%e2%9c%a8%e4%bd%93%e9%a8%93%e4%bc%9a%ef%bc%86%e3%82%bb%e3%83%9f%e3%83%8a%e3%83%bc-10/
LOCATION:としま区民センター\, 東京都豊島区東池袋1-20-10　としま区民センター\, Japan
END:VEVENT
BEGIN:VEVENT
DTSTART;TZID=Asia/Tokyo:20250825T210000
DTEND;TZID=Asia/Tokyo:20250825T223000
DTSTAMP:20260420T162532
CREATED:20250816T060049Z
LAST-MODIFIED:20250816T060049Z
UID:3928-1756155600-1756161000@olylife-japan.com
SUMMARY:Zoom《会員限定》プラン勉強会
DESCRIPTION:Zoom《会員限定》プラン勉強会\n8月25日(月) 21時〜\n【プラン勉強会】\n講師　阪下博之 \n※出来る限り顔出しでの参加をお願いします\n開始15分前から入室可能なので、表示名(漢字フルネーム)の変更など各自で準備を整えてください\n他の参加者のご迷惑となりますので極力時間厳守でお願いします \n \nミーティング ID: 846 5817 6788\nパスコード: 20240501
URL:https://olylife-japan.com/all-event/zoom%e3%80%8a%e4%bc%9a%e5%93%a1%e9%99%90%e5%ae%9a%e3%80%8b%e3%83%97%e3%83%a9%e3%83%b3%e5%8b%89%e5%bc%b7%e4%bc%9a-14/
LOCATION:Zoom
END:VEVENT
BEGIN:VEVENT
DTSTART;TZID=Asia/Tokyo:20250823T130000
DTEND;TZID=Asia/Tokyo:20250823T170000
DTSTAMP:20260420T162532
CREATED:20250816T055849Z
LAST-MODIFIED:20250816T055849Z
UID:3926-1755954000-1755968400@olylife-japan.com
SUMMARY:大阪✨体験会＆セミナー
DESCRIPTION:大阪✨体験会＆セミナー\n【大阪セミナー＆体験会】 \n［日時］ 8/23日(土)\n13:00受付スタート 13:30開始 15:00終了予定\n15:00〜15:30 ハロートーク 3名\n15:30〜15:45 休憩\n15:45〜16:45 ビジネストレーニング \n📣17:00完全撤収 \n※定員オーバーする可能性ありますのでご了承ください。\n※基本お席取りもご遠慮ください。\n※受付スタート以前に会場でのお席取りはご遠慮ください。\n※体験を希望される方は早めにお越し下さい。先着順に整理券をお配りします。 \n［講師］\n小澤正道 \n［主催］ AOT \n［参加費］ 会員500円 新規 無料 \n［会場］ \nNLC新大阪8号館9階\n901号室 \n大阪市淀川区西中島3丁目9-13
URL:https://olylife-japan.com/all-event/%e5%a4%a7%e9%98%aa%e2%9c%a8%e4%bd%93%e9%a8%93%e4%bc%9a%ef%bc%86%e3%82%bb%e3%83%9f%e3%83%8a%e3%83%bc-4/
LOCATION:NLC新大阪8号館\, 大阪府大阪市淀川区西中島3丁目9-13　NLC新大阪8号館\, Japan
END:VEVENT
BEGIN:VEVENT
DTSTART;TZID=Asia/Tokyo:20250822T130000
DTEND;TZID=Asia/Tokyo:20250822T163000
DTSTAMP:20260420T162532
CREATED:20250718T064505Z
LAST-MODIFIED:20250718T064505Z
UID:3752-1755867600-1755880200@olylife-japan.com
SUMMARY:名古屋✨体験会・セミナー
DESCRIPTION:名古屋✨体験会・セミナー\n●8月度　名古屋セミナー＆体験会 \n【日時】8月22日（金）\n【場所】　東別院会館　210号室（椿）\n【受付】　13時〜\n【開始】　13時30分〜 \n【講師】　小澤正道\n【主催】　松本幸弘\n【会場】　東別院会館\n名古屋市中区橘2-8-45\n・駐車場有り\n052−331−9576 \n＊会場協力費: 500円(新規無料) \n＊体験希望者は当日受け付け時にお申し込み下さい。\nまた体験希望の方はお水のご用意をお願いします。 \n【アクセス】\n●JR・名鉄・地下鉄をご利用の方\n「金山駅」→地下鉄名城線「東別院駅」下車4番出口\n●「名古屋駅」→地下鉄東山線「栄駅」→地下鉄名城線「東別院駅」下車4番出口\n※地下鉄名城線「東別院駅」4番出口より、西に徒歩約5分
URL:https://olylife-japan.com/all-event/%e5%90%8d%e5%8f%a4%e5%b1%8b%e2%9c%a8%e4%bd%93%e9%a8%93%e4%bc%9a%e3%83%bb%e3%82%bb%e3%83%9f%e3%83%8a%e3%83%bc-6/
LOCATION:東別院会館\, 愛知県名古屋市中区橘２丁目８−４５\, 愛知県\, 460-0016\, Japan
END:VEVENT
BEGIN:VEVENT
DTSTART;TZID=Asia/Tokyo:20250821T130000
DTEND;TZID=Asia/Tokyo:20250821T170000
DTSTAMP:20260420T162532
CREATED:20250707T084538Z
LAST-MODIFIED:20250707T084538Z
UID:3699-1755781200-1755795600@olylife-japan.com
SUMMARY:札幌✨セミナー＆体験会
DESCRIPTION:札幌✨セミナー＆体験会\n札幌セミナー&体験会\n▪️日時 8月21日(木)\n受付）13時00分\n開演）13時30分予定\n講師：小澤正道\n主催：向山理\n会員協力費　会員500円\n新規　無料\n※ご紹介様は、体験ご希望の方のお水のご準備をお願いいたします。\n住所:\n〒003-0005 北海道札幌市白石区東札幌５条１丁目１−１\n会場：産業振興センターセミナールームA\nhttps://maps.app.goo.gl/K7gkQk5cScKxjtNF6?g_st=com.google.maps.preview.copy
URL:https://olylife-japan.com/all-event/%e6%9c%ad%e5%b9%8c%e2%9c%a8%e3%82%bb%e3%83%9f%e3%83%8a%e3%83%bc%ef%bc%86%e4%bd%93%e9%a8%93%e4%bc%9a-10/
LOCATION:札幌市産業振興センター\, 札幌市白石区東札幌5条1丁目1－1　札幌市産業振興センター\, Japan
END:VEVENT
BEGIN:VEVENT
DTSTART;TZID=Asia/Tokyo:20250819T210000
DTEND;TZID=Asia/Tokyo:20250819T223000
DTSTAMP:20260420T162532
CREATED:20250816T055721Z
LAST-MODIFIED:20250816T055721Z
UID:3924-1755637200-1755642600@olylife-japan.com
SUMMARY:Zoom【スペシャルプラン勉強会】
DESCRIPTION:Zoom【スペシャルプラン勉強会】\n8月19日(火) 21時〜\n【スペシャルプラン勉強会】\n講師　阪下博之 \n今回は初心者🔰向けの勉強会となります✨✨\n◉ ネットワーク初めての方❗️\n◉ バイナリーが初めての方❗️ \n全ての疑問が解決します‼️\n是非ご参加ください✨✨✨✨ \n※出来る限り顔出しでの参加をお願いします\n開始15分前から入室可能なので、表示名(漢字フルネーム)の変更など各自で準備を整えてください\n他の参加者のご迷惑となりますので極力時間厳守でお願いします \n \nミーティング ID: 846 5817 6788\nパスコード: 20240501
URL:https://olylife-japan.com/all-event/zoom%e3%80%90%e3%82%b9%e3%83%9a%e3%82%b7%e3%83%a3%e3%83%ab%e3%83%97%e3%83%a9%e3%83%b3%e5%8b%89%e5%bc%b7%e4%bc%9a%e3%80%91-6/
LOCATION:Zoom
END:VEVENT
BEGIN:VEVENT
DTSTART;TZID=Asia/Tokyo:20250818T210000
DTEND;TZID=Asia/Tokyo:20250818T223000
DTSTAMP:20260420T162532
CREATED:20250816T055512Z
LAST-MODIFIED:20250816T055512Z
UID:3921-1755550800-1755556200@olylife-japan.com
SUMMARY:Zoom 一般セミナー
DESCRIPTION:Zoom 一般セミナー\n8月18日(月) 21時〜\n【一般セミナー】\n講師　小澤正道 \n※出来る限り顔出しでの参加をお願いします\n開始15分前から入室可能なので、表示名(漢字フルネーム)の変更など各自で準備を整えてください\n他の参加者のご迷惑となりますので極力時間厳守でお願いします \n \nミーティング ID: 624 926 6369\nパスコード: 6369
URL:https://olylife-japan.com/all-event/zoom-%e4%b8%80%e8%88%ac%e3%82%bb%e3%83%9f%e3%83%8a%e3%83%bc-11/
LOCATION:Zoom
END:VEVENT
BEGIN:VEVENT
DTSTART;TZID=Asia/Tokyo:20250817T131000
DTEND;TZID=Asia/Tokyo:20250817T170000
DTSTAMP:20260420T162532
CREATED:20250707T084339Z
LAST-MODIFIED:20250707T084339Z
UID:3696-1755436200-1755450000@olylife-japan.com
SUMMARY:熊本✨体験会＆セミナー
DESCRIPTION:熊本✨体験会＆セミナー\n【熊本セミナー&体験会】\n8月17日(日) 受付）13時10分 開演）13時30分〜\n講師：小澤正道\n主催：AOT\n担当：松岡衣美 電話：090-7539-1676\n会員協力費　会員　500円 新規　無料\n※新規の方とご一緒に来られる方は新規の方のお水をご準備お願いします。 \n■場所\n【市民会館 シアーズホーム 夢ホール】　第5.第6会議室\n熊本県熊本市中央区桜町1番3号
URL:https://olylife-japan.com/all-event/%e7%86%8a%e6%9c%ac%e2%9c%a8%e4%bd%93%e9%a8%93%e4%bc%9a%ef%bc%86%e3%82%bb%e3%83%9f%e3%83%8a%e3%83%bc-6/
LOCATION:市民会館 シアーズホーム 夢ホール\, 熊本県熊本市中央区桜町１−３ 市民会館 シアーズホーム 夢ホール
END:VEVENT
BEGIN:VEVENT
DTSTART;TZID=Asia/Tokyo:20250816T130000
DTEND;TZID=Asia/Tokyo:20250816T170000
DTSTAMP:20260420T162532
CREATED:20250707T084209Z
LAST-MODIFIED:20250707T084209Z
UID:3694-1755349200-1755363600@olylife-japan.com
SUMMARY:福岡✨体験会＆セミナー
DESCRIPTION:福岡✨体験会＆セミナー\n【福岡セミナー&体験会】 \n▪️日時 8月16日(土) 受付）13時10分 開演）13時30分\n講師：小澤正道\n主催：AOT\n担当：松本紀子 電話：090-3412-1243\n会員協力費　会員500円 新規　無料\n※ご紹介様は、体験ご希望の方のお水のご準備をお願いいたします。 \n▪️会場\n第三博多偕成ビル４階\n〒812-0016\n福岡市博多区博多駅南1丁目3番6号
URL:https://olylife-japan.com/all-event/%e7%a6%8f%e5%b2%a1%e2%9c%a8%e4%bd%93%e9%a8%93%e4%bc%9a%ef%bc%86%e3%82%bb%e3%83%9f%e3%83%8a%e3%83%bc-6/
LOCATION:第三博多偕成ビル\, 福岡市博多区博多駅南1丁目3番6号 第三博多偕成ビル4階　第三博多偕成ビル\, Japan
END:VEVENT
BEGIN:VEVENT
DTSTART;TZID=Asia/Tokyo:20250812T131500
DTEND;TZID=Asia/Tokyo:20250812T170000
DTSTAMP:20260420T162532
CREATED:20250729T115118Z
LAST-MODIFIED:20250729T115118Z
UID:3823-1755004500-1755018000@olylife-japan.com
SUMMARY:東京✨体験会＆セミナー
DESCRIPTION:東京✨体験会＆セミナー\n東京セミナー \n▪️日時\n８月12日(火)\n受付）13時15分開場\n開演）13時30分 \n講師：小澤正道 \n主催：世良めぐみ \n担当：中村千佐江\n電話：09089620119 \n会員協力費　会員500円\n新規　無料 \n※ご紹介様は、体験ご希望の方のお水のご準備をお願いいたします。 \n▪️会場\nとしま区民センター\n7階\n〒170-0013 東京都豊島区東池袋１丁目２０−１０\nhttps://maps.app.goo.gl/xY1ehNiii8KzkjYB8?g_st=com.google.maps.preview.copy
URL:https://olylife-japan.com/all-event/%e6%9d%b1%e4%ba%ac%e2%9c%a8%e4%bd%93%e9%a8%93%e4%bc%9a%ef%bc%86%e3%82%bb%e3%83%9f%e3%83%8a%e3%83%bc-9/
LOCATION:としま区民センター\, 東京都豊島区東池袋1-20-10　としま区民センター\, Japan
END:VEVENT
BEGIN:VEVENT
DTSTART;TZID=Asia/Tokyo:20250811T123000
DTEND;TZID=Asia/Tokyo:20250811T160000
DTSTAMP:20260420T162532
CREATED:20250707T084052Z
LAST-MODIFIED:20250707T084052Z
UID:3692-1754915400-1754928000@olylife-japan.com
SUMMARY:埼玉 狭山市✨体験会＆セミナー
DESCRIPTION:埼玉 狭山市✨体験会＆セミナー\n【狭山セミナー＆体験会】 \n講師　小澤　正道 \n［日時］\n8月11日月曜日山の日 \n12:30受付スタート\n13時開始\n16時完全撤収 \n［体験コーナー］ \n13:30\n14:00\n14:30\n15:00 \n※定員オーバーする可能性ありますのでご了承ください。\n※基本お席取りもご遠慮ください。\n※受付スタート以前に会場でのお席取りはご遠慮ください。\n※体験を希望される方は早めにお越し下さい。先着順に整理券をお配りします。 \n［主催］\n磯崎　奈良　横田 \n［会場］\n狭山市産業センター\n2階 \n［参加費] \n¥500 \n［所在地］\nhttps://www.sayama-sanrou.jp/access/
URL:https://olylife-japan.com/all-event/%e5%9f%bc%e7%8e%89-%e7%8b%ad%e5%b1%b1%e5%b8%82%e2%9c%a8%e4%bd%93%e9%a8%93%e4%bc%9a%ef%bc%86%e3%82%bb%e3%83%9f%e3%83%8a%e3%83%bc/
LOCATION:狭山市産業労働センター\, 埼玉県狭山市入間川１丁目３−３　狭山市産業労働センター\, Japan
END:VEVENT
BEGIN:VEVENT
DTSTART;TZID=Asia/Tokyo:20250809T124500
DTEND;TZID=Asia/Tokyo:20250809T170000
DTSTAMP:20260420T162532
CREATED:20250707T083937Z
LAST-MODIFIED:20250707T083937Z
UID:3690-1754743500-1754758800@olylife-japan.com
SUMMARY:兵庫姫路✨体験会＆セミナー
DESCRIPTION:【兵庫姫路セミナー＆体験会】\n8月９日土曜日 \n受付）12時45分\n開演）13時30分〜\n第1部　セミナー＆無料体験会 \n第2部　ビジネストレーニング \n講師：小澤正道 \n主催：世良めぐみ \n担当：加藤裕希依\n電話：090-1905-0862 \n会員協力費　会員　500円\n新規　無料 \n体験は当日先着〇〇名様までとなりますのでご了承下さい。\n新規様のお水はご用意ください。 \n場所:兵庫県姫路市総合福祉\n会館\n5階　第1会議室 \n住所:兵庫県姫路市安田3丁目\n1番地 \n駐車場:近隣パーキング
URL:https://olylife-japan.com/all-event/%e5%85%b5%e5%ba%ab%e5%a7%ab%e8%b7%af%e2%9c%a8%e4%bd%93%e9%a8%93%e4%bc%9a%ef%bc%86%e3%82%bb%e3%83%9f%e3%83%8a%e3%83%bc-2/
LOCATION:兵庫県姫路市総合福祉会館\, 兵庫県姫路市安田3丁目1番地　兵庫県姫路市総合福祉会館
END:VEVENT
BEGIN:VEVENT
DTSTART;TZID=Asia/Tokyo:20250808T130000
DTEND;TZID=Asia/Tokyo:20250808T170000
DTSTAMP:20260420T162532
CREATED:20250718T064203Z
LAST-MODIFIED:20250718T064203Z
UID:3750-1754658000-1754672400@olylife-japan.com
SUMMARY:札幌✨セミナー＆体験会
DESCRIPTION:札幌✨セミナー＆体験会\n札幌セミナー&体験会\n▪️日時 8月8日金曜日\n受付）13時00分\n開演）13時30分予定\n講師：坂井正人\n主催：向山理\n会員協力費　会員500円\n新規　無料\n※ご紹介様は、体験ご希望の方のお水のご準備をお願いいたします。\n住所:\n〒003-0005 北海道札幌市白石区東札幌５条１丁目１−１\n会場：産業振興センターセミナールームA\nhttps://maps.app.goo.gl/K7gkQk5cScKxjtNF6?g_st=com.google.maps.preview.copy
URL:https://olylife-japan.com/all-event/%e6%9c%ad%e5%b9%8c%e2%9c%a8%e3%82%bb%e3%83%9f%e3%83%8a%e3%83%bc%ef%bc%86%e4%bd%93%e9%a8%93%e4%bc%9a-11/
LOCATION:札幌市産業振興センター\, 札幌市白石区東札幌5条1丁目1－1　札幌市産業振興センター\, Japan
END:VEVENT
BEGIN:VEVENT
DTSTART;TZID=Asia/Tokyo:20250808T100000
DTEND;TZID=Asia/Tokyo:20250808T170000
DTSTAMP:20260420T162532
CREATED:20250707T083835Z
LAST-MODIFIED:20250707T083835Z
UID:3687-1754647200-1754672400@olylife-japan.com
SUMMARY:🏆OlyLife AvengersJapan 🏆 💪1DAYトレーニング💪
DESCRIPTION:🏆OlyLife AvengersJapan 🏆 💪1DAYトレーニング💪\n🏆OlyLife AvengersJapan 🏆\n💪1DAYトレーニング💪 \n2025年8月8日(金) \n参加費\n1500円 \n定員420名 \n場所:新大阪コロナホテル\n大阪市東淀川区西淡路1-3-21\nhttps://www.osakacoronahotel.jp/access/ \n主催:AOT \n講師\n小澤　正道\n小野　裕之\n桑原　正守\n玉木　道人 \nタイムスケジュール \n10:00受付開始 \n10:30〜12:00 第一部\nスペシャル講演会‼️ \n12:00〜13:00 昼休憩 \n13:00〜14:00 第2部\nビジネストレーニング \n14:00〜15:00 第3部\n製品、PEMF、テラヘルツ\nについて \n15:00〜15:15 トイレ休憩 \n15:15〜16:30 第4部\nOlyLife新製品セミナー \nOlyLife AvengersJapan初のワンデイ、トレーニングを開催いたします🖌️ \n2025年下半期に突入しますますの目覚ましい発展を続けるOlyLifeビジネスをより円滑に成果を出していただくための研修となります🎖️ \nOlyLifeトップリーダー初め、講演料〇〇万円もする超人気スピーカーのお話をたった1500円で聞けるチャンスはここでしかありません‼️ \nまた7月に発表される新製品スペシャルセミナーを初披露致しますのでビジネス、愛用者問わず一人でも多くの方々をお誘いください‼️ \nもちろん新規様も参加可能です👍
URL:https://olylife-japan.com/all-event/%f0%9f%8f%86olylife-avengersjapan-%f0%9f%8f%86-%f0%9f%92%aa1day%e3%83%88%e3%83%ac%e3%83%bc%e3%83%8b%e3%83%b3%e3%82%b0%f0%9f%92%aa/
LOCATION:新大阪コロナホテル\, 大阪府大阪市東淀川区西淡路1丁目3番21号　新大阪コロナホテル
END:VEVENT
BEGIN:VEVENT
DTSTART;TZID=Asia/Tokyo:20250803T130000
DTEND;TZID=Asia/Tokyo:20250803T170000
DTSTAMP:20260420T162532
CREATED:20250707T083618Z
LAST-MODIFIED:20250707T083618Z
UID:3685-1754226000-1754240400@olylife-japan.com
SUMMARY:沖縄✨体験会＆セミナー
DESCRIPTION:沖縄✨体験会＆セミナー\n【沖縄セミナー＆体験会】\n8月3日(日曜日) \n受付）13時00分\n開演）13時30分〜\n第1部　セミナー＆無料体験会 \n第2部　ビジネストレーニング \n講師：小澤正道 \n主催：世良めぐみ \n担当：根間秀人\n電話：070-5412-3512 \n会員協力費　会員　500円\n新規　無料 \n体験は当日先着〇〇名様までとなりますのでご了承下さい。 \n場所\nhttps://maps.app.goo.gl/tzwC2H73TMyKDYMNA?g_st=al\n浦添市産業振興センター結の街\n3F、中研修室
URL:https://olylife-japan.com/all-event/%e6%b2%96%e7%b8%84%e2%9c%a8%e4%bd%93%e9%a8%93%e4%bc%9a%ef%bc%86%e3%82%bb%e3%83%9f%e3%83%8a%e3%83%bc-4/
LOCATION:浦添市産業振興センター 結の街\, 沖縄県浦添市勢理客4丁目13番1号 浦添市産業振興センター 結の街\, Japan
END:VEVENT
BEGIN:VEVENT
DTSTART;TZID=Asia/Tokyo:20250728T210000
DTEND;TZID=Asia/Tokyo:20250728T223000
DTSTAMP:20260420T162532
CREATED:20250707T083437Z
LAST-MODIFIED:20250707T083437Z
UID:3683-1753736400-1753741800@olylife-japan.com
SUMMARY:Zoom《会員限定》プラン勉強会
DESCRIPTION:Zoom《会員限定》プラン勉強会\n7月28日(月) 21時〜\n【プラン勉強会】\n講師　阪下博之 \n※出来る限り顔出しでの参加をお願いします\n開始15分前から入室可能なので、表示名(漢字フルネーム)の変更など各自で準備を整えてください\n他の参加者のご迷惑となりますので極力時間厳守でお願いします \n \nミーティング ID: 846 5817 6788\nパスコード: 20240501
URL:https://olylife-japan.com/all-event/zoom%e3%80%8a%e4%bc%9a%e5%93%a1%e9%99%90%e5%ae%9a%e3%80%8b%e3%83%97%e3%83%a9%e3%83%b3%e5%8b%89%e5%bc%b7%e4%bc%9a-13/
LOCATION:Zoom
END:VEVENT
BEGIN:VEVENT
DTSTART;TZID=Asia/Tokyo:20250727T130000
DTEND;TZID=Asia/Tokyo:20250727T170000
DTSTAMP:20260420T162532
CREATED:20250707T083327Z
LAST-MODIFIED:20250707T083327Z
UID:3681-1753621200-1753635600@olylife-japan.com
SUMMARY:札幌✨セミナー＆体験会
DESCRIPTION:札幌✨セミナー＆体験会\n札幌セミナー&体験会\n▪️日時 7月27日(日)\n受付）13時00分\n開演）13時30分予定\n講師：小澤正道\n主催：坂井正人\n会員協力費　会員500円\n新規　無料\n※ご紹介様は、体験ご希望の方のお水のご準備をお願いいたします。\n住所:産業振興センターセミナールームA\n〒003-0005 北海道札幌市白石区東札幌５条１丁目１−１\n会場：\nhttps://maps.app.goo.gl/K7gkQk5cScKxjtNF6?g_st=com.google.maps.preview.copy
URL:https://olylife-japan.com/all-event/%e6%9c%ad%e5%b9%8c%e2%9c%a8%e3%82%bb%e3%83%9f%e3%83%8a%e3%83%bc%ef%bc%86%e4%bd%93%e9%a8%93%e4%bc%9a-9/
LOCATION:札幌市産業振興センター\, 札幌市白石区東札幌5条1丁目1－1　札幌市産業振興センター\, Japan
END:VEVENT
BEGIN:VEVENT
DTSTART;TZID=Asia/Tokyo:20250720T210000
DTEND;TZID=Asia/Tokyo:20250720T223000
DTSTAMP:20260420T162532
CREATED:20250707T083216Z
LAST-MODIFIED:20250707T083216Z
UID:3679-1753045200-1753050600@olylife-japan.com
SUMMARY:Zoom【スペシャルプラン勉強会】
DESCRIPTION:7月20日(日) 21時〜\n【スペシャルプラン勉強会】\n講師　阪下博之 \n今回は初心者🔰向けの勉強会となります✨✨\n◉ ネットワーク初めての方❗️\n◉ バイナリーが初めての方❗️ \n全ての疑問が解決します‼️\n是非ご参加ください✨✨✨✨ \n※出来る限り顔出しでの参加をお願いします\n開始15分前から入室可能なので、表示名(漢字フルネーム)の変更など各自で準備を整えてください\n他の参加者のご迷惑となりますので極力時間厳守でお願いします \n \nミーティング ID: 846 5817 6788\nパスコード: 20240501
URL:https://olylife-japan.com/all-event/zoom%e3%80%90%e3%82%b9%e3%83%9a%e3%82%b7%e3%83%a3%e3%83%ab%e3%83%97%e3%83%a9%e3%83%b3%e5%8b%89%e5%bc%b7%e4%bc%9a%e3%80%91-5/
LOCATION:Zoom
END:VEVENT
BEGIN:VEVENT
DTSTART;TZID=Asia/Tokyo:20250720T130000
DTEND;TZID=Asia/Tokyo:20250720T170000
DTSTAMP:20260420T162532
CREATED:20250707T083043Z
LAST-MODIFIED:20250707T083043Z
UID:3677-1753016400-1753030800@olylife-japan.com
SUMMARY:兵庫✨体験会＆セミナー
DESCRIPTION:兵庫✨体験会＆セミナー\n7/20(日)\n✨兵庫セミナー体験会 \n《場所》\n✨兵庫区文化センター講習室2階 \n・12:30〜準備、設営\n・13:00 受付開始\n・13:30〜15:00 セミナー\n・15:00〜15:30 ハロートーク＆毛利さん(4スター)トーク\n・15:30〜15:45 休憩\n・15:45〜16:45 ビジトレ \n📣17:00完全撤収 \n※定員オーバーする可能性ありますのでご了承ください。 ※基本お席取りもご遠慮ください。 ※受付スタート以前に会場でのお席取りはご遠慮ください。 ※体験を希望される方は早めにお越し下さい。先着順に整理券をお配りします。 \n[ 講師 ］\n小澤正道 \n［主催］ AOT \n［参加費］ 会員500円 新規 無料
URL:https://olylife-japan.com/all-event/%e5%85%b5%e5%ba%ab%e2%9c%a8%e4%bd%93%e9%a8%93%e4%bc%9a%ef%bc%86%e3%82%bb%e3%83%9f%e3%83%8a%e3%83%bc-5/
LOCATION:兵庫区文化センター\, 神戸市兵庫区羽坂通4-1-1　兵庫区文化センター
END:VEVENT
BEGIN:VEVENT
DTSTART;TZID=Asia/Tokyo:20250719T210000
DTEND;TZID=Asia/Tokyo:20250719T223000
DTSTAMP:20260420T162532
CREATED:20250707T082917Z
LAST-MODIFIED:20250707T082917Z
UID:3675-1752958800-1752964200@olylife-japan.com
SUMMARY:Zoom 一般セミナー
DESCRIPTION:Zoom 一般セミナー\n7月19日(土) 21時〜\n【一般セミナー】\n講師　小澤正道 \n※出来る限り顔出しでの参加をお願いします\n開始15分前から入室可能なので、表示名(漢字フルネーム)の変更など各自で準備を整えてください\n他の参加者のご迷惑となりますので極力時間厳守でお願いします \n \nミーティング ID: 624 926 6369\nパスコード: 6369
URL:https://olylife-japan.com/all-event/zoom-%e4%b8%80%e8%88%ac%e3%82%bb%e3%83%9f%e3%83%8a%e3%83%bc-10/
LOCATION:Zoom
END:VEVENT
BEGIN:VEVENT
DTSTART;TZID=Asia/Tokyo:20250718T131000
DTEND;TZID=Asia/Tokyo:20250718T170000
DTSTAMP:20260420T162532
CREATED:20250707T082743Z
LAST-MODIFIED:20250707T082743Z
UID:3671-1752844200-1752858000@olylife-japan.com
SUMMARY:福岡✨体験会＆セミナー
DESCRIPTION:福岡✨体験会＆セミナー\n【福岡セミナー&体験会】 \n▪️日時 7月18日(金) 受付）13時10分 開演）13時30分\n講師：小澤正道\n主催：AOT\n担当：松本紀子 電話：090-3412-1243\n会員協力費　会員500円 新規　無料\n※ご紹介様は、体験ご希望の方のお水のご準備をお願いいたします。 \n▪️会場\n福岡商工会議所403号室\n〒812-8505 福岡県福岡市博多区博多駅前２丁目９−２８
URL:https://olylife-japan.com/all-event/%e7%a6%8f%e5%b2%a1%e2%9c%a8%e4%bd%93%e9%a8%93%e4%bc%9a%ef%bc%86%e3%82%bb%e3%83%9f%e3%83%8a%e3%83%bc-5/
LOCATION:福岡商工会議所\, 福岡県福岡市博多区博多駅前２丁目９−２８　福岡商工会議所
END:VEVENT
BEGIN:VEVENT
DTSTART;TZID=Asia/Tokyo:20250717T131000
DTEND;TZID=Asia/Tokyo:20250717T170000
DTSTAMP:20260420T162532
CREATED:20250707T082622Z
LAST-MODIFIED:20250717T042052Z
UID:3669-1752757800-1752771600@olylife-japan.com
SUMMARY:熊本✨体験会＆セミナー
DESCRIPTION:熊本✨体験会＆セミナー\n【熊本セミナー&体験会】\n7月17日(木) 受付）13時10分 開演）13時30分〜\n講師：小澤正道\n主催：AOT\n担当：松岡衣美 電話：090-7539-1676\n会員協力費　会員　500円 新規　無料\n※新規の方とご一緒に来られる方は新規の方のお水をご準備お願いします。 \n■場所\nTKP熊本カンファレンスセンター \n〒860-0806 熊本県熊本市中央区花畑町４−７ 朝日新聞第一生命ビル 9階
URL:https://olylife-japan.com/all-event/%e7%86%8a%e6%9c%ac%e2%9c%a8%e4%bd%93%e9%a8%93%e4%bc%9a%ef%bc%86%e3%82%bb%e3%83%9f%e3%83%8a%e3%83%bc-5/
LOCATION:TKP熊本カンファレンスセンター\, 熊本県熊本市中央区花畑町4-7　朝日新聞第一生命ビル　9階　TKP熊本カンファレンスセンター\, Japan
END:VEVENT
BEGIN:VEVENT
DTSTART;TZID=Asia/Tokyo:20250715T210000
DTEND;TZID=Asia/Tokyo:20250715T223000
DTSTAMP:20260420T162532
CREATED:20250707T082507Z
LAST-MODIFIED:20250707T082507Z
UID:3667-1752613200-1752618600@olylife-japan.com
SUMMARY:Zoom《会員限定》プラン勉強会
DESCRIPTION:Zoom《会員限定》プラン勉強会\n7月15日(火) 21時〜\n【プラン勉強会】\n講師　阪下博之 \n※出来る限り顔出しでの参加をお願いします\n開始15分前から入室可能なので、表示名(漢字フルネーム)の変更など各自で準備を整えてください\n他の参加者のご迷惑となりますので極力時間厳守でお願いします \n \nミーティング ID: 846 5817 6788\nパスコード: 20240501
URL:https://olylife-japan.com/all-event/zoom%e3%80%8a%e4%bc%9a%e5%93%a1%e9%99%90%e5%ae%9a%e3%80%8b%e3%83%97%e3%83%a9%e3%83%b3%e5%8b%89%e5%bc%b7%e4%bc%9a-12/
LOCATION:Zoom
END:VEVENT
BEGIN:VEVENT
DTSTART;TZID=Asia/Tokyo:20250715T131500
DTEND;TZID=Asia/Tokyo:20250715T170000
DTSTAMP:20260420T162532
CREATED:20250707T082341Z
LAST-MODIFIED:20250707T082341Z
UID:3665-1752585300-1752598800@olylife-japan.com
SUMMARY:東京✨体験会＆セミナー
DESCRIPTION:東京✨体験会＆セミナー\n東京セミナー \n▪️日時\n7月15日(火)\n受付）13時15分開場\n開演）13時30分 \n講師：坂井正人/小澤正道 \n主催：世良めぐみ \n担当：中村千佐江\n電話：09089620119 \n会員協力費　会員500円\n新規　無料 \n※ご紹介様は、体験ご希望の方のお水のご準備をお願いいたします。 \n▪️会場\nとしま区民センター\n7階\n〒170-0013 東京都豊島区東池袋１丁目２０−１０\nhttps://maps.app.goo.gl/xY1ehNiii8KzkjYB8?g_st=com.google.maps.preview.copy
URL:https://olylife-japan.com/all-event/%e6%9d%b1%e4%ba%ac%e2%9c%a8%e4%bd%93%e9%a8%93%e4%bc%9a%ef%bc%86%e3%82%bb%e3%83%9f%e3%83%8a%e3%83%bc-8/
LOCATION:としま区民センター\, 東京都豊島区東池袋1-20-10　としま区民センター\, Japan
END:VEVENT
BEGIN:VEVENT
DTSTART;TZID=Asia/Tokyo:20250714T143000
DTEND;TZID=Asia/Tokyo:20250714T180000
DTSTAMP:20260420T162532
CREATED:20250707T082220Z
LAST-MODIFIED:20250707T082220Z
UID:3663-1752503400-1752516000@olylife-japan.com
SUMMARY:埼玉 狭山市✨体験会＆セミナー＆ビジトレ
DESCRIPTION:埼玉 狭山市✨体験会＆セミナー＆ビジトレ\n【狭山セミナー＆体験会＆ビジトレ】 \n⚠️時間が変則なのでご注意下さい \n講師　小澤　正道 \n［日時］\n7月14日(月) \n14:30 受付スタート\n15:00 セミナー開始\n16:45 休憩\n17:00 ビジトレ\n17:45 終了 \n18時完全撤収 \n［体験コーナー］ \n15:00\n15:30\n16:00\n16:30 \n※定員オーバーする可能性ありますのでご了承ください。\n※基本お席取りもご遠慮ください。\n※受付スタート以前に会場でのお席取りはご遠慮ください。\n※体験を希望される方は早めにお越し下さい。先着順に整理券をお配りします。 \n［主催］\n磯崎　奈良　横田 \n［会場］\n狭山市産業センター\n2階 \n［参加費] \n¥500 \n［所在地］\nhttps://www.sayama-sanrou.jp/access/
URL:https://olylife-japan.com/all-event/%e5%9f%bc%e7%8e%89-%e7%8b%ad%e5%b1%b1%e5%b8%82%e2%9c%a8%e4%bd%93%e9%a8%93%e4%bc%9a%ef%bc%86%e3%82%bb%e3%83%9f%e3%83%8a%e3%83%bc%ef%bc%86%e3%83%93%e3%82%b8%e3%83%88%e3%83%ac/
LOCATION:狭山市産業労働センター\, 埼玉県狭山市入間川１丁目３−３　狭山市産業労働センター\, Japan
END:VEVENT
BEGIN:VEVENT
DTSTART;TZID=Asia/Tokyo:20250713T130000
DTEND;TZID=Asia/Tokyo:20250713T170000
DTSTAMP:20260420T162532
CREATED:20250707T082014Z
LAST-MODIFIED:20250707T082014Z
UID:3660-1752411600-1752426000@olylife-japan.com
SUMMARY:宇都宮✨体験会＆セミナー
DESCRIPTION:宇都宮✨体験会＆セミナー\n7月13日(日)\n宇都宮体験会セミナー \n《場所》\n宇都宮市若草1-10-6\nhttps://www.tochigi-fukushi-plaza.org/access.php \nとちぎ福祉プラザ\n3階福祉研修室A・B \n・13:00 受付開始\n・13:30〜15:00 セミナー\n・15:00〜15:30 ハロートーク\n・15:30〜15:45 休憩\n・15:45〜16:45 ビジトレ \n📣17:00完全撤収 \n※定員オーバーする可能性ありますのでご了承ください。\n※基本お席取りもご遠慮ください。\n※受付スタート以前に会場でのお席取りはご遠慮ください。\n※体験を希望される方は早めにお越し下さい。先着順に整理券をお配りします。 \n[ 講師 ］\n小澤正道 \n［主催］ AOT \n［参加費］ 会員500円\n新規 無料
URL:https://olylife-japan.com/all-event/%e5%ae%87%e9%83%bd%e5%ae%ae%e2%9c%a8%e4%bd%93%e9%a8%93%e4%bc%9a%ef%bc%86%e3%82%bb%e3%83%9f%e3%83%8a%e3%83%bc/
LOCATION:とちぎ福祉プラザ\, 栃木県宇都宮市若草1丁目10番6号 とちぎ福祉プラザ
END:VEVENT
BEGIN:VEVENT
DTSTART;TZID=Asia/Tokyo:20250712T130000
DTEND;TZID=Asia/Tokyo:20250712T170000
DTSTAMP:20260420T162532
CREATED:20250609T041922Z
LAST-MODIFIED:20250609T041923Z
UID:3530-1752325200-1752339600@olylife-japan.com
SUMMARY:仙台✨体験会＆セミナー
DESCRIPTION:仙台✨体験会＆セミナー\n【仙台セミナー＆体験会】 \n７月12日（土曜日)\n■会場：みやぎ婦人会館\n（第5・第6)会議室 \n受付) 13時〜\n開演）13時30分スタート \n講師：小澤　正道 \n主催：世良　めぐみ \n担当：半田　茂良\n電話番号　080−3319−9699 \n会員協力費　会員　500円\n新規　無料 \n無料体験は当日先着順となりますのでご了承下さい。
URL:https://olylife-japan.com/all-event/%e4%bb%99%e5%8f%b0%e2%9c%a8%e4%bd%93%e9%a8%93%e4%bc%9a%ef%bc%86%e3%82%bb%e3%83%9f%e3%83%8a%e3%83%bc-3/
LOCATION:みやぎ婦人会館\, 宮城県仙台市宮城野区榴ケ岡5番地　宮城県婦人会館\, Japan
END:VEVENT
BEGIN:VEVENT
DTSTART;TZID=Asia/Tokyo:20250711T130000
DTEND;TZID=Asia/Tokyo:20250711T153000
DTSTAMP:20260420T162532
CREATED:20250609T041815Z
LAST-MODIFIED:20250609T041815Z
UID:3528-1752238800-1752247800@olylife-japan.com
SUMMARY:名古屋✨体験会・セミナー
DESCRIPTION:●7月度　名古屋セミナー＆体験会 \n【日時】7月11日（金曜日）\n【場所】　東別院会館　201号室（蓮）\n【受付】　13時〜\n【開始】　13時30分〜15時30分迄 \n【講師】　小澤正道\n【主催】　世良めぐみ\n【担当】　赤松聡\n07023263456\n【会場】　東別院会館\n名古屋市中区橘2-8-45\n052−331−9576\n・駐車場有り\n・体験会では、常温のお水をご用意下さい。\n・今回、ビジネストレーニングはございません。
URL:https://olylife-japan.com/all-event/%e5%90%8d%e5%8f%a4%e5%b1%8b%e2%9c%a8%e4%bd%93%e9%a8%93%e4%bc%9a%e3%83%bb%e3%82%bb%e3%83%9f%e3%83%8a%e3%83%bc-5/
LOCATION:東別院会館\, 愛知県名古屋市中区橘２丁目８−４５\, 愛知県\, 460-0016\, Japan
END:VEVENT
BEGIN:VEVENT
DTSTART;TZID=Asia/Tokyo:20250710T130000
DTEND;TZID=Asia/Tokyo:20250710T170000
DTSTAMP:20260420T162532
CREATED:20250707T081842Z
LAST-MODIFIED:20250707T081842Z
UID:3657-1752152400-1752166800@olylife-japan.com
SUMMARY:大阪✨体験会＆セミナー
DESCRIPTION:大阪✨体験会＆セミナー\n【大阪セミナー＆体験会】 \n［日時］ 7/10日(木)\n13:00受付スタート 13:30開始 15:00終了予定\n15:00〜15:30 4スター毛利さんハロートーク\n15:30〜15:45休憩\n15:45〜16:45ビジネストレーニング \n※定員オーバーする可能性ありますのでご了承ください。 ※基本お席取りもご遠慮ください。 ※受付スタート以前に会場でのお席取りはご遠慮ください。 ※体験を希望される方は早めにお越し下さい。先着順に整理券をお配りします。 \n［講師］\n小澤正道 \n［主催］ AOT \n［参加費］ 会員500円 新規 無料 \n［会場］ \n丸ビル新館4階402 \n新大阪丸ビル新館
URL:https://olylife-japan.com/all-event/%e5%a4%a7%e9%98%aa%e2%9c%a8%e4%bd%93%e9%a8%93%e4%bc%9a%ef%bc%86%e3%82%bb%e3%83%9f%e3%83%8a%e3%83%bc-3/
LOCATION:新大阪丸ビル新館\, 大阪府大阪市東淀川区東中島1丁目18番27号　新大阪丸ビル新館\, Japan
END:VEVENT
BEGIN:VEVENT
DTSTART;TZID=Asia/Tokyo:20250708T210000
DTEND;TZID=Asia/Tokyo:20250708T223000
DTSTAMP:20260420T162532
CREATED:20250707T081650Z
LAST-MODIFIED:20250707T081650Z
UID:3655-1752008400-1752013800@olylife-japan.com
SUMMARY:Zoom《会員限定》A9についての勉強会
DESCRIPTION:Zoom《会員限定》A9についての勉強会\n7月8日(火) 21時〜\n【A9 勉強会】\n講師　阪下博之 \n3月のキャンペーンでA9を獲得した方、またはいつかA9を購入したいと考えている方は必見です‼️ \nスマホアプリとの接続方法についても説明しますので\n・A9を操作出来る状態でご参加下さい。\n・Zoomにはパソコンorタブレットで参加し、お手元でスマホを操作できる状態にしておいて下さい\n・Wi-Fiが繋がる状態、環境でご参加ください。\n又、お手元にご自身のWi-Fiパスワードをご準備ください \n※出来る限り顔出しでの参加をお願いします\n開始15分前から入室可能なので、表示名(漢字フルネーム)の変更など各自で準備を整えてください\n他の参加者のご迷惑となりますので極力時間厳守でお願いします \n \nミーティング ID: 846 5817 6788\nパスコード: 20240501
URL:https://olylife-japan.com/all-event/zoom%e3%80%8a%e4%bc%9a%e5%93%a1%e9%99%90%e5%ae%9a%e3%80%8ba9%e3%81%ab%e3%81%a4%e3%81%84%e3%81%a6%e3%81%ae%e5%8b%89%e5%bc%b7%e4%bc%9a/
LOCATION:Zoom
END:VEVENT
END:VCALENDAR