BEGIN:VCALENDAR
VERSION:2.0
PRODID:-//OlyLife P-90普及委員会 - ECPv6.8.1//NONSGML v1.0//EN
CALSCALE:GREGORIAN
METHOD:PUBLISH
X-ORIGINAL-URL:https://olylife-japan.com
X-WR-CALDESC:OlyLife P-90普及委員会 のイベント
REFRESH-INTERVAL;VALUE=DURATION:PT1H
X-Robots-Tag:noindex
X-PUBLISHED-TTL:PT1H
BEGIN:VTIMEZONE
TZID:Asia/Tokyo
BEGIN:STANDARD
TZOFFSETFROM:+0900
TZOFFSETTO:+0900
TZNAME:JST
DTSTART:20250101T000000
END:STANDARD
END:VTIMEZONE
BEGIN:VEVENT
DTSTART;TZID=Asia/Tokyo:20251002T131500
DTEND;TZID=Asia/Tokyo:20251002T170000
DTSTAMP:20260420T102418
CREATED:20250911T072516Z
LAST-MODIFIED:20250911T072516Z
UID:4129-1759410900-1759424400@olylife-japan.com
SUMMARY:東京✨体験会＆セミナー
DESCRIPTION:東京✨体験会＆セミナー\n東京セミナー \n▪️日時\n10月2日(木)\n受付）13時15分開場\n開演）13時30分 \n講師：小澤正道 \n主催：世良めぐみ \n担当：中村千佐江\n電話：09089620119 \n会員協力費　会員500円\n新規　無料 \n※ご紹介様は、体験ご希望の方のお水のご準備をお願いいたします。 \n▪️会場\nとしま区民センター\n7階\n〒170-0013 東京都豊島区東池袋１丁目２０−１０\nhttps://maps.app.goo.gl/xY1ehNiii8KzkjYB8?g_st=com.google.maps.preview.copy
URL:https://olylife-japan.com/all-event/%e6%9d%b1%e4%ba%ac%e2%9c%a8%e4%bd%93%e9%a8%93%e4%bc%9a%ef%bc%86%e3%82%bb%e3%83%9f%e3%83%8a%e3%83%bc-13/
LOCATION:としま区民センター\, 東京都豊島区東池袋1-20-10　としま区民センター\, Japan
END:VEVENT
BEGIN:VEVENT
DTSTART;TZID=Asia/Tokyo:20251006T130000
DTEND;TZID=Asia/Tokyo:20251006T170000
DTSTAMP:20260420T102418
CREATED:20250911T072628Z
LAST-MODIFIED:20250911T072628Z
UID:4132-1759755600-1759770000@olylife-japan.com
SUMMARY:名古屋✨体験会・セミナー
DESCRIPTION:名古屋✨体験会・セミナー\n●10月　名古屋体験会＆セミナー \n【日時】10月6日（月）\n【場所】ウインクあいち1003号室\n【受付】　13時〜\n【開始】　13時30分〜 \n【講師】　小澤正道\n【主催】　松本幸弘\n【会場住所】\n名古屋市中村区名駅4丁目4-38 \n＊会場協力費: 500円(新規無料) \n＊体験希望者は当日受け付け時にお申し込み下さい。\nまた体験希望の方はお水のご用意をお願いします。 \n【アクセス】\nhttps://www.winc-aichi.jp/access/
URL:https://olylife-japan.com/all-event/%e5%90%8d%e5%8f%a4%e5%b1%8b%e2%9c%a8%e4%bd%93%e9%a8%93%e4%bc%9a%e3%83%bb%e3%82%bb%e3%83%9f%e3%83%8a%e3%83%bc-8/
LOCATION:ウインクあいち\, 愛知県名古屋市中村区名駅4丁目4-38 ウインクあいち
END:VEVENT
BEGIN:VEVENT
DTSTART;TZID=Asia/Tokyo:20251011T130000
DTEND;TZID=Asia/Tokyo:20251011T170000
DTSTAMP:20260420T102418
CREATED:20250911T072757Z
LAST-MODIFIED:20250911T072757Z
UID:4135-1760187600-1760202000@olylife-japan.com
SUMMARY:京都✨体験会＆セミナー
DESCRIPTION:京都✨体験会＆セミナー\n【京都セミナー＆体験会】 \n［日時］ 10/11日(土)\n13:00受付スタート 13:30開始 15:00終了予定\n15:00〜15:30 ハロートーク\n15:30〜15:45休憩\n15:45〜16:45ビジネストレーニング \n※定員オーバーする可能性ありますのでご了承ください。 ※基本お席取りもご遠慮ください。 ※受付スタート以前に会場でのお席取りはご遠慮ください。 ※体験を希望される方は早めにお越し下さい。先着順に整理券をお配りします。 \n［講師］\n小澤正道 \n［主催］ AOT \n［参加費］ 会員500円 新規 無料 \n［会場］\nキャンパスプラザ京都 2階ホール (京都市大学のまち交流センター)
URL:https://olylife-japan.com/all-event/%e4%ba%ac%e9%83%bd%e2%9c%a8%e4%bd%93%e9%a8%93%e4%bc%9a%ef%bc%86%e3%82%bb%e3%83%9f%e3%83%8a%e3%83%bc-4/
LOCATION:キャンパスプラザ京都\, 京都府京都市下京区西洞院通塩小路下る東塩小路町939　キャンパスプラザ京都\, Japan
END:VEVENT
BEGIN:VEVENT
DTSTART;TZID=Asia/Tokyo:20251012T130000
DTEND;TZID=Asia/Tokyo:20251012T170000
DTSTAMP:20260420T102418
CREATED:20251010T055030Z
LAST-MODIFIED:20251010T055030Z
UID:4398-1760274000-1760288400@olylife-japan.com
SUMMARY:山口✨周南セミナー体験会＆ビジトレ
DESCRIPTION:山口✨周南セミナー体験会＆ビジトレ\n山口周南セミナー体験会＆ビジトレ \n▪️日時 10月 12日(日)\n13:00 受付開始\n13:30〜15:20 新規説明会\n15:20〜15:40 休憩\n15:40〜16:40 ビジトレ \n▪️講師：小澤正道\n▪️主催：世良めぐみ\n▪️担当：黒田純枝\n（090-5262-6782）\n▪️会員協力費\n会員500円\n新規　無料 \n※ 体験\n体験は新規の方ご優先、ご来場順で行います。\n体験希望の方はお水のご用意をお願いします。 \n▪️住所:\n〒745-0034\n山口県周南市御幸通２丁目２８\n周南市駅前図書館3階\n交流室2 \n（エレベーターおりたら右側にあるガラス張りの部屋になります） \n交通手段\n⚪︎JR山陽本線新徳山駅徒歩2分\n駐車場は会場の隣にあります。（1時間無料）
URL:https://olylife-japan.com/all-event/%e5%b1%b1%e5%8f%a3%e2%9c%a8%e5%91%a8%e5%8d%97%e3%82%bb%e3%83%9f%e3%83%8a%e3%83%bc%e4%bd%93%e9%a8%93%e4%bc%9a%ef%bc%86%e3%83%93%e3%82%b8%e3%83%88%e3%83%ac/
LOCATION:周南市立徳山駅前図書館\, 山口県周南市御幸通２丁目２８番２　周南市立徳山駅前図書館
END:VEVENT
BEGIN:VEVENT
DTSTART;TZID=Asia/Tokyo:20251013T130000
DTEND;TZID=Asia/Tokyo:20251013T170000
DTSTAMP:20260420T102418
CREATED:20250911T072930Z
LAST-MODIFIED:20250911T072930Z
UID:4138-1760360400-1760374800@olylife-japan.com
SUMMARY:札幌✨セミナー＆体験会
DESCRIPTION:札幌✨セミナー＆体験会\n札幌セミナー&体験会\n▪️日時 10月13日月\n受付）13時00分\n開演）13時30分予定\n講師：坂井正人\n主催：向山理\n会員協力費　会員500円\n新規　無料\n※ご紹介様は、体験ご希望の方のお水のご準備をお願いいたします。\n住所: 〒003-0005 北海道札幌市白石区東札幌５条１丁目１−１\n会場：産業振興センターセミナールームB\nhttps://maps.app.goo.gl/K7gkQk5cScKxjtNF6?g_st=com.google.maps.preview.copy
URL:https://olylife-japan.com/all-event/%e6%9c%ad%e5%b9%8c%e2%9c%a8%e3%82%bb%e3%83%9f%e3%83%8a%e3%83%bc%ef%bc%86%e4%bd%93%e9%a8%93%e4%bc%9a-13/
LOCATION:札幌市産業振興センター\, 札幌市白石区東札幌5条1丁目1－1　札幌市産業振興センター\, Japan
END:VEVENT
BEGIN:VEVENT
DTSTART;TZID=Asia/Tokyo:20251014T210000
DTEND;TZID=Asia/Tokyo:20251014T223000
DTSTAMP:20260420T102418
CREATED:20251010T055312Z
LAST-MODIFIED:20251010T055312Z
UID:4401-1760475600-1760481000@olylife-japan.com
SUMMARY:Zoom《会員限定》プラン勉強会
DESCRIPTION:Zoom《会員限定》プラン勉強会\n10月14日(火) 21時〜\n【プラン勉強会】\n講師　阪下博之 \n※出来る限り顔出しでの参加をお願いします\n開始15分前から入室可能なので、表示名(漢字フルネーム)の変更など各自で準備を整えてください\n他の参加者のご迷惑となりますので極力時間厳守でお願いします \n \nミーティング ID: 846 5817 6788\nパスコード: 20240501
URL:https://olylife-japan.com/all-event/zoom%e3%80%8a%e4%bc%9a%e5%93%a1%e9%99%90%e5%ae%9a%e3%80%8b%e3%83%97%e3%83%a9%e3%83%b3%e5%8b%89%e5%bc%b7%e4%bc%9a-17/
LOCATION:Zoom
END:VEVENT
BEGIN:VEVENT
DTSTART;TZID=Asia/Tokyo:20251017T131000
DTEND;TZID=Asia/Tokyo:20251017T170000
DTSTAMP:20260420T102418
CREATED:20250911T073023Z
LAST-MODIFIED:20250911T073023Z
UID:4140-1760706600-1760720400@olylife-japan.com
SUMMARY:熊本✨体験会＆セミナー
DESCRIPTION:熊本✨体験会＆セミナー\n【熊本セミナー&体験会】\n10月17日(金) 受付）13時10分 開演）13時30分〜\n講師：小澤正道\n主催：AOT\n担当：松岡衣美 電話：090-7539-1676\n会員協力費　会員　500円 新規　無料\n※新規の方とご一緒に来られる方は新規の方のお水をご準備お願いします。 \n■場所\n【市民会館 シアーズホーム 夢ホール】　第5.第6会議室\n熊本県熊本市中央区桜町1番3号
URL:https://olylife-japan.com/all-event/%e7%86%8a%e6%9c%ac%e2%9c%a8%e4%bd%93%e9%a8%93%e4%bc%9a%ef%bc%86%e3%82%bb%e3%83%9f%e3%83%8a%e3%83%bc-8/
LOCATION:市民会館 シアーズホーム 夢ホール\, 熊本県熊本市中央区桜町１−３ 市民会館 シアーズホーム 夢ホール
END:VEVENT
BEGIN:VEVENT
DTSTART;TZID=Asia/Tokyo:20251018T131000
DTEND;TZID=Asia/Tokyo:20251018T170000
DTSTAMP:20260420T102418
CREATED:20250911T073117Z
LAST-MODIFIED:20250911T073117Z
UID:4142-1760793000-1760806800@olylife-japan.com
SUMMARY:福岡✨体験会＆セミナー
DESCRIPTION:福岡✨体験会＆セミナー\n【福岡セミナー&体験会】 \n▪️日時 10月18日(土) 受付）13時10分 開演）13時30分\n講師：小澤正道\n主催：AOT\n担当：松本紀子 電話：090-3412-1243\n会員協力費　会員500円 新規　無料\n※ご紹介様は、体験ご希望の方のお水のご準備をお願いいたします。 \n▪️会場\n【福岡商工会議所 貸会議室406-407】\n福岡市博多区博多駅前２丁目９−２８
URL:https://olylife-japan.com/all-event/%e7%a6%8f%e5%b2%a1%e2%9c%a8%e4%bd%93%e9%a8%93%e4%bc%9a%ef%bc%86%e3%82%bb%e3%83%9f%e3%83%8a%e3%83%bc-8/
LOCATION:福岡商工会議所\, 福岡県福岡市博多区博多駅前２丁目９−２８　福岡商工会議所
END:VEVENT
BEGIN:VEVENT
DTSTART;TZID=Asia/Tokyo:20251019T130000
DTEND;TZID=Asia/Tokyo:20251019T170000
DTSTAMP:20260420T102418
CREATED:20251010T055441Z
LAST-MODIFIED:20251010T055441Z
UID:4403-1760878800-1760893200@olylife-japan.com
SUMMARY:大阪✨体験会＆セミナー
DESCRIPTION:大阪✨体験会＆セミナー\n【大阪セミナー＆体験会】 \n［日時］ 10/19日(日)\n13:00受付スタート 13:30開始 15:00終了予定\n15:00〜15:30 ハロートーク\n15:30〜15:45休憩\n15:45〜16:45ビジネストレーニング \n※定員オーバーする可能性ありますのでご了承ください。\n※基本お席取りもご遠慮ください。\n※受付スタート以前に会場でのお席取りはご遠慮ください。\n※体験を希望される方は早めにお越し下さい。先着順に整理券をお配りします。 \n［講師］\n小澤正道 \n［主催］ AOT \n［参加費］ 会員500円 新規 無料 \n［会場］\n大阪府大阪市淀川区宮原5丁目1-24\nNLC新御堂ビル6階
URL:https://olylife-japan.com/all-event/%e5%a4%a7%e9%98%aa%e2%9c%a8%e4%bd%93%e9%a8%93%e4%bc%9a%ef%bc%86%e3%82%bb%e3%83%9f%e3%83%8a%e3%83%bc-6/
LOCATION:NLC新御堂ビル\, 大阪府大阪市淀川区宮原5丁目1-24　NLC新御堂ビル
END:VEVENT
BEGIN:VEVENT
DTSTART;TZID=Asia/Tokyo:20251019T210000
DTEND;TZID=Asia/Tokyo:20251019T223000
DTSTAMP:20260420T102418
CREATED:20251010T055825Z
LAST-MODIFIED:20251010T055825Z
UID:4406-1760907600-1760913000@olylife-japan.com
SUMMARY:Zoom 一般セミナー
DESCRIPTION:Zoom 一般セミナー\n10月19日(日) 21時〜\n【一般セミナー】\n講師　小澤正道 \n※出来る限り顔出しでの参加をお願いします\n開始15分前から入室可能なので、表示名(漢字フルネーム)の変更など各自で準備を整えてください\n他の参加者のご迷惑となりますので極力時間厳守でお願いします \n \nミーティング ID: 624 926 6369\nパスコード: 6369
URL:https://olylife-japan.com/all-event/zoom-%e4%b8%80%e8%88%ac%e3%82%bb%e3%83%9f%e3%83%8a%e3%83%bc-13/
LOCATION:Zoom
END:VEVENT
BEGIN:VEVENT
DTSTART;TZID=Asia/Tokyo:20251020T133000
DTEND;TZID=Asia/Tokyo:20251020T170000
DTSTAMP:20260420T102418
CREATED:20250911T073223Z
LAST-MODIFIED:20250911T073223Z
UID:4144-1760967000-1760979600@olylife-japan.com
SUMMARY:兵庫姫路✨体験会＆セミナー
DESCRIPTION:兵庫姫路✨体験会＆セミナー\n【兵庫姫路セミナー＆体験会】\n10月20日(月)\n☆受付、開始時間が変更となっておりますのでご注意願います。 \n受付）13時30分\n開演）14時〜\n第1部　セミナー＆無料体験会\n第2部　ビジネストレーニング \n講師：小澤正道 \n主催：世良めぐみ \n担当：加藤裕希依\n電話：090-1905-0862 \n会員協力費　会員　500円\n新規　無料 \n体験は当日先着〇〇名様までとなりますのでご了承下さい。\n新規様のお水はご用意ください。 \n場所:兵庫県姫路市総合福祉\n会館\n5階　第1会議室 \n住所:兵庫県姫路市安田3丁目\n1番地 \n駐車場:近隣パーキング
URL:https://olylife-japan.com/all-event/%e5%85%b5%e5%ba%ab%e5%a7%ab%e8%b7%af%e2%9c%a8%e4%bd%93%e9%a8%93%e4%bc%9a%ef%bc%86%e3%82%bb%e3%83%9f%e3%83%8a%e3%83%bc-4/
LOCATION:兵庫県姫路市総合福祉会館\, 兵庫県姫路市安田3丁目1番地　兵庫県姫路市総合福祉会館
END:VEVENT
BEGIN:VEVENT
DTSTART;TZID=Asia/Tokyo:20251020T210000
DTEND;TZID=Asia/Tokyo:20251020T223000
DTSTAMP:20260420T102418
CREATED:20251010T060010Z
LAST-MODIFIED:20251010T060010Z
UID:4408-1760994000-1760999400@olylife-japan.com
SUMMARY:Zoom【スペシャルプラン勉強会】
DESCRIPTION:Zoom【スペシャルプラン勉強会】\n10月20日(月) 21時〜\n【スペシャルプラン勉強会】\n講師　阪下博之 \n今回は初心者🔰向けの勉強会となります✨✨\n◉ ネットワーク初めての方❗️\n◉ バイナリーが初めての方❗️ \n全ての疑問が解決します‼️\n是非ご参加ください✨✨✨✨ \n※出来る限り顔出しでの参加をお願いします\n開始15分前から入室可能なので、表示名(漢字フルネーム)の変更など各自で準備を整えてください\n他の参加者のご迷惑となりますので極力時間厳守でお願いします \n \n  \nミーティング ID: 846 5817 6788\nパスコード: 20240501
URL:https://olylife-japan.com/all-event/zoom%e3%80%90%e3%82%b9%e3%83%9a%e3%82%b7%e3%83%a3%e3%83%ab%e3%83%97%e3%83%a9%e3%83%b3%e5%8b%89%e5%bc%b7%e4%bc%9a%e3%80%91-8/
LOCATION:Zoom
END:VEVENT
BEGIN:VEVENT
DTSTART;TZID=Asia/Tokyo:20251021T140000
DTEND;TZID=Asia/Tokyo:20251021T170000
DTSTAMP:20260420T102418
CREATED:20251010T060142Z
LAST-MODIFIED:20251010T060142Z
UID:4410-1761055200-1761066000@olylife-japan.com
SUMMARY:宮古島初オープンセミナー
DESCRIPTION:宮古島初オープンセミナー\n【宮古島セミナー＆体験会】\n10月21日(火曜日) \n受付）14時00分\n開演）14時30分〜 \n講師：毛利誠 \n主催：世良めぐみ \n担当：毛利誠\n電話：090-2700-3332 \n会員協力費　無料\n新規　無料 \n体験は当日先着〇〇名様までとなりますのでご了承下さい。 \n場所\n宮古島市平良下里108-11\n平良港ターミナルビル\n2階　大研究室
URL:https://olylife-japan.com/all-event/%e5%ae%ae%e5%8f%a4%e5%b3%b6%e5%88%9d%e3%82%aa%e3%83%bc%e3%83%97%e3%83%b3%e3%82%bb%e3%83%9f%e3%83%8a%e3%83%bc/
LOCATION:平良港ターミナルビル\, 沖縄県宮古島市平良下里１０８−１１　平良港ターミナルビル
END:VEVENT
BEGIN:VEVENT
DTSTART;TZID=Asia/Tokyo:20251022T131500
DTEND;TZID=Asia/Tokyo:20251022T170000
DTSTAMP:20260420T102418
CREATED:20250911T073330Z
LAST-MODIFIED:20250911T073330Z
UID:4146-1761138900-1761152400@olylife-japan.com
SUMMARY:東京✨体験会＆セミナー
DESCRIPTION:東京✨体験会＆セミナー\n東京セミナー \n▪️日時\n10月22日(水)\n受付）13時15分開場\n開演）13時30分 \n講師：小澤正道 \n主催：世良めぐみ \n担当：中村千佐江\n電話：09089620119 \n会員協力費　会員500円\n新規　無料 \n※ご紹介様は、体験ご希望の方のお水のご準備をお願いいたします。 \n▪️会場\nとしま区民センター\n7階\n〒170-0013 東京都豊島区東池袋１丁目２０−１０\nhttps://maps.app.goo.gl/xY1ehNiii8KzkjYB8?g_st=com.google.maps.preview.copy
URL:https://olylife-japan.com/all-event/%e6%9d%b1%e4%ba%ac%e2%9c%a8%e4%bd%93%e9%a8%93%e4%bc%9a%ef%bc%86%e3%82%bb%e3%83%9f%e3%83%8a%e3%83%bc-14/
LOCATION:としま区民センター\, 東京都豊島区東池袋1-20-10　としま区民センター\, Japan
END:VEVENT
BEGIN:VEVENT
DTSTART;TZID=Asia/Tokyo:20251023T130000
DTEND;TZID=Asia/Tokyo:20251023T170000
DTSTAMP:20260420T102418
CREATED:20251010T060251Z
LAST-MODIFIED:20251010T060251Z
UID:4413-1761224400-1761238800@olylife-japan.com
SUMMARY:沖縄✨体験会＆セミナー
DESCRIPTION:沖縄✨体験会＆セミナー\n【沖縄セミナー＆体験会】\n10月23日(木曜日) \n受付）13時00分\n開演）13時30分〜\n第1部　セミナー＆無料体験会 \n第2部　ビジネストレーニング \n講師：小澤正道 \n主催：世良めぐみ \n担当：毛利誠\n電話：090-2700-3332 \n会員協力費　会員　500円\n新規　無料 \n体験は当日先着となりますのでご了承下さい。 \n場所\nベッセルホテルカンパーナ沖縄\n1階　会議室
URL:https://olylife-japan.com/all-event/%e6%b2%96%e7%b8%84%e2%9c%a8%e4%bd%93%e9%a8%93%e4%bc%9a%ef%bc%86%e3%82%bb%e3%83%9f%e3%83%8a%e3%83%bc-6/
LOCATION:ベッセルホテルカンパーナ沖縄\, 沖縄県中頭郡北谷町美浜９−２２　ベッセルホテルカンパーナ沖縄
END:VEVENT
BEGIN:VEVENT
DTSTART;TZID=Asia/Tokyo:20251028T130000
DTEND;TZID=Asia/Tokyo:20251028T170000
DTSTAMP:20260420T102418
CREATED:20250911T073426Z
LAST-MODIFIED:20250911T073426Z
UID:4148-1761656400-1761670800@olylife-japan.com
SUMMARY:札幌✨セミナー＆体験会
DESCRIPTION:札幌✨セミナー＆体験会\n札幌セミナー&体験会\n▪️日時 10月28日火\n受付）13時00分\n開演）13時30分予定\n講師：小澤正道\n主催：向山理\n会員協力費　会員500円\n新規　無料\n※ご紹介様は、体験ご希望の方のお水のご準備をお願いいたします。\n住所: 〒003-0005 北海道札幌市白石区東札幌５条１丁目１−１\n会場：産業振興センターセミナールームA\nhttps://maps.app.goo.gl/K7gkQk5cScKxjtNF6?g_st=com.google.maps.preview.copy
URL:https://olylife-japan.com/all-event/%e6%9c%ad%e5%b9%8c%e2%9c%a8%e3%82%bb%e3%83%9f%e3%83%8a%e3%83%bc%ef%bc%86%e4%bd%93%e9%a8%93%e4%bc%9a-14/
LOCATION:札幌市産業振興センター\, 札幌市白石区東札幌5条1丁目1－1　札幌市産業振興センター\, Japan
END:VEVENT
BEGIN:VEVENT
DTSTART;TZID=Asia/Tokyo:20251029T210000
DTEND;TZID=Asia/Tokyo:20251029T223000
DTSTAMP:20260420T102418
CREATED:20251010T060434Z
LAST-MODIFIED:20251010T060434Z
UID:4416-1761771600-1761777000@olylife-japan.com
SUMMARY:Zoom《会員限定》プラン勉強会
DESCRIPTION:Zoom《会員限定》プラン勉強会\n10月29日(水) 21時〜\n【プラン勉強会】\n講師　阪下博之 \n※出来る限り顔出しでの参加をお願いします\n開始15分前から入室可能なので、表示名(漢字フルネーム)の変更など各自で準備を整えてください\n他の参加者のご迷惑となりますので極力時間厳守でお願いします \n \nミーティング ID: 846 5817 6788\nパスコード: 20240501
URL:https://olylife-japan.com/all-event/zoom%e3%80%8a%e4%bc%9a%e5%93%a1%e9%99%90%e5%ae%9a%e3%80%8b%e3%83%97%e3%83%a9%e3%83%b3%e5%8b%89%e5%bc%b7%e4%bc%9a-18/
LOCATION:Zoom
END:VEVENT
BEGIN:VEVENT
DTSTART;TZID=Asia/Tokyo:20251102T123000
DTEND;TZID=Asia/Tokyo:20251102T160000
DTSTAMP:20260420T102418
CREATED:20251010T060542Z
LAST-MODIFIED:20251010T060542Z
UID:4418-1762086600-1762099200@olylife-japan.com
SUMMARY:埼玉 狭山市✨体験会＆セミナー
DESCRIPTION:埼玉 狭山市✨体験会＆セミナー\n【狭山セミナー＆体験会】 \n講師　小澤　正道 \n［日時］\n11月2日日曜日 \n12:30受付スタート\n13時開始\n16時完全撤収 \n［体験コーナー］ \n13:30\n14:00\n14:30\n15:00 \n※定員オーバーする可能性ありますのでご了承ください。\n※基本お席取りもご遠慮ください。\n※受付スタート以前に会場でのお席取りはご遠慮ください。\n※体験を希望される方は早めにお越し下さい。先着順に整理券をお配りします。 \n［主催］\n磯崎　奈良　横田 \n［会場］\n狭山市産業センター\n2階 \n［参加費] \n¥500 \n［所在地］\nhttps://www.sayama-sanrou.jp/access/
URL:https://olylife-japan.com/all-event/%e5%9f%bc%e7%8e%89-%e7%8b%ad%e5%b1%b1%e5%b8%82%e2%9c%a8%e4%bd%93%e9%a8%93%e4%bc%9a%ef%bc%86%e3%82%bb%e3%83%9f%e3%83%8a%e3%83%bc-3/
LOCATION:狭山市産業労働センター\, 埼玉県狭山市入間川１丁目３−３　狭山市産業労働センター\, Japan
END:VEVENT
BEGIN:VEVENT
DTSTART;TZID=Asia/Tokyo:20251103T210000
DTEND;TZID=Asia/Tokyo:20251103T223000
DTSTAMP:20260420T102418
CREATED:20251103T055054Z
LAST-MODIFIED:20251103T055054Z
UID:4524-1762203600-1762209000@olylife-japan.com
SUMMARY:Zoom 一般セミナー
DESCRIPTION:11月3日(月) 21時〜\n【一般セミナー】\n講師　小澤正道 \n※出来る限り顔出しでの参加をお願いします\n開始15分前から入室可能なので、表示名(漢字フルネーム)の変更など各自で準備を整えてください\n他の参加者のご迷惑となりますので極力時間厳守でお願いします \n \nミーティング ID: 624 926 6369\nパスコード: 6369
URL:https://olylife-japan.com/all-event/zoom-%e4%b8%80%e8%88%ac%e3%82%bb%e3%83%9f%e3%83%8a%e3%83%bc-14/
LOCATION:Zoom
END:VEVENT
BEGIN:VEVENT
DTSTART;TZID=Asia/Tokyo:20251104T133000
DTEND;TZID=Asia/Tokyo:20251104T160000
DTSTAMP:20260420T102418
CREATED:20251013T055838Z
LAST-MODIFIED:20251013T055838Z
UID:4429-1762263000-1762272000@olylife-japan.com
SUMMARY:AJ主催：大阪✨体験会＆セミナー
DESCRIPTION:AJ主催：大阪✨体験会＆セミナー\n【大阪セミナー＆体験会】 \n2025年、後期AJ主催のセミナーになります！\n受付時間が変更となっておりますので、ご注意願います。 \n［日時］\n11/4日(火) \n【講師】　小澤正道 \n13:30受付スタート\n14:00開始\n16:00終了予定 \n［体験コーナー］\n14:00\n14:30\n15:00 \n【注意】\n同フロアに他のご利用者様もいらっしゃいますので、受付時間に合わせてお越し頂けますようご協力願います。 \n※定員オーバーする可能性ありますのでご了承ください。\n※お席取りもご遠慮ください。\n※受付スタート以前に会場でのお席取りはご遠慮ください。\n※体験を希望される方は早めにお越し下さい。先着順に整理券をお配りします。 \n［主催］\nアベンジャーズJAPAN \n［会場］\nCIVI研修センター新大阪東、7階 \n［参加費］\n無料 \n［所在地］\nhttps://maps.app.goo.gl/swrkv5NJhEZJXrLu8?g_st=com.google.maps.preview.copy
URL:https://olylife-japan.com/all-event/aj%e4%b8%bb%e5%82%ac%ef%bc%9a%e5%a4%a7%e9%98%aa%e2%9c%a8%e4%bd%93%e9%a8%93%e4%bc%9a%ef%bc%86%e3%82%bb%e3%83%9f%e3%83%8a%e3%83%bc-2/
LOCATION:CIVI研修センター新大阪東\, 大阪府大阪市東淀川区東中島１丁目１９−４ LUCID SQUARE SHIN-OSAKA （ルーシッドスクエア新大阪）7階　CIVI研修センター新大阪東\, Japan
END:VEVENT
BEGIN:VEVENT
DTSTART;TZID=Asia/Tokyo:20251104T210000
DTEND;TZID=Asia/Tokyo:20251104T223000
DTSTAMP:20260420T102418
CREATED:20251103T055258Z
LAST-MODIFIED:20251103T055258Z
UID:4527-1762290000-1762295400@olylife-japan.com
SUMMARY:Zoom【スペシャルプラン勉強会】
DESCRIPTION:Zoom【スペシャルプラン勉強会】\n11月4日(火) 21時〜\n【スペシャルプラン勉強会】\n講師　阪下博之 \n今回は初心者🔰向けの勉強会となります✨✨\n◉ ネットワーク初めての方❗️\n◉ バイナリーが初めての方❗️ \n全ての疑問が解決します‼️\n是非ご参加ください✨✨✨✨ \n※出来る限り顔出しでの参加をお願いします\n開始15分前から入室可能なので、表示名(漢字フルネーム)の変更など各自で準備を整えてください\n他の参加者のご迷惑となりますので極力時間厳守でお願いします \n \nミーティング ID: 846 5817 6788\nパスコード: 20240501
URL:https://olylife-japan.com/all-event/zoom%e3%80%90%e3%82%b9%e3%83%9a%e3%82%b7%e3%83%a3%e3%83%ab%e3%83%97%e3%83%a9%e3%83%b3%e5%8b%89%e5%bc%b7%e4%bc%9a%e3%80%91-9/
LOCATION:Zoom
END:VEVENT
BEGIN:VEVENT
DTSTART;TZID=Asia/Tokyo:20251107T130000
DTEND;TZID=Asia/Tokyo:20251107T170000
DTSTAMP:20260420T102418
CREATED:20251013T055941Z
LAST-MODIFIED:20251013T055941Z
UID:4431-1762520400-1762534800@olylife-japan.com
SUMMARY:名古屋✨体験会・セミナー
DESCRIPTION:名古屋✨体験会・セミナー\n●11月　名古屋体験会＆セミナー \n【日時】11月7日（金）\n【場所】ウインクあいち1003号室\n【受付】　13時〜\n【開始】　13時30分〜 \n【講師】　小澤正道\n【主催】　松本幸弘\n【会場住所】\n名古屋市中村区名駅4丁目4-38 \n＊会場協力費: 500円(新規無料) \n＊体験希望者は当日受け付け時にお申し込み下さい。\nまた体験希望の方はお水のご用意をお願いします。 \n【アクセス】\nhttps://www.winc-aichi.jp/access/
URL:https://olylife-japan.com/all-event/%e5%90%8d%e5%8f%a4%e5%b1%8b%e2%9c%a8%e4%bd%93%e9%a8%93%e4%bc%9a%e3%83%bb%e3%82%bb%e3%83%9f%e3%83%8a%e3%83%bc-9/
LOCATION:ウインクあいち\, 愛知県名古屋市中村区名駅4丁目4-38 ウインクあいち
END:VEVENT
BEGIN:VEVENT
DTSTART;TZID=Asia/Tokyo:20251108T130000
DTEND;TZID=Asia/Tokyo:20251108T170000
DTSTAMP:20260420T102418
CREATED:20251013T060047Z
LAST-MODIFIED:20251013T060047Z
UID:4433-1762606800-1762621200@olylife-japan.com
SUMMARY:札幌✨セミナー＆体験会
DESCRIPTION:札幌✨セミナー＆体験会\n札幌セミナー&体験会\n▪️日時 11月8日土\n受付）13時00分\n開演）13時30分予定\n講師：坂井正人\n主催：向山理\n会員協力費　会員500円\n新規　無料\n※ご紹介様は、体験ご希望の方のお水のご準備をお願いいたします。\n住所: 〒003-0005 北海道札幌市白石区東札幌５条１丁目１−１\n会場：産業振興センターセミナールーム１\nhttps://maps.app.goo.gl/K7gkQk5cScKxjtNF6?g_st=com.google.maps.preview.copy
URL:https://olylife-japan.com/all-event/%e6%9c%ad%e5%b9%8c%e2%9c%a8%e3%82%bb%e3%83%9f%e3%83%8a%e3%83%bc%ef%bc%86%e4%bd%93%e9%a8%93%e4%bc%9a-15/
LOCATION:札幌市産業振興センター\, 札幌市白石区東札幌5条1丁目1－1　札幌市産業振興センター\, Japan
END:VEVENT
BEGIN:VEVENT
DTSTART;TZID=Asia/Tokyo:20251108T130000
DTEND;TZID=Asia/Tokyo:20251108T170000
DTSTAMP:20260420T102418
CREATED:20251103T055423Z
LAST-MODIFIED:20251103T055423Z
UID:4529-1762606800-1762621200@olylife-japan.com
SUMMARY:兵庫神戸✨体験会＆セミナー
DESCRIPTION:兵庫神戸✨体験会＆セミナー\n【神戸セミナー＆体験会】 \n［日時］\n11/8日(土)\n・12:30〜準備、設営\n・13:00 受付開始 \n会社、商品説明\n・13:30〜15:00 小澤正道 \n・15:00〜15:15休憩 \n世界No.1ディストリビューター　ブライアン氏によるスペシャルトレーニング\n・15:15〜16:45 \n※当日の進行状況により変更になる場合がございます。 \n📣17:00完全撤収 \n※定員オーバーする可能性ありますのでご了承ください。\n※基本お席取りもご遠慮ください。\n※受付スタート以前に会場でのお席取りはご遠慮ください。\n※体験を希望される方は早めにお越し下さい。先着順に整理券をお配りします。 \n［講師］\n小澤正道 \n［主催］\nAOT \n［参加費］\n会員500円\n新規 無料 \n［会場］\n神戸駅前研修センター\n〒650-0027 神戸市中央区中町通2-3-1 SK HOTEL 神戸駅前内\n207 号室
URL:https://olylife-japan.com/all-event/%e5%85%b5%e5%ba%ab%e7%a5%9e%e6%88%b8%e2%9c%a8%e4%bd%93%e9%a8%93%e4%bc%9a%ef%bc%86%e3%82%bb%e3%83%9f%e3%83%8a%e3%83%bc/
LOCATION:神戸駅前研修センター\, 兵庫県神戸市中央区中町通2-3-1 SK HOTEL神戸駅前内　神戸駅前研修センター
END:VEVENT
BEGIN:VEVENT
DTSTART;TZID=Asia/Tokyo:20251109T130000
DTEND;TZID=Asia/Tokyo:20251109T170000
DTSTAMP:20260420T102418
CREATED:20251103T055559Z
LAST-MODIFIED:20251103T055559Z
UID:4532-1762693200-1762707600@olylife-japan.com
SUMMARY:山口✨周南セミナー体験会＆ビジトレ
DESCRIPTION:山口✨周南セミナー体験会＆ビジトレ\n山口県周南市\n【オリーライフセミナー体験会＆ビジトレ】 \n⭐︎特別ゲスト⭐︎\nディストリビューターの世界のトップ！\nブライアンさんもお越し頂ける予定です。 \n▪️日時 11月 9日(日)\n13:00 受付開始\n13:30〜15:20\n新規説明会\n15:20〜15:40 休憩\n15:40〜16:40 ビジトレ \n▪️講師：小澤正道\n▪️主催：世良めぐみ\n▪️担当：黒田純枝\n（090-5262-6782）\n▪️会員協力費\n会員500円\n新規　無料 \n※ 体験\n体験は新規の方ご優先、ご来場順で行います。\n体験希望の方はお水のご用意をお願いします。 \nホテルサンルート徳山\n〒745-0025 山口県周南市築港町８−３３\nhttps://share.google/ydcNjz2IaOfnvJADA \n▪️交通手段\n⚪︎JR山陽本線新徳山駅裏口\n徒歩2分\n駐車場は会場の近くにあります。
URL:https://olylife-japan.com/all-event/%e5%b1%b1%e5%8f%a3%e2%9c%a8%e5%91%a8%e5%8d%97%e3%82%bb%e3%83%9f%e3%83%8a%e3%83%bc%e4%bd%93%e9%a8%93%e4%bc%9a%ef%bc%86%e3%83%93%e3%82%b8%e3%83%88%e3%83%ac-2/
LOCATION:ホテルサンルート徳山\, 山口県周南市築港町８−３３　ホテルサンルート徳山
END:VEVENT
BEGIN:VEVENT
DTSTART;TZID=Asia/Tokyo:20251110T131500
DTEND;TZID=Asia/Tokyo:20251110T170000
DTSTAMP:20260420T102418
CREATED:20251103T055733Z
LAST-MODIFIED:20251103T055733Z
UID:4535-1762780500-1762794000@olylife-japan.com
SUMMARY:東京✨体験会＆セミナー
DESCRIPTION:東京✨体験会＆セミナー\n東京セミナー\n★急遽会場変更です。 \n▪️日時\n11月10日(月)\n受付）13時15分開場\n開演）13時30分 \n講師：小澤正道 \n☀️ゲスト：ブライアン☀️ \n主催：世良めぐみ \n担当：中村千佐江\n電話：09089620119 \n会員協力費　会員500円\n新規　無料 \n※ご紹介様は、体験ご希望の方のお水のご準備をお願いいたします。 \n▪️会場\n東京会議室 田町CC（カンファレンスセンター）\n108-0023\n東京都港区芝浦３丁目６−７ 板硝子会館６F
URL:https://olylife-japan.com/all-event/%e6%9d%b1%e4%ba%ac%e2%9c%a8%e4%bd%93%e9%a8%93%e4%bc%9a%ef%bc%86%e3%82%bb%e3%83%9f%e3%83%8a%e3%83%bc-15/
LOCATION:東京会議室 田町カンファレンスセンター\, 東京都港区芝浦３丁目６−７ 板硝子会館６F　東京会議室 田町カンファレンスセンター
END:VEVENT
BEGIN:VEVENT
DTSTART;TZID=Asia/Tokyo:20251111T131000
DTEND;TZID=Asia/Tokyo:20251111T170000
DTSTAMP:20260420T102418
CREATED:20251103T055950Z
LAST-MODIFIED:20251103T055950Z
UID:4538-1762866600-1762880400@olylife-japan.com
SUMMARY:スペシャルセミナー✨ ブライアン来福‼️ 福岡✨体験会＆セミナー
DESCRIPTION:スペシャルセミナー✨ ブライアン来福‼️ 福岡✨体験会＆セミナー\n【福岡セミナー&体験会】 \n▪️日時 11月11日(火) 受付）13時10分 開演）13時30分\n講師：小澤正道\n主催：AOT\n担当：松本紀子 電話：090-3412-1243\n会員協力費　会員500円 新規　無料\n※ご紹介様は、体験ご希望の方のお水のご準備をお願いいたします。 \n▪️会場\n福岡市博多区博多駅南1丁目3番6号\n第三博多偕成ビル \n博多駅筑紫口を出て右、音羽交差点ファミリーマート左手
URL:https://olylife-japan.com/all-event/%e3%82%b9%e3%83%9a%e3%82%b7%e3%83%a3%e3%83%ab%e3%82%bb%e3%83%9f%e3%83%8a%e3%83%bc%e2%9c%a8-%e3%83%96%e3%83%a9%e3%82%a4%e3%82%a2%e3%83%b3%e6%9d%a5%e7%a6%8f%e2%80%bc%ef%b8%8f-%e7%a6%8f%e5%b2%a1%e2%9c%a8/
LOCATION:第三博多偕成ビル\, 福岡市博多区博多駅南1丁目3番6号 第三博多偕成ビル4階　第三博多偕成ビル\, Japan
END:VEVENT
BEGIN:VEVENT
DTSTART;TZID=Asia/Tokyo:20251111T210000
DTEND;TZID=Asia/Tokyo:20251111T223000
DTSTAMP:20260420T102418
CREATED:20251103T060120Z
LAST-MODIFIED:20251103T060120Z
UID:4540-1762894800-1762900200@olylife-japan.com
SUMMARY:Zoom《会員限定》プラン勉強会
DESCRIPTION:Zoom《会員限定》プラン勉強会\n11月11日(火) 21時〜\n【プラン勉強会】\n講師　阪下博之 \n※出来る限り顔出しでの参加をお願いします\n開始15分前から入室可能なので、表示名(漢字フルネーム)の変更など各自で準備を整えてください\n他の参加者のご迷惑となりますので極力時間厳守でお願いします \n \nミーティング ID: 846 5817 6788\nパスコード: 20240501
URL:https://olylife-japan.com/all-event/zoom%e3%80%8a%e4%bc%9a%e5%93%a1%e9%99%90%e5%ae%9a%e3%80%8b%e3%83%97%e3%83%a9%e3%83%b3%e5%8b%89%e5%bc%b7%e4%bc%9a-19/
LOCATION:Zoom
END:VEVENT
BEGIN:VEVENT
DTSTART;TZID=Asia/Tokyo:20251116T210000
DTEND;TZID=Asia/Tokyo:20251116T223000
DTSTAMP:20260420T102418
CREATED:20251103T060336Z
LAST-MODIFIED:20251103T060336Z
UID:4542-1763326800-1763332200@olylife-japan.com
SUMMARY:Zoom 一般セミナー
DESCRIPTION:Zoom 一般セミナー\n11月16日(日) 21時〜\n【一般セミナー】\n講師　小澤正道 \n※出来る限り顔出しでの参加をお願いします\n開始15分前から入室可能なので、表示名(漢字フルネーム)の変更など各自で準備を整えてください\n他の参加者のご迷惑となりますので極力時間厳守でお願いします \n \nミーティング ID: 624 926 6369\nパスコード: 6369 \n 
URL:https://olylife-japan.com/all-event/zoom-%e4%b8%80%e8%88%ac%e3%82%bb%e3%83%9f%e3%83%8a%e3%83%bc-15/
LOCATION:Zoom
END:VEVENT
BEGIN:VEVENT
DTSTART;TZID=Asia/Tokyo:20251117T210000
DTEND;TZID=Asia/Tokyo:20251117T223000
DTSTAMP:20260420T102418
CREATED:20251103T060512Z
LAST-MODIFIED:20251103T060512Z
UID:4544-1763413200-1763418600@olylife-japan.com
SUMMARY:Zoom【スペシャルプラン勉強会】
DESCRIPTION:Zoom【スペシャルプラン勉強会】\n11月17日(月) 21時〜\n【スペシャルプラン勉強会】\n講師　阪下博之 \n今回は初心者🔰向けの勉強会となります✨✨\n◉ ネットワーク初めての方❗️\n◉ バイナリーが初めての方❗️ \n全ての疑問が解決します‼️\n是非ご参加ください✨✨✨✨ \n※出来る限り顔出しでの参加をお願いします\n開始15分前から入室可能なので、表示名(漢字フルネーム)の変更など各自で準備を整えてください\n他の参加者のご迷惑となりますので極力時間厳守でお願いします \n \nミーティング ID: 846 5817 6788\nパスコード: 20240501
URL:https://olylife-japan.com/all-event/zoom%e3%80%90%e3%82%b9%e3%83%9a%e3%82%b7%e3%83%a3%e3%83%ab%e3%83%97%e3%83%a9%e3%83%b3%e5%8b%89%e5%bc%b7%e4%bc%9a%e3%80%91-10/
LOCATION:Zoom
END:VEVENT
END:VCALENDAR