BEGIN:VCALENDAR
VERSION:2.0
PRODID:-//OlyLife P-90普及委員会 - ECPv6.8.1//NONSGML v1.0//EN
CALSCALE:GREGORIAN
METHOD:PUBLISH
X-ORIGINAL-URL:https://olylife-japan.com
X-WR-CALDESC:OlyLife P-90普及委員会 のイベント
REFRESH-INTERVAL;VALUE=DURATION:PT1H
X-Robots-Tag:noindex
X-PUBLISHED-TTL:PT1H
BEGIN:VTIMEZONE
TZID:Asia/Tokyo
BEGIN:STANDARD
TZOFFSETFROM:+0900
TZOFFSETTO:+0900
TZNAME:JST
DTSTART:20260101T000000
END:STANDARD
END:VTIMEZONE
BEGIN:VEVENT
DTSTART;TZID=Asia/Tokyo:20260514T133000
DTEND;TZID=Asia/Tokyo:20260514T173000
DTSTAMP:20260422T152220
CREATED:20260421T075052Z
LAST-MODIFIED:20260421T081351Z
UID:5220-1778765400-1778779800@olylife-japan.com
SUMMARY:新潟 上越市✨体験会・セミナー
DESCRIPTION:【新潟 上越市　体験会＆セミナー】 \n上越体験会＆説明会となります。\n各商品の体験もできます♪ \n◉5/14日(木) \n［時間］ \n受付開始:13:30〜 \n体験・説明会\n14:00〜15:20 \n休憩 \nビジネストレーニング\n16:00〜17:30 \n※)体験は当日整理券を先着順お配り致しますのでご了承下さい。\n途中参加厳禁、入退場はご遠慮下さい \n［講師］\n森　義一 \n［会場協力費］\n※会員　500円\n※新規の方　無料 \n［会場］\n金谷地区公民館\n住所：上越市大貫2-17-50 \n主催　森　義一 \n担当　佐藤　貴紀\n08041569701
URL:https://olylife-japan.com/all-event/%e6%96%b0%e6%bd%9f-%e4%b8%8a%e8%b6%8a%e5%b8%82%e2%9c%a8%e4%bd%93%e9%a8%93%e4%bc%9a%e3%83%bb%e3%82%bb%e3%83%9f%e3%83%8a%e3%83%bc-2/
LOCATION:金谷地区公民館\, 新潟県上越市大貫２丁目１７　金谷地区公民館
END:VEVENT
BEGIN:VEVENT
DTSTART;TZID=Asia/Tokyo:20260515T130000
DTEND;TZID=Asia/Tokyo:20260515T150000
DTSTAMP:20260422T152220
CREATED:20260422T061001Z
LAST-MODIFIED:20260422T061001Z
UID:5231-1778850000-1778857200@olylife-japan.com
SUMMARY:大阪✨体験会・セミナー
DESCRIPTION:●5月\n大阪体験会＆セミナー \n【日時】\n5月15日（金） \n【場所】\nアリューションサロン\nOly Lifeの主要製品が全て体験できるサロンです✨ \n【受付】\n13時〜\n【開始】\n13時30分〜 \n【講師】\n2STAR 高田裕子 \n【主催】　AOT \n【会場費】無料\n定員30名 \n私は28年間、健康と美容のお手伝いをしながら、身体と向き合ってきました。\nだからこそ今お伝えしたい、未来の健康ケアについて\n想いを込めてお話しさせていただきます。 \n【会場住所】\n大阪府大阪市淀川区西中島5丁目7-19 第7新大阪ビル　702号室\nhttps://share.google/bRwAuuKORiuRiyMcY \n＊体験希望者は当日受け付け時にお申し込み下さい。 \nまた体験希望の方はご紹介者様がお水のご用意をお願いします。
URL:https://olylife-japan.com/all-event/%e5%a4%a7%e9%98%aa%e2%9c%a8%e4%bd%93%e9%a8%93%e4%bc%9a%e3%83%bb%e3%82%bb%e3%83%9f%e3%83%8a%e3%83%bc-9/
LOCATION:アリューションサロン\, 大阪府大阪市淀川区西中島５丁目７−１９
END:VEVENT
BEGIN:VEVENT
DTSTART;TZID=Asia/Tokyo:20260515T130000
DTEND;TZID=Asia/Tokyo:20260515T170000
DTSTAMP:20260422T152220
CREATED:20260422T061230Z
LAST-MODIFIED:20260422T061230Z
UID:5232-1778850000-1778864400@olylife-japan.com
SUMMARY:【東京ブライオン✨体験会＆セミナー】
DESCRIPTION:【東京ブライオン　体験会＆セミナー】 \n森講師、体験会＆説明会となります。\n各商品の体験もOK♪ \n森でしか話せない、聞けない、他のどんな質問にもお答えできる！\n他にないセミナーです！\n大人数が苦手な方も、ご新規様もお気軽にどうぞ♪ \n◉5/15日(金) \n［時間］ \n受付開始：13:00〜\n説明会開演：13:30〜\n◎体験会→説明会後に実施致します。 \n※)体験は当日整理券を先着順お配り致しますのでご了承下さい。\n※)時間厳守、途中入場厳禁\n※)説明会参加以外の方の体験はお断りさせて頂きます \n［講師］\n森　義一 \n［会場協力費］\n無料 \n［会場］\n赤坂ブライオン\n住所：〒1070052\n東京都港区赤坂2-8-12 デュオスカーラ赤坂101 \n主催　森　義一
URL:https://olylife-japan.com/all-event/%e3%80%90%e6%9d%b1%e4%ba%ac%e3%83%96%e3%83%a9%e3%82%a4%e3%82%aa%e3%83%b3%e2%9c%a8%e4%bd%93%e9%a8%93%e4%bc%9a%ef%bc%86%e3%82%bb%e3%83%9f%e3%83%8a%e3%83%bc%e3%80%91-2/
LOCATION:赤坂サロン「ブライオン」\, 東京都港区赤坂2-8-12 デュオスカーラ赤坂101
END:VEVENT
BEGIN:VEVENT
DTSTART;TZID=Asia/Tokyo:20260516T130000
DTEND;TZID=Asia/Tokyo:20260516T170000
DTSTAMP:20260422T152220
CREATED:20260422T061403Z
LAST-MODIFIED:20260422T061403Z
UID:5233-1778936400-1778950800@olylife-japan.com
SUMMARY:【5月度、新大阪　体験会&説明会】
DESCRIPTION:【5月度、新大阪　体験会&説明会】 \n◉5/16日(土) \n製品のご体験、盛り沢山の説明会です！\nご新規様大歓迎！ \n話題のクセになるセミナー✨\n大人数が苦手な方、平日がお仕事の方、お気軽にお越しください😊 \n［体験内容］ \nP90、G-one 、P90➕、バイタリティーワンド、シェイクンなど\n製品の体験 \n［時間］ \n◎第1部、体験会&説明会 \n・受付開始：13:00〜 \n・体験&説明会開始：\n13:30〜14:45　講師：森　義一\n14:50～15:30　講師：毛利　誠 \n※各種体験は、先着順となります。体験会は状況に応じて早めに開始する場合もあります。\n※会場の席数に限りはございますので、お早めにお越し下さい。 \n— \n◎第2部、ハロートーク大会 \n・15:40〜16:30 \n製品の体験談、ビジネス経験談など、オリーライフに関することなら何でも結構です。 \nこれまでの中で、これは聞いて！というお話をどうぞ😊\nメッセージ性の強かった(良かった)方には、素敵なプレゼントがあるかも？ \n持ち時間:10分まで/人\n人数:7名 \n当日の受付にて、エントリー下さい。 \n  \n［講師］\n森　義一\n毛利　誠 \n［会場協力費］\n会員　500円\n新規　無料 \n［会場］\nCIVI研修センター新大阪東、5階 \n［所在地］\nhttps://maps.app.goo.gl/swrkv5NJhEZJXrLu8?g_st=com.google.maps.preview.copy
URL:https://olylife-japan.com/all-event/%e3%80%905%e6%9c%88%e5%ba%a6%e3%80%81%e6%96%b0%e5%a4%a7%e9%98%aa%e3%80%80%e4%bd%93%e9%a8%93%e4%bc%9a%e8%aa%ac%e6%98%8e%e4%bc%9a%e3%80%91/
LOCATION:CIVI研修センター新大阪東\, 大阪府大阪市東淀川区東中島１丁目１９−４ LUCID SQUARE SHIN-OSAKA （ルーシッドスクエア新大阪）7階　CIVI研修センター新大阪東\, Japan
END:VEVENT
BEGIN:VEVENT
DTSTART;TZID=Asia/Tokyo:20260518T130000
DTEND;TZID=Asia/Tokyo:20260518T150000
DTSTAMP:20260422T152220
CREATED:20260422T061535Z
LAST-MODIFIED:20260422T061535Z
UID:5238-1779109200-1779116400@olylife-japan.com
SUMMARY:大阪✨体験会・セミナー
DESCRIPTION:●5月\n大阪体験会＆セミナー \n【日時】\n5月18日（月） \n【場所】\nアリューションサロン\nOly Lifeの主要製品が全て体験できるサロンです✨ \n【受付】\n13時〜\n【開始】\n13時30分〜 \n【講師】\n2STAR 高田裕子 \n【主催】　AOT \n【会場費】無料\n定員30名 \n私は28年間、健康と美容のお手伝いをしながら、身体と向き合ってきました。\nだからこそ今お伝えしたい、未来の健康ケアについて\n想いを込めてお話しさせていただきます。 \n【会場住所】\n大阪府大阪市淀川区西中島5丁目7-19 第7新大阪ビル　702号室\nhttps://share.google/bRwAuuKORiuRiyMcY \n＊体験希望者は当日受け付け時にお申し込み下さい。 \nまた体験希望の方はご紹介者様がお水のご用意をお願いします。
URL:https://olylife-japan.com/all-event/%e5%a4%a7%e9%98%aa%e2%9c%a8%e4%bd%93%e9%a8%93%e4%bc%9a%e3%83%bb%e3%82%bb%e3%83%9f%e3%83%8a%e3%83%bc-10/
LOCATION:アリューションサロン\, 大阪府大阪市淀川区西中島５丁目７−１９
END:VEVENT
BEGIN:VEVENT
DTSTART;TZID=Asia/Tokyo:20260519T130000
DTEND;TZID=Asia/Tokyo:20260519T170000
DTSTAMP:20260422T152220
CREATED:20260422T061737Z
LAST-MODIFIED:20260422T061737Z
UID:5239-1779195600-1779210000@olylife-japan.com
SUMMARY:熊本🐻セミナー＆体験会
DESCRIPTION:熊本🐻セミナー＆体験会 \n▪️日時\n5月19日(火) 受付）13時10分 開演）13時30分 \n講師：小澤正道 \n主催：AOT \n会員協力費　会員500円 新規　無料 \n※ご紹介様は、体験ご希望の方のお水のご準備をお願いいたします。 \n▪️会場 \n熊本城ホール \n熊本県熊本市中央区桜町３−４０ \n駐車場:唐島公園地下駐車が雨に濡れず便利です
URL:https://olylife-japan.com/all-event/%e7%86%8a%e6%9c%ac%f0%9f%90%bb%e3%82%bb%e3%83%9f%e3%83%8a%e3%83%bc%ef%bc%86%e4%bd%93%e9%a8%93%e4%bc%9a-2/
LOCATION:熊本城ホール\, 熊本県熊本市中央区桜町３−４０　熊本城ホール
END:VEVENT
BEGIN:VEVENT
DTSTART;TZID=Asia/Tokyo:20260520T130000
DTEND;TZID=Asia/Tokyo:20260520T150000
DTSTAMP:20260422T152220
CREATED:20260422T061857Z
LAST-MODIFIED:20260422T061857Z
UID:5240-1779282000-1779289200@olylife-japan.com
SUMMARY:大阪✨体験会・セミナー
DESCRIPTION:●５月\n大阪体験会＆セミナー \n【日時】\n5月20日（水） \n【場所】\nアリューションサロン\nOly Lifeの主要製品が全て体験できるサロンです✨ \n【受付】\n13時〜\n【開始】\n13時30分〜 \n【講師】\n2STAR 深江謙志 \n【主催】　AOT \n【会場費】無料\n定員30名 \n会社、製品について一生懸命お話しさせていただきます。 \n【会場住所】\n大阪府大阪市淀川区西中島5丁目7-19 第7新大阪ビル　702号室\nhttps://share.google/bRwAuuKORiuRiyMcY \n＊体験希望者は当日受け付け時にお申し込み下さい。 \nまた体験希望の方はご紹介者様がお水のご用意をお願いします。
URL:https://olylife-japan.com/all-event/%e5%a4%a7%e9%98%aa%e2%9c%a8%e4%bd%93%e9%a8%93%e4%bc%9a%e3%83%bb%e3%82%bb%e3%83%9f%e3%83%8a%e3%83%bc-11/
LOCATION:アリューションサロン\, 大阪府大阪市淀川区西中島５丁目７−１９
END:VEVENT
END:VCALENDAR