BEGIN:VCALENDAR
VERSION:2.0
PRODID:-//OlyLife P-90普及委員会 - ECPv6.8.1//NONSGML v1.0//EN
CALSCALE:GREGORIAN
METHOD:PUBLISH
X-ORIGINAL-URL:https://olylife-japan.com
X-WR-CALDESC:OlyLife P-90普及委員会 のイベント
REFRESH-INTERVAL;VALUE=DURATION:PT1H
X-Robots-Tag:noindex
X-PUBLISHED-TTL:PT1H
BEGIN:VTIMEZONE
TZID:Asia/Tokyo
BEGIN:STANDARD
TZOFFSETFROM:+0900
TZOFFSETTO:+0900
TZNAME:JST
DTSTART:20260101T000000
END:STANDARD
END:VTIMEZONE
BEGIN:VEVENT
DTSTART;TZID=Asia/Tokyo:20260524T133000
DTEND;TZID=Asia/Tokyo:20260524T160000
DTSTAMP:20260423T065537
CREATED:20260422T064954Z
LAST-MODIFIED:20260422T064954Z
UID:5249-1779629400-1779638400@olylife-japan.com
SUMMARY:大分✨セミナー＆体験会
DESCRIPTION:大分✨セミナー＆体験会 \n▪️日時 5月24日(日) 受付）13時00分 開演）13時30分 \n講師：毛利誠\n主催：合田修二 \n会員協力費\n会員500円 新規　無料\n※ご紹介様は、体験ご希望の方のお水のご準備をお願いいたします。 \n▪️会場 J:COM ホルトホール大分 405会議室（4階）\n大分県大分市金池南1丁目5-1
URL:https://olylife-japan.com/all-event/%e5%a4%a7%e5%88%86%e2%9c%a8%e3%82%bb%e3%83%9f%e3%83%8a%e3%83%bc%ef%bc%86%e4%bd%93%e9%a8%93%e4%bc%9a-2/
LOCATION:J:COM ホルトホール大分\, 大分県大分市金池南１丁目５−１ J:COM ホルトホール大分
END:VEVENT
BEGIN:VEVENT
DTSTART;TZID=Asia/Tokyo:20260525T130000
DTEND;TZID=Asia/Tokyo:20260525T150000
DTSTAMP:20260423T065537
CREATED:20260422T065046Z
LAST-MODIFIED:20260422T065046Z
UID:5250-1779714000-1779721200@olylife-japan.com
SUMMARY:大阪✨体験会・セミナー
DESCRIPTION:●5月\n大阪体験会＆セミナー \n【日時】\n5月25日（月） \n【場所】\nアリューションサロン\nOly Lifeの主要製品が全て体験できるサロンです✨ \n【受付】\n13時〜\n【開始】\n13時30分〜 \n【講師】\n2STAR 高田裕子 \n【主催】　AOT \n【会場費】無料\n定員30名 \n私は28年間、健康と美容のお手伝いをしながら、身体と向き合ってきました。\nだからこそ今お伝えしたい、未来の健康ケアについて\n想いを込めてお話しさせていただきます。 \n【会場住所】\n大阪府大阪市淀川区西中島5丁目7-19 第7新大阪ビル　702号室\nhttps://share.google/bRwAuuKORiuRiyMcY \n＊体験希望者は当日受け付け時にお申し込み下さい。 \nまた体験希望の方はご紹介者様がお水のご用意をお願いします。
URL:https://olylife-japan.com/all-event/%e5%a4%a7%e9%98%aa%e2%9c%a8%e4%bd%93%e9%a8%93%e4%bc%9a%e3%83%bb%e3%82%bb%e3%83%9f%e3%83%8a%e3%83%bc-12/
LOCATION:アリューションサロン\, 大阪府大阪市淀川区西中島５丁目７−１９
END:VEVENT
BEGIN:VEVENT
DTSTART;TZID=Asia/Tokyo:20260525T130000
DTEND;TZID=Asia/Tokyo:20260525T170000
DTSTAMP:20260423T065537
CREATED:20260422T065226Z
LAST-MODIFIED:20260422T065226Z
UID:5251-1779714000-1779728400@olylife-japan.com
SUMMARY:【東京ブライオン✨体験会＆セミナー】
DESCRIPTION:【東京ブライオン　体験会＆セミナー】 \n本間隆一、講師！\n体験会＆説明会となります。\n各商品の体験もOK♪ \n大人数が苦手な方も、ご新規様もお気軽にどうぞ♪ \n◉5/25日(月) \n［時間］ \n受付開始：13:00〜\n説明会開演：13:30〜\n◎体験会→説明会後に実施致します。 \n※)体験は当日整理券を先着順お配り致しますのでご了承下さい。\n※)時間厳守、途中入場厳禁\n※)説明会参加以外の方の体験はお断りさせて頂きます \n［講師］\n本間　隆一 \n［会場協力費］\n無料 \n［会場］\n赤坂ブライオン\n住所：〒1070052\n東京都港区赤坂2-8-12 デュオスカーラ赤坂101 \n主催　森　義一
URL:https://olylife-japan.com/all-event/%e3%80%90%e6%9d%b1%e4%ba%ac%e3%83%96%e3%83%a9%e3%82%a4%e3%82%aa%e3%83%b3%e2%9c%a8%e4%bd%93%e9%a8%93%e4%bc%9a%ef%bc%86%e3%82%bb%e3%83%9f%e3%83%8a%e3%83%bc%e3%80%91-3/
LOCATION:赤坂サロン「ブライオン」\, 東京都港区赤坂2-8-12 デュオスカーラ赤坂101
END:VEVENT
BEGIN:VEVENT
DTSTART;TZID=Asia/Tokyo:20260527T130000
DTEND;TZID=Asia/Tokyo:20260527T163000
DTSTAMP:20260423T065537
CREATED:20260422T070534Z
LAST-MODIFIED:20260422T070534Z
UID:5275-1779886800-1779899400@olylife-japan.com
SUMMARY:宮城 仙台✨セミナー＆体験会
DESCRIPTION:宮城 仙台✨セミナー＆体験会 \n▪️日時 5月27日(水) 受付）13時00分 開演）13時30分 \n講師：毛利誠\n主催：半田茂良 \n会員協力費\n会員500円 新規　無料\n※ご紹介様は、体験ご希望の方のお水のご準備をお願いいたします。 \n▪️会場 宮城県婦人会館 第2研究室\n宮城県仙台市宮城野区榴ケ岡５
URL:https://olylife-japan.com/all-event/%e5%ae%ae%e5%9f%8e-%e4%bb%99%e5%8f%b0%e2%9c%a8%e3%82%bb%e3%83%9f%e3%83%8a%e3%83%bc%ef%bc%86%e4%bd%93%e9%a8%93%e4%bc%9a-2/
LOCATION:みやぎ婦人会館\, 宮城県仙台市宮城野区榴ケ岡5番地　宮城県婦人会館\, Japan
END:VEVENT
BEGIN:VEVENT
DTSTART;TZID=Asia/Tokyo:20260529T130000
DTEND;TZID=Asia/Tokyo:20260529T150000
DTSTAMP:20260423T065537
CREATED:20260422T065453Z
LAST-MODIFIED:20260422T065453Z
UID:5253-1780059600-1780066800@olylife-japan.com
SUMMARY:大阪✨体験会・セミナー
DESCRIPTION:●５月\n大阪体験会＆セミナー \n【日時】\n5月29日（金） \n【場所】\nアリューションサロン\nOly Lifeの主要製品が全て体験できるサロンです✨ \n【受付】\n13時〜\n【開始】\n13時30分〜 \n【講師】\n2STAR 深江謙志 \n【主催】　AOT \n【会場費】無料\n定員30名 \n会社、製品について一生懸命お話しさせていただきます。 \n【会場住所】\n大阪府大阪市淀川区西中島5丁目7-19 第7新大阪ビル　702号室\nhttps://share.google/bRwAuuKORiuRiyMcY \n＊体験希望者は当日受け付け時にお申し込み下さい。 \nまた体験希望の方はご紹介者様がお水のご用意をお願いします。
URL:https://olylife-japan.com/all-event/%e5%a4%a7%e9%98%aa%e2%9c%a8%e4%bd%93%e9%a8%93%e4%bc%9a%e3%83%bb%e3%82%bb%e3%83%9f%e3%83%8a%e3%83%bc-13/
LOCATION:アリューションサロン\, 大阪府大阪市淀川区西中島５丁目７−１９
END:VEVENT
BEGIN:VEVENT
DTSTART;TZID=Asia/Tokyo:20260530T130000
DTEND;TZID=Asia/Tokyo:20260530T170000
DTSTAMP:20260423T065537
CREATED:20260422T065550Z
LAST-MODIFIED:20260422T065550Z
UID:5254-1780146000-1780160400@olylife-japan.com
SUMMARY:札幌✨セミナー＆体験会
DESCRIPTION:札幌✨セミナー＆体験会 \n▪️日時 5月30日土曜日\n受付）13時00分\n開演）13時30分予定 \n講師：小澤正道 \n主催：向山理 \n会員協力費　会員500円 新規　無料 \n※ご紹介様は、体験ご希望の方のお水のご準備をお願いいたします。 \n住所: 〒003-0005 北海道札幌市白石区東札幌５条１丁目１−１\n会場：産業振興センターセミナールーム１
URL:https://olylife-japan.com/all-event/%e6%9c%ad%e5%b9%8c%e2%9c%a8%e3%82%bb%e3%83%9f%e3%83%8a%e3%83%bc%ef%bc%86%e4%bd%93%e9%a8%93%e4%bc%9a-27/
LOCATION:札幌市産業振興センター\, 札幌市白石区東札幌5条1丁目1－1　札幌市産業振興センター\, Japan
END:VEVENT
END:VCALENDAR