BEGIN:VCALENDAR
VERSION:2.0
PRODID:-//OlyLife P-90普及委員会 - ECPv6.8.1//NONSGML v1.0//EN
CALSCALE:GREGORIAN
METHOD:PUBLISH
X-WR-CALNAME:OlyLife P-90普及委員会
X-ORIGINAL-URL:https://olylife-japan.com
X-WR-CALDESC:OlyLife P-90普及委員会 のイベント
REFRESH-INTERVAL;VALUE=DURATION:PT1H
X-Robots-Tag:noindex
X-PUBLISHED-TTL:PT1H
BEGIN:VTIMEZONE
TZID:Asia/Tokyo
BEGIN:STANDARD
TZOFFSETFROM:+0900
TZOFFSETTO:+0900
TZNAME:JST
DTSTART:20240101T000000
END:STANDARD
END:VTIMEZONE
BEGIN:VEVENT
DTSTART;TZID=Asia/Tokyo:20250222T130000
DTEND;TZID=Asia/Tokyo:20250222T170000
DTSTAMP:20260421T011744
CREATED:20250122T112000Z
LAST-MODIFIED:20250129T083410Z
UID:2099-1740229200-1740243600@olylife-japan.com
SUMMARY:熊本✨セミナー＆体験会
DESCRIPTION:熊本✨セミナー＆体験会\n【熊本セミナー&体験会】 \n2月22日(土)\n受付）13時10分\n開演）13時30分〜 \n講師：小澤正道 \n主催：世良めぐみ \n担当：松岡衣美\n電話：090-7539-1676 \n会員協力費　会員　500円\n新規　無料 \n※新規の方とご一緒に来られる方は新規の方のお水をご準備お願いします。 \n■場所\nユースピア熊本\n201会議室 \n熊本市中央区水前寺3丁目17-15
URL:https://olylife-japan.com/all-event/%e7%86%8a%e6%9c%ac%e2%9c%a8%e3%82%bb%e3%83%9f%e3%83%8a%e3%83%bc%ef%bc%86%e4%bd%93%e9%a8%93%e4%bc%9a-3/
LOCATION:ユースピア熊本\, 熊本県熊本市中央区水前寺3-17-15　ユースピア熊本\, Japan
END:VEVENT
BEGIN:VEVENT
DTSTART;TZID=Asia/Tokyo:20250221T210000
DTEND;TZID=Asia/Tokyo:20250221T223000
DTSTAMP:20260421T011744
CREATED:20250205T112756Z
LAST-MODIFIED:20250205T112756Z
UID:2188-1740171600-1740177000@olylife-japan.com
SUMMARY:Zoom 一般セミナー
DESCRIPTION:Zoom 一般セミナー\n【zoomセミナー】 \n2月21日（金）21時〜\n一般セミナー\n講師　小澤正道\n定員　300名 \n※出来る限り顔出しでの参加をお願いします。\n開始30分前から入室可能なので、表示名(漢字フルネーム)の変更など各自で準備を整えてください。 \n \nミーティング ID: 624 926 6369\nパスコード: 6369 \n 
URL:https://olylife-japan.com/all-event/zoom-%e4%b8%80%e8%88%ac%e3%82%bb%e3%83%9f%e3%83%8a%e3%83%bc-2/
END:VEVENT
BEGIN:VEVENT
DTSTART;TZID=Asia/Tokyo:20250220T130000
DTEND;TZID=Asia/Tokyo:20250220T170000
DTSTAMP:20260421T011744
CREATED:20250205T110710Z
LAST-MODIFIED:20250205T110710Z
UID:2177-1740056400-1740070800@olylife-japan.com
SUMMARY:兵庫✨体験会＆セミナー
DESCRIPTION:兵庫✨体験会＆セミナー\n【兵庫セミナー体験会】\n◎日時2月20日木曜日\n受付）13時00分\n開演）13時30〜 \n講師：小澤正道 \n主催：中村グループ \n担当：高田裕子 \n◎会員協力費\n会員500円\nご新規様　無料！ \n※ 体験\n体験は新規の方ご優先、ご来場順で行います。。 \n◎会場\n尼崎中小企業センター\n402\n◎所在地\n660-0881\n兵庫県尼崎市昭和通り2丁目6-66 \n◎最寄駅\n阪神尼崎駅徒歩5分\nhttps://g.co/kgs/YThmFvR
URL:https://olylife-japan.com/all-event/%e5%85%b5%e5%ba%ab%e2%9c%a8%e4%bd%93%e9%a8%93%e4%bc%9a%ef%bc%86%e3%82%bb%e3%83%9f%e3%83%8a%e3%83%bc/
LOCATION:尼崎中小企業センター\, 兵庫県尼崎市昭和通り2丁目6-66　尼崎中小企業センター\, Japan
END:VEVENT
BEGIN:VEVENT
DTSTART;TZID=Asia/Tokyo:20250219T130000
DTEND;TZID=Asia/Tokyo:20250219T170000
DTSTAMP:20260421T011744
CREATED:20250129T083840Z
LAST-MODIFIED:20250129T083840Z
UID:2144-1739970000-1739984400@olylife-japan.com
SUMMARY:名古屋✨体験会・セミナー
DESCRIPTION:名古屋✨体験会・セミナー\n【2月度名古屋体験会&セミナー】 \n2月19日（水曜日）\n●（受付）13時00分\n（開演）13時30分〜15時30分 \n●ビジネストレーニング\n16時〜 \n講師：小澤正道 \n主催：世良めぐみ\n担当：赤松聡\n電話：090-8180−2365 \n会員協力費　会員　500円\n新規　無料 \n■場所　東別院会館\n201号室\n名古屋市中区橘2-8-45\n0523319576\n駅からのアクセスはこちら\n地下鉄「東別院駅」4番出口より西へ徒歩3分 \n【注意事項】\n．ビジネストレーニング中は、体験会しませんので、体験希望の方はお早めにお越し下さい。\n．体験される方は常温のお水をこ用意下さい。
URL:https://olylife-japan.com/all-event/%e5%90%8d%e5%8f%a4%e5%b1%8b%e2%9c%a8%e4%bd%93%e9%a8%93%e4%bc%9a%e3%83%bb%e3%82%bb%e3%83%9f%e3%83%8a%e3%83%bc/
LOCATION:東別院会館\, 愛知県名古屋市中区橘２丁目８−４５\, 愛知県\, 460-0016\, Japan
END:VEVENT
BEGIN:VEVENT
DTSTART;TZID=Asia/Tokyo:20250218T131500
DTEND;TZID=Asia/Tokyo:20250218T170000
DTSTAMP:20260421T011744
CREATED:20250122T111133Z
LAST-MODIFIED:20250122T111606Z
UID:2095-1739884500-1739898000@olylife-japan.com
SUMMARY:東京✨セミナー・体験会
DESCRIPTION:東京✨セミナー・体験会\n東京セミナー\n◎日時2月18日(火)\n受付）13時15分\n開演）13時30〜 \n講師： 小澤正道 \n主催：世良めぐみ \n担当：中村 千佐江\n電話：090-8962-0119 \n◎会員協力費\n会員500円\nご新規様　無料！ \n※ 体験\n体験は新規の方ご優先、ご来場順で行います。 \n◎会場\nとしま区民センター\n701〜703室 \n住所\n住所: 〒170-0013\n豊島区東池袋1-20-10 \n交通手段\n⚪︎JR池袋駅東口徒歩7分
URL:https://olylife-japan.com/all-event/%e6%9d%b1%e4%ba%ac%e2%9c%a8%e3%82%bb%e3%83%9f%e3%83%8a%e3%83%bc%e3%83%bb%e4%bd%93%e9%a8%93%e4%bc%9a-4/
LOCATION:としま区民センター\, 東京都豊島区東池袋1-20-10　としま区民センター\, Japan
END:VEVENT
BEGIN:VEVENT
DTSTART;TZID=Asia/Tokyo:20250216T130000
DTEND;TZID=Asia/Tokyo:20250216T170000
DTSTAMP:20260421T011744
CREATED:20250122T110933Z
LAST-MODIFIED:20250122T110933Z
UID:2092-1739710800-1739725200@olylife-japan.com
SUMMARY:高知✨セミナー・体験会
DESCRIPTION:高知✨セミナー・体験会\n【 高知セミナー＆体験会】 \n２月16日(日)\n13:00 受付\n13:30 セミナー開始 \n講師 : 小澤正道 \n■担当/お問合せ\n種田りつ子 090 5910 7092\n天野昌枝 090 7149 8783 \n■会場協力費\n会員 500円\n新規 無料 \n■会場\nホテル セリーズ\n３階 マリンホール \n高知県高知市高須砂地155
URL:https://olylife-japan.com/all-event/%e9%ab%98%e7%9f%a5%e2%9c%a8%e3%82%bb%e3%83%9f%e3%83%8a%e3%83%bc%e3%83%bb%e4%bd%93%e9%a8%93%e4%bc%9a/
LOCATION:ホテルCHRES(セリーズ)\, 高知県高知市高須砂地155番地　ホテルCHRES\, Japan
END:VEVENT
BEGIN:VEVENT
DTSTART;TZID=Asia/Tokyo:20250211T130000
DTEND;TZID=Asia/Tokyo:20250211T170000
DTSTAMP:20260421T011744
CREATED:20250122T110714Z
LAST-MODIFIED:20250122T110714Z
UID:2089-1739278800-1739293200@olylife-japan.com
SUMMARY:沖縄✨セミナー＆体験会
DESCRIPTION:沖縄✨セミナー＆体験会\n【沖縄セミナー＆体験会】\n2月11日(火曜日) \n受付）13時00分\n開演）13時30分〜 \n講師：小澤正道 \n主催：世良めぐみ \n担当：根間秀人\n電話：070-5412-3512 \n会員協力費　会員　500円\n新規　無料 \n体験は当日先着〇〇名様までとなりますのでご了承下さい。 \n場所\n沖縄市産業交流センター(大研修室)\n〒904-2172\n沖縄市泡瀬1丁目11番25番\n098-929-1166
URL:https://olylife-japan.com/all-event/%e6%b2%96%e7%b8%84%e2%9c%a8%e3%82%bb%e3%83%9f%e3%83%8a%e3%83%bc%ef%bc%86%e4%bd%93%e9%a8%93%e4%bc%9a-2/
LOCATION:沖縄市産業交流センター\, 沖縄県沖縄市泡瀬1丁目11番25番　沖縄市産業交流センター\, Japan
END:VEVENT
BEGIN:VEVENT
DTSTART;TZID=Asia/Tokyo:20250210T130000
DTEND;TZID=Asia/Tokyo:20250210T170000
DTSTAMP:20260421T011744
CREATED:20250122T110409Z
LAST-MODIFIED:20250122T110409Z
UID:2085-1739192400-1739206800@olylife-japan.com
SUMMARY:大阪✨セミナー＆体験会
DESCRIPTION:大阪✨セミナー＆体験会\n【大阪セミナー＆体験会】 \n［日時］ 2/10日(月)\n13:00受付スタート 13:30開始 15:30終了予定 \n15:45ビジネストレーニング\n16:45終了予定 \n※定員オーバーする可能性ありますのでご了承ください。\n※基本お席取りもご遠慮ください。\n※受付スタート以前に会場でのお席取りはご遠慮ください。\n※体験を希望される方は早めにお越し下さい。先着順に整理券をお配りします。 \n［講師］\n小澤正道 \n［主催］ AST \n［参加費］ 会員500円 新規 無料 \n［会場］ \nNLC新大阪8号館9階\n901号室 \n大阪市淀川区西中島3丁目9-13
URL:https://olylife-japan.com/all-event/%e5%a4%a7%e9%98%aa%e2%9c%a8%e3%82%bb%e3%83%9f%e3%83%8a%e3%83%bc%ef%bc%86%e4%bd%93%e9%a8%93%e4%bc%9a-2/
LOCATION:NLC新大阪8号館\, 大阪府大阪市淀川区西中島3丁目9-13　NLC新大阪8号館\, Japan
END:VEVENT
BEGIN:VEVENT
DTSTART;TZID=Asia/Tokyo:20250209T130000
DTEND;TZID=Asia/Tokyo:20250209T170000
DTSTAMP:20260421T011744
CREATED:20241120T082919Z
LAST-MODIFIED:20241120T082919Z
UID:1840-1739106000-1739120400@olylife-japan.com
SUMMARY:札幌✨セミナー＆体験会
DESCRIPTION:札幌🌟セミナー体験会 \n【札幌セミナー体験会】\n◎日時2月9日 日曜日\n受付）13時00分\n開演）13時30〜 \n講師:小澤正道 \n主催:坂井正人\n番号:08065620545 \n参加費:新規無料🆓\n既存会員:資料代500円 \n[備考]\n体験の際の飲み水は各自、ご持参をお願いいたします。 \n[会場]\n札幌エルプラザ\n札幌市男女共同参画センター貸館\n4階　大研修室 \n札幌駅　徒歩3分
URL:https://olylife-japan.com/all-event/%e6%9c%ad%e5%b9%8c%e2%9c%a8%e3%82%bb%e3%83%9f%e3%83%8a%e3%83%bc%ef%bc%86%e4%bd%93%e9%a8%93%e4%bc%9a-3/
LOCATION:札幌市男女共同参画センター\, 札幌市北区北8条西3丁目　札幌市男女共同参画センター
END:VEVENT
BEGIN:VEVENT
DTSTART;TZID=Asia/Tokyo:20250207T210000
DTEND;TZID=Asia/Tokyo:20250207T223000
DTSTAMP:20260421T011744
CREATED:20250205T112226Z
LAST-MODIFIED:20250205T112415Z
UID:2184-1738962000-1738967400@olylife-japan.com
SUMMARY:Zoom 一般セミナー
DESCRIPTION:Zoom 一般セミナー\n【zoomセミナー】 \n２月7日(金) 21時〜\n一般セミナー\n講師　小澤正道\n定員　300名 \n※出来る限り顔出しでの参加をお願いします。\n開始30分前から入室可能なので、表示名(漢字フルネーム)の変更など各自で準備を整えてください。 \n \nミーティング ID: 624 926 6369\nパスコード: 6369
URL:https://olylife-japan.com/all-event/zoom-%e4%b8%80%e8%88%ac%e3%82%bb%e3%83%9f%e3%83%8a%e3%83%bc/
LOCATION:Zoom
END:VEVENT
BEGIN:VEVENT
DTSTART;TZID=Asia/Tokyo:20250203T130000
DTEND;TZID=Asia/Tokyo:20250203T170000
DTSTAMP:20260421T011744
CREATED:20250108T083336Z
LAST-MODIFIED:20250108T083336Z
UID:2024-1738587600-1738602000@olylife-japan.com
SUMMARY:東京✨セミナー・体験会
DESCRIPTION:東京✨セミナー・体験会\n東京セミナー\n◎日時2月3日(月)\n受付）13時15分\n開演）13時30〜 \n講師： 小澤正道 \n主催：世良めぐみ \n担当：中村 千佐江\n電話：090-8962-0119 \n◎会員協力費\n会員500円\nご新規様　無料！ \n※ 体験\n体験は新規の方ご優先、ご来場順で行います。 \n◎会場\nとしま区民センター\n701〜703室 \n住所\n住所: 〒170-0013\n豊島区東池袋1-20-10 \n交通手段\n⚪︎JR池袋駅東口徒歩7分
URL:https://olylife-japan.com/all-event/%e6%9d%b1%e4%ba%ac%e2%9c%a8%e3%82%bb%e3%83%9f%e3%83%8a%e3%83%bc%e3%83%bb%e4%bd%93%e9%a8%93%e4%bc%9a-3/
LOCATION:としま区民センター\, 東京都豊島区東池袋1-20-10　としま区民センター\, Japan
END:VEVENT
BEGIN:VEVENT
DTSTART;TZID=Asia/Tokyo:20250202T123000
DTEND;TZID=Asia/Tokyo:20250202T170000
DTSTAMP:20260421T011744
CREATED:20250122T105658Z
LAST-MODIFIED:20250122T105658Z
UID:2082-1738499400-1738515600@olylife-japan.com
SUMMARY:神奈川✨セミナー・体験会
DESCRIPTION:神奈川✨セミナー・体験会\n【2025年2月度相模原市体験会&セミナー】 \n2月2日（日曜日）\n●（受付）12時30分〜\n（開演）13時00分〜15時00分 \n●特別ビジネスレクチャー\n15時〜15時30分 \n講師：小澤正道 \n主催：世良めぐみ\n担当：佐藤照海\n電話：090-8558-5822 \n会員協力費　会員　500円\n新規　無料 \n■場所\n〒252-0236\n神奈川県相模原市中央区富士見6-6-13\n相模原市教育会館　第一会議室 \n駅からのアクセスはこちら\nJR横浜線　相模原駅　南口　徒歩20分\nバス　5分\n上溝駅行き(市民会館前経由)\n市民会館前で下車　徒歩2分 \n【注意事項】\n・体験希望の方は事前に担当者に連絡下さい。\n・体験される方は常温のお水をこ用意下さい。
URL:https://olylife-japan.com/all-event/%e7%a5%9e%e5%a5%88%e5%b7%9d%e2%9c%a8%e3%82%bb%e3%83%9f%e3%83%8a%e3%83%bc%e3%83%bb%e4%bd%93%e9%a8%93%e4%bc%9a/
LOCATION:相模原市教育会館\, 神奈川県相模原市中央区富士見6-6-13 相模原市教育会館\, Japan
END:VEVENT
BEGIN:VEVENT
DTSTART;TZID=Asia/Tokyo:20250125T130000
DTEND;TZID=Asia/Tokyo:20250125T170000
DTSTAMP:20260421T011744
CREATED:20250108T083153Z
LAST-MODIFIED:20250108T083153Z
UID:2021-1737810000-1737824400@olylife-japan.com
SUMMARY:福岡✨セミナー＆体験会
DESCRIPTION:福岡✨セミナー＆体験会\n【福岡セミナー&体験会】 \n▪️日時\n1月25日(土)\n受付）13時00分\n開演）13時30分 \n講師：小澤正道 \n主催：世良めぐみ \n担当：松本紀子\n電話：090-3412-1243 \n会員協力費　会員500円\n新規　無料 \n※ご紹介様は、体験ご希望の方のお水のご準備をお願いいたします。 \n▪️会場\n第五博多偕成ビル9階\n第2・第3会議室 \n〒812-0013 福岡県福岡市博多区博多駅東１丁目１８−２５
URL:https://olylife-japan.com/all-event/%e7%a6%8f%e5%b2%a1%e2%9c%a8%e3%82%bb%e3%83%9f%e3%83%8a%e3%83%bc%ef%bc%86%e4%bd%93%e9%a8%93%e4%bc%9a-2/
LOCATION:第五博多偕成ビル\, 福岡市博多区博多駅東1丁目18番25号 第五博多偕成ビル10階
END:VEVENT
BEGIN:VEVENT
DTSTART;TZID=Asia/Tokyo:20250123T130000
DTEND;TZID=Asia/Tokyo:20250123T170000
DTSTAMP:20260421T011744
CREATED:20250108T082957Z
LAST-MODIFIED:20250108T082957Z
UID:2018-1737637200-1737651600@olylife-japan.com
SUMMARY:仙台✨セミナー＆体験会
DESCRIPTION:仙台✨セミナー＆体験会\n【仙台セミナー&体験会】 \n1月23日　木曜日 \n受付）13時〜\nセミナー　13時30〜 \n講師：小澤正道\n主催：世良めぐみ \n担当：半田　茂良\n電話番号080 3319 9699 \n会員協力費　会員　500円\n新規　無料 \n会場：日立システムホール仙台 (仙台市文化センター) \n仙台市青葉区旭ケ丘3丁目27−5
URL:https://olylife-japan.com/all-event/%e4%bb%99%e5%8f%b0%e2%9c%a8%e3%82%bb%e3%83%9f%e3%83%8a%e3%83%bc%ef%bc%86%e4%bd%93%e9%a8%93%e4%bc%9a-3/
LOCATION:日立システムホール仙台\, 仙台市青葉区旭ケ丘3-27-5　日立システムホール仙台\, Japan
END:VEVENT
BEGIN:VEVENT
DTSTART;TZID=Asia/Tokyo:20250121T130000
DTEND;TZID=Asia/Tokyo:20250121T163000
DTSTAMP:20260421T011744
CREATED:20250108T082637Z
LAST-MODIFIED:20250108T082637Z
UID:2016-1737464400-1737477000@olylife-japan.com
SUMMARY:名古屋✨セミナー・体験会
DESCRIPTION:名古屋✨セミナー・体験会\n【1月度名古屋体験会&セミナー】 \n1月21日（火曜日）\n●（受付）13時00分\n（開演）13時30分〜15時30分 \n●ビジネストレーニング\n16時〜 \n講師：小澤正道 \n主催：世良めぐみ\n担当：赤松聡\n電話：090-8180−2365 \n会員協力費　会員　500円\n新規　無料 \n■場所　東別院会館\n210号室\n名古屋市中区橘2-8-45\n0523319576\n駅からのアクセスはこちら\n地下鉄「東別院駅」4番出口より西へ徒歩3分 \n【注意事項】\n．トレーニング中は、体験会しませんので、体験希望の方はお早めにお越し下さい。\n．体験される方は常温のお水をこ用意下さい。
URL:https://olylife-japan.com/all-event/%e5%90%8d%e5%8f%a4%e5%b1%8b%e2%9c%a8%e3%82%bb%e3%83%9f%e3%83%8a%e3%83%bc%e3%83%bb%e4%bd%93%e9%a8%93%e4%bc%9a-3/
LOCATION:東別院会館\, 愛知県名古屋市中区橘２丁目８−４５\, 愛知県\, 460-0016\, Japan
END:VEVENT
BEGIN:VEVENT
DTSTART;TZID=Asia/Tokyo:20250112T130000
DTEND;TZID=Asia/Tokyo:20250112T170000
DTSTAMP:20260421T011744
CREATED:20241120T082548Z
LAST-MODIFIED:20241120T082952Z
UID:1837-1736686800-1736701200@olylife-japan.com
SUMMARY:札幌✨セミナー＆体験会
DESCRIPTION:札幌🌟セミナー体験会 \n【札幌セミナー体験会】\n◎日時1月12日 日曜日\n受付）13時00分\n開演）13時30〜 \n講師:小澤正道 \n主催:坂井正人\n番号:08065620545 \n参加費:新規無料🆓\n既存会員:資料代500円 \n[備考]\n体験の際の飲み水は各自、ご持参をお願いいたします。 \n[会場]\n札幌市産業振興センター　2階\nセミナールームA
URL:https://olylife-japan.com/all-event/%e6%9c%ad%e5%b9%8c%e2%9c%a8%e3%82%bb%e3%83%9f%e3%83%8a%e3%83%bc%ef%bc%86%e4%bd%93%e9%a8%93%e4%bc%9a-2/
LOCATION:札幌市産業振興センター\, 札幌市白石区東札幌5条1丁目1－1　札幌市産業振興センター\, Japan
END:VEVENT
BEGIN:VEVENT
DTSTART;TZID=Asia/Tokyo:20250108T130000
DTEND;TZID=Asia/Tokyo:20250108T170000
DTSTAMP:20260421T011744
CREATED:20241120T081837Z
LAST-MODIFIED:20241120T081837Z
UID:1833-1736341200-1736355600@olylife-japan.com
SUMMARY:沖縄✨セミナー＆体験会
DESCRIPTION:  \n沖縄🌟セミナー＆体験会 \n【沖縄セミナー＆体験会】 \n1月8日(水曜日) \n受付）13時00分\n第1部セミナー\n開演）13時30分〜 \n第2部ビジネストレーニング\n開演）15時30分〜 \n講師：小澤正道 \n主催：世良めぐみ \n担当：根間秀人\n電話：070-5412-3512 \n会員協力費　会員　500円\n新規　無料 \n場所：「みんなの貸会議室　那覇小禄駅前店」\n※小禄イオンの近くです。\n701会議室(定員90名)
URL:https://olylife-japan.com/all-event/%e6%b2%96%e7%b8%84%e2%9c%a8%e3%82%bb%e3%83%9f%e3%83%8a%e3%83%bc%ef%bc%86%e4%bd%93%e9%a8%93%e4%bc%9a/
LOCATION:みんなの貸会議室　那覇小禄駅前店\, 沖縄県那覇市金城5-8-6みんなの貸会議室　那覇小禄駅前店\, Japan
END:VEVENT
BEGIN:VEVENT
DTSTART;TZID=Asia/Tokyo:20250106T131500
DTEND;TZID=Asia/Tokyo:20250106T170000
DTSTAMP:20260421T011744
CREATED:20241129T113509Z
LAST-MODIFIED:20241129T113509Z
UID:1890-1736169300-1736182800@olylife-japan.com
SUMMARY:東京新春✨セミナー・体験会
DESCRIPTION:東京新春✨セミナー・体験会\n東京新春セミナー \n◎日時1月6日（月）\n受付）13時15分\n開演）13時30〜 \n講師： 小澤正道 \n主催：世良めぐみ \n担当：中村 千佐江\n電話：090-8962-0119 \n◎会員協力費\n会員500円\nご新規様　無料！ \n※ 体験\n体験は新規の方ご優先、ご来場順で行います。 \n◎会場\n品川中小企業センター\n大講習室2F \n◎住所\n住所:〒141-0033\n品川区西品川1-28-3 \n◎交通手段\n⚪︎東急大井町線下神明駅　徒歩2分\n⚪︎JR線・東急線・りんかい線大井町駅　徒歩15分
URL:https://olylife-japan.com/all-event/%e6%9d%b1%e4%ba%ac%e6%96%b0%e6%98%a5%e2%9c%a8%e3%82%bb%e3%83%9f%e3%83%8a%e3%83%bc%e3%83%bb%e4%bd%93%e9%a8%93%e4%bc%9a/
LOCATION:品川区立中小企業センター\, 東京都品川区西品川1-28-3　品川区立中小企業センター\, Japan
END:VEVENT
BEGIN:VEVENT
DTSTART;TZID=Asia/Tokyo:20241227T131500
DTEND;TZID=Asia/Tokyo:20241227T170000
DTSTAMP:20260421T011744
CREATED:20241129T113311Z
LAST-MODIFIED:20241129T113311Z
UID:1888-1735305300-1735318800@olylife-japan.com
SUMMARY:東京年の瀬✨セミナー・体験会
DESCRIPTION:東京年の瀬✨セミナー・体験会\n東京年の瀬セミナー \n◎日時12月27日（金）\n受付）13時15分\n開演）13時30〜 \n講師： 小澤正道 \n主催：世良めぐみ \n担当：中村 千佐江\n電話：090-8962-0119 \n◎会員協力費\n会員500円\nご新規様　無料！ \n※ 体験\n体験は新規の方ご優先、ご来場順で行います。 \n◎会場\n品川中小企業センター\n大講習室2F \n◎住所\n住所:〒141-0033\n品川区西品川1-28-3 \n◎交通手段\n⚪︎東急大井町線下神明駅　徒歩2分\n⚪︎JR線・東急線・りんかい線大井町駅　徒歩15分
URL:https://olylife-japan.com/all-event/%e6%9d%b1%e4%ba%ac%e5%b9%b4%e3%81%ae%e7%80%ac%e2%9c%a8%e3%82%bb%e3%83%9f%e3%83%8a%e3%83%bc%e3%83%bb%e4%bd%93%e9%a8%93%e4%bc%9a/
LOCATION:品川区立中小企業センター\, 東京都品川区西品川1-28-3　品川区立中小企業センター\, Japan
END:VEVENT
BEGIN:VEVENT
DTSTART;TZID=Asia/Tokyo:20241225T130000
DTEND;TZID=Asia/Tokyo:20241225T163000
DTSTAMP:20260421T011744
CREATED:20241129T113118Z
LAST-MODIFIED:20241129T113118Z
UID:1886-1735131600-1735144200@olylife-japan.com
SUMMARY:名古屋✨セミナー・体験会
DESCRIPTION:名古屋✨セミナー・体験会\n【12月度名古屋体験会&セミナー】 \n12月25日（水曜日）\n●（受付）13時00分\n（開演）13時30分〜15時30分 \n●ビジネストレーニング\n16時〜 \n講師：小澤正道 \n主催：世良めぐみ\n担当：赤松聡\n電話：090-8180−2365 \n会員協力費　会員　500円\n新規　無料 \n■場所　東別院会館\n201号室\n名古屋市中区橘2-8-45\n0523319576\n駅からのアクセスはこちら\n地下鉄「東別院駅」4番出口より西へ徒歩3分 \n【注意事項】\n．トレーニング中は、体験会しませんので、体験希望の方はお早めにお越し下さい。\n．体験される方は常温のお水をこ用意下さい。
URL:https://olylife-japan.com/all-event/%e5%90%8d%e5%8f%a4%e5%b1%8b%e2%9c%a8%e3%82%bb%e3%83%9f%e3%83%8a%e3%83%bc%e3%83%bb%e4%bd%93%e9%a8%93%e4%bc%9a-2/
LOCATION:東別院会館\, 愛知県名古屋市中区橘２丁目８−４５\, 愛知県\, 460-0016\, Japan
END:VEVENT
BEGIN:VEVENT
DTSTART;TZID=Asia/Tokyo:20241222T130000
DTEND;TZID=Asia/Tokyo:20241222T170000
DTSTAMP:20260421T011744
CREATED:20241129T112905Z
LAST-MODIFIED:20241129T112905Z
UID:1883-1734872400-1734886800@olylife-japan.com
SUMMARY:熊本✨セミナー＆体験会
DESCRIPTION:熊本✨セミナー＆体験会\n【熊本セミナー&体験会】 \n12月22日(日)\n受付）13時00分\n開演）13時30分 \n第1部）セミナー\n13:30〜15:00 \n休憩） 15分 \n第2部）ビジネストレーニング\n15:15〜16:45 \n講師：小澤正道 \n主催：世良めぐみ \n担当：松岡衣美\n電話：090-7539-1676 \n会員協力費　会員　500円\n新規　無料 \n※新規の方とご一緒に来られる方は新規の方のお水をご準備お願いします。 \n※ビジネストレーニングは会員様限定です。 \n〒860-0008\n熊本市中央区二の丸１−１−２ 桜の馬場 城彩苑\n多目的交流施設
URL:https://olylife-japan.com/all-event/%e7%86%8a%e6%9c%ac%e2%9c%a8%e3%82%bb%e3%83%9f%e3%83%8a%e3%83%bc%ef%bc%86%e4%bd%93%e9%a8%93%e4%bc%9a-2/
LOCATION:桜の馬場 城彩苑\, 熊本県熊本市中央区二の丸１−１−２ 桜の馬場 城彩苑\, Japan
END:VEVENT
BEGIN:VEVENT
DTSTART;TZID=Asia/Tokyo:20241221T130000
DTEND;TZID=Asia/Tokyo:20241221T170000
DTSTAMP:20260421T011744
CREATED:20241129T112736Z
LAST-MODIFIED:20241129T112736Z
UID:1880-1734786000-1734800400@olylife-japan.com
SUMMARY:福岡✨セミナー＆体験会
DESCRIPTION:福岡✨セミナー＆体験会\n【福岡セミナー&体験会】 \n12月21日(土)\n受付）13時00分\n開演）13時30分 \n第1部）セミナー\n13:30〜15:00 \n休憩） 15分 \n第2部）ビジネストレーニング\n15:15〜16:45 \n講師：小澤正道 \n主催：世良めぐみ \n担当：松本紀子\n電話：090-3412-1243 \n会員協力費　会員　500円\n新規　無料 \n※新規の方とご一緒に来られる方は新規の方のお水をご準備お願いします。 \n※ビジネストレーニングは会員様限定です。 \n〒812-0013\n福岡市博多区博多駅東1丁目16-14\nリファレンス駅東ビル2F Y-1
URL:https://olylife-japan.com/all-event/%e7%a6%8f%e5%b2%a1%e2%9c%a8%e3%82%bb%e3%83%9f%e3%83%8a%e3%83%bc%ef%bc%86%e4%bd%93%e9%a8%93%e4%bc%9a/
LOCATION:リファレンス駅東ビル貸会議室\, 福岡市博多区博多駅東1-16-14　リファレンス駅東ビル貸会議室\, Japan
END:VEVENT
BEGIN:VEVENT
DTSTART;TZID=Asia/Tokyo:20241220T131000
DTEND;TZID=Asia/Tokyo:20241220T170000
DTSTAMP:20260421T011744
CREATED:20241120T081611Z
LAST-MODIFIED:20241129T114013Z
UID:1830-1734700200-1734714000@olylife-japan.com
SUMMARY:大分✨セミナー・体験会
DESCRIPTION:大分🌟セミナー&体験会 \n【大分セミナー&体験会】 \n◎12月20日(金)\n会場）13時10分 \n第1部 セミナー&体験会\n開始）13時30分〜 \n第2部 ビジネストレーニング\n開始）15時30分〜 \n講師：小澤正道 \n主催：世良めぐみ\n担当：栗田晶子\n電話：080-5796-0780 \n会場協力費：会員500円（新規　無料） \n※ 体験は、新規の方ご優先・ご来場順で行います。\n紹介者の方は、体験される新規さんのお水をご用意下さい。 \n■会場 \n〒870-0029\n大分県大分市高砂町2番33号　iichiko総合文化センター\n地下１階 映像小ホール
URL:https://olylife-japan.com/all-event/%e5%a4%a7%e5%88%86%e2%9c%a8%e3%82%bb%e3%83%9f%e3%83%8a%e3%83%bc%e3%83%bb%e4%bd%93%e9%a8%93%e4%bc%9a/
LOCATION:iichiko総合文化センター\, 大分県大分市高砂町2番33号\, Japan
END:VEVENT
BEGIN:VEVENT
DTSTART;TZID=Asia/Tokyo:20241218T131500
DTEND;TZID=Asia/Tokyo:20241218T170000
DTSTAMP:20260421T011744
CREATED:20241129T112420Z
LAST-MODIFIED:20241129T112420Z
UID:1869-1734527700-1734541200@olylife-japan.com
SUMMARY:東京✨セミナー・体験会
DESCRIPTION:東京✨セミナー・体験会\n【東京セミナー】 \n◎日時12月18日（水）\n受付）13時15分\n開演）13時30〜 \n講師： 小澤正道 \n主催：世良めぐみ \n担当：中村 千佐江\n電話：090-8962-0119 \n◎会員協力費\n会員500円\nご新規様　無料！ \n※ 体験\n体験は新規の方ご優先、ご来場順で行います。 \n◎会場\n品川中小企業センター\n大講習室2F \n◎住所\n住所:〒141-0033\n品川区西品川1-28-3 \n◎交通手段\n⚪︎東急大井町線下神明駅　徒歩2分\n⚪︎JR線・東急線・りんかい線大井町駅　徒歩15分
URL:https://olylife-japan.com/all-event/%e6%9d%b1%e4%ba%ac%e2%9c%a8%e3%82%bb%e3%83%9f%e3%83%8a%e3%83%bc%e3%83%bb%e4%bd%93%e9%a8%93%e4%bc%9a-2/
LOCATION:品川区立中小企業センター\, 東京都品川区西品川1-28-3　品川区立中小企業センター\, Japan
END:VEVENT
BEGIN:VEVENT
DTSTART;TZID=Asia/Tokyo:20241217T130000
DTEND;TZID=Asia/Tokyo:20241217T170000
DTSTAMP:20260421T011744
CREATED:20241129T112125Z
LAST-MODIFIED:20241129T112125Z
UID:1866-1734440400-1734454800@olylife-japan.com
SUMMARY:仙台✨セミナー＆体験会
DESCRIPTION:仙台🌟セミナー&体験会 \n【仙台セミナー&体験会】 \n12月17日 火曜日 \n受付）13時〜\nセミナー　13時30〜\nビジトレ　15時30〜 \n講師：小澤正道\n主催：世良めぐみ \n担当：半田　茂良\n電話番号080 3319 9699 \n会員協力費　会員　500円\n新規　無料 \n会場：フォレスト仙台\n第6会議室 \n宮城県仙台市青葉区柏木１丁目２−４５\nhttps://g.co/kgs/JweVseY
URL:https://olylife-japan.com/all-event/%e4%bb%99%e5%8f%b0%e2%9c%a8%e3%82%bb%e3%83%9f%e3%83%8a%e3%83%bc%ef%bc%86%e4%bd%93%e9%a8%93%e4%bc%9a-2/
LOCATION:フォレスト仙台\, 宮城県仙台市青葉区柏木１丁目２−４５　フォレスト仙台\, Japan
END:VEVENT
BEGIN:VEVENT
DTSTART;TZID=Asia/Tokyo:20241203T130000
DTEND;TZID=Asia/Tokyo:20241203T170000
DTSTAMP:20260421T011744
CREATED:20241127T115945Z
LAST-MODIFIED:20241127T115945Z
UID:1861-1733230800-1733245200@olylife-japan.com
SUMMARY:札幌✨セミナー＆体験会
DESCRIPTION:札幌✨セミナー＆体験会\n【札幌セミナー】 \n12月3日（火） \n13時　受付開始 \n13時30分　開始 \n講師　小澤正道 \n主催者　坂井正人 \n主催坂井正人 \n参加費\n新規無料 \n＊既存会員資料代として\n500円 \nちえりあ　札幌市生涯学習センター \n6階講堂 \n地下鉄駅直結
URL:https://olylife-japan.com/all-event/%e6%9c%ad%e5%b9%8c%e2%9c%a8%e3%82%bb%e3%83%9f%e3%83%8a%e3%83%bc%ef%bc%86%e4%bd%93%e9%a8%93%e4%bc%9a-4/
LOCATION:ちえりあ　札幌市生涯学習センター\, 札幌市西区宮の沢1条1丁目1-10　ちえりあ　札幌市生涯学習センター\, 北海道\, 063-0051\, Japan
END:VEVENT
BEGIN:VEVENT
DTSTART;TZID=Asia/Tokyo:20241128T210000
DTEND;TZID=Asia/Tokyo:20241128T223000
DTSTAMP:20260421T011744
CREATED:20241106T092139Z
LAST-MODIFIED:20241106T095353Z
UID:1750-1732827600-1732833000@olylife-japan.com
SUMMARY:Zoom《会員限定》プラン勉強会
DESCRIPTION:ZOOM≪会員限定≫プラン勉強会（阪下博之） \nプラン勉強会（阪下博之） \n11月28日(木) 21時〜 \n出来る限り顔出しでの参加をお願いします\n開始15分前から入室可能なので、表示名(漢字フルネーム)の変更など各自で準備を整えてください\n他の参加者のご迷惑となりますので極力時間厳守でお願いします \n \nミーティング ID: 846 5817 6788\nパスコード: 20240501
URL:https://olylife-japan.com/all-event/zoom%e3%80%8a%e4%bc%9a%e5%93%a1%e9%99%90%e5%ae%9a%e3%80%8b%e3%83%97%e3%83%a9%e3%83%b3%e5%8b%89%e5%bc%b7%e4%bc%9a-2/
LOCATION:Zoom
END:VEVENT
BEGIN:VEVENT
DTSTART;TZID=Asia/Tokyo:20241127T131500
DTEND;TZID=Asia/Tokyo:20241127T170000
DTSTAMP:20260421T011744
CREATED:20241113T102927Z
LAST-MODIFIED:20241113T102927Z
UID:1808-1732713300-1732726800@olylife-japan.com
SUMMARY:東京✨スペシャルセミナー
DESCRIPTION:東京🌟スペシャルセミナー \n東京スペシャルセミナー\n◎日時11月27日（水）\n受付）13時15分\n開演）13時30〜 \n講師： 小澤正道 \nゲスト：玉木道人 \n主催：世良めぐみ \n担当：中村 千佐江\n電話：090-8962-0119 \n◎会員協力費\n会員500円\nご新規様　無料！ \n※ 体験\n体験は新規の方ご優先、ご来場順で行います。 \n◎会場\nとしま区民センター \n住所\n住所: 〒170-0013\n豊島区東池袋1-20-10\n多目的ホール8F \n交通手段\n⚪︎JR池袋駅東口徒歩7分
URL:https://olylife-japan.com/all-event/%e6%9d%b1%e4%ba%ac%e2%9c%a8%e3%82%b9%e3%83%9a%e3%82%b7%e3%83%a3%e3%83%ab%e3%82%bb%e3%83%9f%e3%83%8a%e3%83%bc/
LOCATION:としま区民センター\, 東京都豊島区東池袋1-20-10　としま区民センター\, Japan
END:VEVENT
BEGIN:VEVENT
DTSTART;TZID=Asia/Tokyo:20241126T210000
DTEND;TZID=Asia/Tokyo:20241126T223000
DTSTAMP:20260421T011744
CREATED:20241106T091851Z
LAST-MODIFIED:20241106T095458Z
UID:1748-1732654800-1732660200@olylife-japan.com
SUMMARY:Zoom《会員限定》ビジネス座談会（小澤正道）
DESCRIPTION:ZOOM≪会員限定≫ビジネス座談会（小澤正道） \nビジネス座談会（小澤正道） \n11月26日(火) 21時〜 \n出来る限り顔出しでの参加をお願いします\n開始15分前から入室可能なので、表示名(漢字フルネーム)の変更など各自で準備を整えてください\n他の参加者のご迷惑となりますので極力時間厳守でお願いします \n \nミーティング ID: 846 5817 6788\nパスコード: 20240501
URL:https://olylife-japan.com/all-event/zoom%e3%80%8a%e4%bc%9a%e5%93%a1%e9%99%90%e5%ae%9a%e3%80%8b%e3%83%93%e3%82%b8%e3%83%8d%e3%82%b9%e5%ba%a7%e8%ab%87%e4%bc%9a%ef%bc%88%e5%b0%8f%e6%be%a4%e6%ad%a3%e9%81%93%ef%bc%89-2/
LOCATION:Zoom
END:VEVENT
BEGIN:VEVENT
DTSTART;TZID=Asia/Tokyo:20241123T140000
DTEND;TZID=Asia/Tokyo:20241123T170000
DTSTAMP:20260421T011744
CREATED:20241106T113738Z
LAST-MODIFIED:20241106T113738Z
UID:1774-1732370400-1732381200@olylife-japan.com
SUMMARY:ととのいサロン（健康編）・体験会
DESCRIPTION:東京🌟ととのいサロン・P90体験会 \n【事前予約制】\n申込フォーム 　https://act-info.biz/p/r/2Mf22ekt \n◎日時11月23日土曜日\n受付）13時30分\n開演）14時00〜 \n講師：佐藤みきひろ \n主催：Oly Life普及委員会 \n連絡先：support@olylife-japan.com \n◎会員協力費\n参加費　1000円\n紹介者無料！ \n※ 体験\n体験は新規の方ご優先、ご来場順で行います。 \n◎会場\n4030ビル5F セミナールーム \n住所: 東京都中央区湊3-4-11
URL:https://olylife-japan.com/all-event/%e3%81%a8%e3%81%a8%e3%81%ae%e3%81%84%e3%82%b5%e3%83%ad%e3%83%b3%ef%bc%88%e5%81%a5%e5%ba%b7%e7%b7%a8%ef%bc%89%e3%83%bb%e4%bd%93%e9%a8%93%e4%bc%9a/
LOCATION:4030ビル5F セミナールーム\, 東京都中央区湊3-4-114030ビル5F\, Japan
ORGANIZER;CN="Oly Life %E6%99%AE%E5%8F%8A%E5%A7%94%E5%93%A1%E4%BC%9A":MAILTO:support@olylife-japan.com
END:VEVENT
END:VCALENDAR