BEGIN:VCALENDAR
VERSION:2.0
PRODID:-//OlyLife P-90普及委員会 - ECPv6.8.1//NONSGML v1.0//EN
CALSCALE:GREGORIAN
METHOD:PUBLISH
X-WR-CALNAME:OlyLife P-90普及委員会
X-ORIGINAL-URL:https://olylife-japan.com
X-WR-CALDESC:OlyLife P-90普及委員会 のイベント
REFRESH-INTERVAL;VALUE=DURATION:PT1H
X-Robots-Tag:noindex
X-PUBLISHED-TTL:PT1H
BEGIN:VTIMEZONE
TZID:Asia/Tokyo
BEGIN:STANDARD
TZOFFSETFROM:+0900
TZOFFSETTO:+0900
TZNAME:JST
DTSTART:20260101T000000
END:STANDARD
END:VTIMEZONE
BEGIN:VEVENT
DTSTART;TZID=Asia/Tokyo:20260110T130000
DTEND;TZID=Asia/Tokyo:20260110T170000
DTSTAMP:20260420T152655
CREATED:20251207T052008Z
LAST-MODIFIED:20251207T052008Z
UID:4711-1768050000-1768064400@olylife-japan.com
SUMMARY:札幌✨セミナー＆体験会
DESCRIPTION:札幌✨セミナー＆体験会\n札幌セミナー&体験会 \n▪️日時 1月10日土曜日\n受付）13時00分\n開演）13時30分予定 \n講師：坂井正人\n主催：向山理会員 \n協力費　会員500円\n新規　無料 \n※ご紹介様は、体験ご希望の方のお水のご準備をお願いいたします。 \n住所:〒003-0005 北海道札幌市白石区東札幌５条１丁目１−１\n会場：産業振興センターセミナールーム１ \n 
URL:https://olylife-japan.com/all-event/%e6%9c%ad%e5%b9%8c%e2%9c%a8%e3%82%bb%e3%83%9f%e3%83%8a%e3%83%bc%ef%bc%86%e4%bd%93%e9%a8%93%e4%bc%9a-18/
LOCATION:札幌市産業振興センター\, 札幌市白石区東札幌5条1丁目1－1　札幌市産業振興センター\, Japan
END:VEVENT
BEGIN:VEVENT
DTSTART;TZID=Asia/Tokyo:20260113T133000
DTEND;TZID=Asia/Tokyo:20260113T160000
DTSTAMP:20260420T152655
CREATED:20251207T052145Z
LAST-MODIFIED:20251207T052145Z
UID:4713-1768311000-1768320000@olylife-japan.com
SUMMARY:【2026年1月度　AJ主催：大阪✨体験会＆セミナー】
DESCRIPTION:【2026年1月度　AJ主催：大阪✨体験会＆セミナー】\n【2026年1月度　AJ主催：大阪✨体験会＆セミナー】 \n2026年 初！\nAJ主催のセミナーになります！\n受付時間にご注意下さい。 \n［日時］\n1/13日(火) \n【講師】　小澤正道 \n13:30受付スタート\n14:00開始\n16:00終了予定 \n［体験コーナー］\n14:00\n14:30\n15:00 \n【注意】\n同フロアに他のご利用者様もいらっしゃいますので、受付時間に合わせてお越し頂けますようご協力願います。 \n※定員オーバーする可能性ありますのでご了承ください。\n※お席取りもご遠慮ください。\n※受付スタート以前に会場でのお席取りはご遠慮ください。\n※体験を希望される方は早めにお越し下さい。先着順に整理券をお配りします。 \n［主催］\nアベンジャーズJAPAN \n［会場］\nCIVI研修センター新大阪東、7階 \n［参加費］\n無料 \n［所在地］\nhttps://maps.app.goo.gl/swrkv5NJhEZJXrLu8?g_st=com.google.maps.preview.copy
URL:https://olylife-japan.com/all-event/%e3%80%902026%e5%b9%b41%e6%9c%88%e5%ba%a6%e3%80%80aj%e4%b8%bb%e5%82%ac%ef%bc%9a%e5%a4%a7%e9%98%aa%e2%9c%a8%e4%bd%93%e9%a8%93%e4%bc%9a%ef%bc%86%e3%82%bb%e3%83%9f%e3%83%8a%e3%83%bc%e3%80%91/
LOCATION:CIVI研修センター新大阪東\, 大阪府大阪市東淀川区東中島１丁目１９−４ LUCID SQUARE SHIN-OSAKA （ルーシッドスクエア新大阪）7階　CIVI研修センター新大阪東\, Japan
END:VEVENT
BEGIN:VEVENT
DTSTART;TZID=Asia/Tokyo:20260114T133000
DTEND;TZID=Asia/Tokyo:20260114T170000
DTSTAMP:20260420T152655
CREATED:20251207T052330Z
LAST-MODIFIED:20251207T052330Z
UID:4715-1768397400-1768410000@olylife-japan.com
SUMMARY:兵庫姫路✨体験会＆セミナー
DESCRIPTION:【兵庫姫路セミナー＆体験会】\n1月14日(水) \n受付）13時30分〜\n開演）14時\nいつもと会場が違いますのでご注意お願い致します。 \n第1部　セミナー＆無料体験会\n第2部　ビジネストレーニング \n講師：小澤正道 \n主催：世良めぐみ \n担当：加藤裕希依\n電話：090-1905-0862 \n会員協力費　会員　500円\n新規　無料 \n体験は当日先着〇〇名様までとなりますのでご了承下さい。\n新規様のお水はご用意ください。 \n場所:兵庫県姫路商工会議所　本館　605号 \nhttps://www.google.com/maps/search/670-8505%E3%80%80兵庫県姫路市下寺町43?entry=gmail&source=g
URL:https://olylife-japan.com/all-event/%e5%85%b5%e5%ba%ab%e5%a7%ab%e8%b7%af%e2%9c%a8%e4%bd%93%e9%a8%93%e4%bc%9a%ef%bc%86%e3%82%bb%e3%83%9f%e3%83%8a%e3%83%bc-6/
LOCATION:兵庫県姫路商工会議所\, 兵庫県姫路市下寺町43　兵庫県姫路商工会議所
END:VEVENT
BEGIN:VEVENT
DTSTART;TZID=Asia/Tokyo:20260115T130000
DTEND;TZID=Asia/Tokyo:20260115T164000
DTSTAMP:20260420T152655
CREATED:20260106T034209Z
LAST-MODIFIED:20260106T034209Z
UID:4810-1768482000-1768495200@olylife-japan.com
SUMMARY:山口✨岩国市セミナー体験会＆ビジトレ
DESCRIPTION:山口✨岩国市セミナー体験会＆ビジトレ\n  \n山口県岩国市\n【オリーライフ セミナー体験会＆ビジトレ】 \n▪️日時 1月 15日(木)\n13:00 受付開始\n13:30〜15:20 新規説明会\n15:20〜15:40 休憩\n15:40〜16:40 ビジトレ \n▪️講師：小澤正道\n▪️主催：世良めぐみ\n▪️担当：黒田純枝\n（090-5262-6782）\n▪️会員協力費\n会員500円\n新規　無料 \n※ 体験\n体験は新規の方ご優先、ご来場順で行います。\n体験希望の方はお水のご用意をお願いします。 \n〒740-0022山口県岩国市山手町1丁目15-3 \n岩国市民文化会館（1階会議室） \n▪️交通手段\n⚪︎JR山陽本線岩国駅 徒歩10分\n駐車場は会場の近くにあります。
URL:https://olylife-japan.com/all-event/%e5%b1%b1%e5%8f%a3%e2%9c%a8%e5%b2%a9%e5%9b%bd%e5%b8%82%e3%82%bb%e3%83%9f%e3%83%8a%e3%83%bc%e4%bd%93%e9%a8%93%e4%bc%9a%ef%bc%86%e3%83%93%e3%82%b8%e3%83%88%e3%83%ac/
LOCATION:岩国市民文化会館\, 岩国市山手町一丁目15番3号　岩国市民文化会館
END:VEVENT
BEGIN:VEVENT
DTSTART;TZID=Asia/Tokyo:20260115T131500
DTEND;TZID=Asia/Tokyo:20260115T170000
DTSTAMP:20260420T152655
CREATED:20260106T034323Z
LAST-MODIFIED:20260106T034323Z
UID:4813-1768482900-1768496400@olylife-japan.com
SUMMARY:東京✨スペシャルセミナー&体験会
DESCRIPTION:東京✨スペシャルセミナー&体験会\n東京スペシャルセミナー&体験会 \n▪️日時\n1月15日(木)\n受付）13時15分開場\n開演）13時30分\n(17時終了予定) \n講師：坂井正人 \n主催：世良めぐみ \n担当：中村千佐江\n電話：09089620119 \n会員協力費\n会員500円\n新規　無料 \n※ご紹介様は、体験ご希望の方のお水のご準備をお願いいたします。 \n▪️会場\nとしま区民センター7階(池袋駅東口より徒歩約7分)\n〒170-0013\n東京都豊島区東池袋1丁目20-10
URL:https://olylife-japan.com/all-event/%e6%9d%b1%e4%ba%ac%e2%9c%a8%e3%82%b9%e3%83%9a%e3%82%b7%e3%83%a3%e3%83%ab%e3%82%bb%e3%83%9f%e3%83%8a%e3%83%bc%e4%bd%93%e9%a8%93%e4%bc%9a/
LOCATION:としま区民センター\, 東京都豊島区東池袋1-20-10　としま区民センター\, Japan
END:VEVENT
BEGIN:VEVENT
DTSTART;TZID=Asia/Tokyo:20260116T131000
DTEND;TZID=Asia/Tokyo:20260116T170000
DTSTAMP:20260420T152655
CREATED:20251207T052454Z
LAST-MODIFIED:20251207T052454Z
UID:4718-1768569000-1768582800@olylife-japan.com
SUMMARY:福岡✨体験会＆セミナー
DESCRIPTION:福岡✨体験会＆セミナー\n【福岡セミナー&体験会】 \n▪️日時 1月16日(金) 受付）13時10分 開演）13時30分\n講師：小澤正道\n主催：AOT \n会員協力費　会員500円 新規　無料\n※ご紹介様は、体験ご希望の方のお水のご準備をお願いいたします。 \n▪️会場\n第三博多偕成ビル \n福岡市博多区博多駅南1丁目3番6号\n第三博多偕成ビル4階 \nアクセス\n●JR九州新幹線、JR九州鹿児島本線、博多駅「筑紫口」徒歩6分\n●福岡市地下鉄空港線博多駅出口番号「東5」徒歩5分
URL:https://olylife-japan.com/all-event/%e7%a6%8f%e5%b2%a1%e2%9c%a8%e4%bd%93%e9%a8%93%e4%bc%9a%ef%bc%86%e3%82%bb%e3%83%9f%e3%83%8a%e3%83%bc-11/
LOCATION:第三博多偕成ビル\, 福岡市博多区博多駅南1丁目3番6号 第三博多偕成ビル4階　第三博多偕成ビル\, Japan
END:VEVENT
BEGIN:VEVENT
DTSTART;TZID=Asia/Tokyo:20260117T210000
DTEND;TZID=Asia/Tokyo:20260117T223000
DTSTAMP:20260420T152655
CREATED:20260106T034443Z
LAST-MODIFIED:20260106T034443Z
UID:4815-1768683600-1768689000@olylife-japan.com
SUMMARY:Zoom 一般セミナー
DESCRIPTION:Zoom 一般セミナー\n1月17日(土) 21時〜\n【一般セミナー】\n講師　小澤正道 \n※出来る限り顔出しでの参加をお願いします\n開始15分前から入室可能なので、表示名(漢字フルネーム)の変更など各自で準備を整えてください\n他の参加者のご迷惑となりますので極力時間厳守でお願いします \n \nミーティング ID: 624 926 6369\nパスコード: 6369
URL:https://olylife-japan.com/all-event/zoom-%e4%b8%80%e8%88%ac%e3%82%bb%e3%83%9f%e3%83%8a%e3%83%bc-17/
LOCATION:Zoom
END:VEVENT
BEGIN:VEVENT
DTSTART;TZID=Asia/Tokyo:20260118T123000
DTEND;TZID=Asia/Tokyo:20260118T160000
DTSTAMP:20260420T152655
CREATED:20251207T052618Z
LAST-MODIFIED:20251207T052618Z
UID:4720-1768739400-1768752000@olylife-japan.com
SUMMARY:埼玉 狭山市✨体験会＆セミナー
DESCRIPTION:埼玉 狭山市✨体験会＆セミナー\n【狭山セミナー＆体験会】 \n講師　小澤　正道 \n［日時］\n1月18日日曜日 \n12:30受付スタート\n13時開始\n16時完全撤収 \n［体験コーナー］ \n13:30\n14:00\n14:30\n15:00 \n※定員オーバーする可能性ありますのでご了承ください。\n※基本お席取りもご遠慮ください。\n※受付スタート以前に会場でのお席取りはご遠慮ください。\n※体験を希望される方は早めにお越し下さい。先着順に整理券をお配りします。 \n［主催］\n磯崎　奈良　横田 \n［会場］\n狭山市産業センター\n2階 \n［参加費] \n¥500 \n［所在地］\nhttps://www.sayama-sanrou.jp/access/
URL:https://olylife-japan.com/all-event/%e5%9f%bc%e7%8e%89-%e7%8b%ad%e5%b1%b1%e5%b8%82%e2%9c%a8%e4%bd%93%e9%a8%93%e4%bc%9a%ef%bc%86%e3%82%bb%e3%83%9f%e3%83%8a%e3%83%bc-4/
LOCATION:狭山市産業労働センター\, 埼玉県狭山市入間川１丁目３−３　狭山市産業労働センター\, Japan
END:VEVENT
BEGIN:VEVENT
DTSTART;TZID=Asia/Tokyo:20260119T131500
DTEND;TZID=Asia/Tokyo:20260119T170000
DTSTAMP:20260420T152655
CREATED:20251207T052743Z
LAST-MODIFIED:20251207T052743Z
UID:4722-1768828500-1768842000@olylife-japan.com
SUMMARY:東京✨体験会＆セミナー
DESCRIPTION:東京セミナー \n▪️日時\n1月19日(月)\n受付）13時15分開場\n開演）13時30分 \n講師：小澤正道 \n主催：世良めぐみ \n担当：中村千佐江\n電話：09089620119 \n会員協力費　会員500円\n新規　無料 \n※ご紹介様は、体験ご希望の方のお水のご準備をお願いいたします。 \n▪️会場\nとしま区民センター\n7階\n〒170-0013 東京都豊島区東池袋１丁目２０−１０\nhttps://maps.app.goo.gl/xY1ehNiii8KzkjYB8?g_st=com.google.maps.preview.copy
URL:https://olylife-japan.com/all-event/%e6%9d%b1%e4%ba%ac%e2%9c%a8%e4%bd%93%e9%a8%93%e4%bc%9a%ef%bc%86%e3%82%bb%e3%83%9f%e3%83%8a%e3%83%bc-20/
LOCATION:としま区民センター\, 東京都豊島区東池袋1-20-10　としま区民センター\, Japan
END:VEVENT
BEGIN:VEVENT
DTSTART;TZID=Asia/Tokyo:20260122T210000
DTEND;TZID=Asia/Tokyo:20260122T223000
DTSTAMP:20260420T152655
CREATED:20260106T034633Z
LAST-MODIFIED:20260106T034633Z
UID:4817-1769115600-1769121000@olylife-japan.com
SUMMARY:Zoom《会員限定》プラン勉強会
DESCRIPTION:Zoom《会員限定》プラン勉強会\n1月22日(木) 21時〜\n【プラン勉強会】\n講師　阪下博之 \n※出来る限り顔出しでの参加をお願いします\n開始15分前から入室可能なので、表示名(漢字フルネーム)の変更など各自で準備を整えてください\n他の参加者のご迷惑となりますので極力時間厳守でお願いします \n \nミーティング ID: 846 5817 6788\nパスコード: 20240501
URL:https://olylife-japan.com/all-event/zoom%e3%80%8a%e4%bc%9a%e5%93%a1%e9%99%90%e5%ae%9a%e3%80%8b%e3%83%97%e3%83%a9%e3%83%b3%e5%8b%89%e5%bc%b7%e4%bc%9a-23/
LOCATION:Zoom
END:VEVENT
BEGIN:VEVENT
DTSTART;TZID=Asia/Tokyo:20260124T130000
DTEND;TZID=Asia/Tokyo:20260124T163000
DTSTAMP:20260420T152655
CREATED:20251207T052920Z
LAST-MODIFIED:20251207T052920Z
UID:4724-1769259600-1769272200@olylife-japan.com
SUMMARY:旭川✨セミナー＆体験会
DESCRIPTION:旭川✨セミナー＆体験会\n旭川セミナー＆体験会 \n日時 2026年1月24日(土) \n13:00受付スタート\n13:30セミナー開始\n15:30セミナー終了\n16:30 完全撤収 \n講師：小澤正道\n主催：向山理\n会員協力費　会員500円\n新規　無料 \n※ご紹介様は、体験ご希望の方のお水のご準備をお願いいたします。 \n⚠️会場\n旭川市民文化会館\n2階　第2会議室\n〒070-0037 北海道旭川市７条通９丁目
URL:https://olylife-japan.com/all-event/%e6%97%ad%e5%b7%9d%e2%9c%a8%e3%82%bb%e3%83%9f%e3%83%8a%e3%83%bc%ef%bc%86%e4%bd%93%e9%a8%93%e4%bc%9a/
LOCATION:旭川市民文化会館\, 北海道旭川市７条通９丁目　旭川市民文化会館
END:VEVENT
BEGIN:VEVENT
DTSTART;TZID=Asia/Tokyo:20260125T130000
DTEND;TZID=Asia/Tokyo:20260125T160000
DTSTAMP:20260420T152655
CREATED:20251207T053134Z
LAST-MODIFIED:20251207T053134Z
UID:4727-1769346000-1769356800@olylife-japan.com
SUMMARY:札幌✨セミナー＆体験会
DESCRIPTION:札幌✨セミナー＆体験会\n札幌セミナー＆体験会 \n日時 2026年1月25日(日) \n13:00受付スタート\n13:30セミナー開始\n15:30セミナー終了\n16:00 完全撤収 \n講師：小澤正道\n主催：向山理\n会員協力費　会員500円\n新規　無料 \n※ご紹介様は、体験ご希望の方のお水のご準備をお願いいたします。 \n⚠️会場　かでる27\n10階　1040号室\n〒060-0002 北海道札幌市中央区北２条西７丁目 道民活動センタービル
URL:https://olylife-japan.com/all-event/%e6%9c%ad%e5%b9%8c%e2%9c%a8%e3%82%bb%e3%83%9f%e3%83%8a%e3%83%bc%ef%bc%86%e4%bd%93%e9%a8%93%e4%bc%9a-19/
LOCATION:かでる2．7（北海道立道民活動センター）\, 北海道札幌市中央区北２条西７丁目 道民活動センタービル　かでる2．7
END:VEVENT
BEGIN:VEVENT
DTSTART;TZID=Asia/Tokyo:20260202T133000
DTEND;TZID=Asia/Tokyo:20260202T160000
DTSTAMP:20260420T152655
CREATED:20251207T053317Z
LAST-MODIFIED:20251207T053317Z
UID:4730-1770039000-1770048000@olylife-japan.com
SUMMARY:【2026年2月度　AJ主催：大阪✨体験会＆セミナー】
DESCRIPTION:【2026年2月度　AJ主催：大阪✨体験会＆セミナー】\n【2026年2月度　AJ主催：大阪✨体験会＆セミナー】 \n2026年、前半期スタート！\nAJ主催のセミナーになります！\n受付時間にご注意下さい。 \n［日時］\n2/2日(月) \n【講師】　小澤正道 \n13:30受付スタート\n14:00開始\n16:00終了予定 \n［体験コーナー］\n14:00\n14:30\n15:00 \n【注意】\n同フロアに他のご利用者様もいらっしゃいますので、受付時間に合わせてお越し頂けますようご協力願います。 \n※定員オーバーする可能性ありますのでご了承ください。\n※お席取りもご遠慮ください。\n※受付スタート以前に会場でのお席取りはご遠慮ください。\n※体験を希望される方は早めにお越し下さい。先着順に整理券をお配りします。 \n［主催］\nアベンジャーズJAPAN \n［会場］\n新大阪丸ビル別館、2階 \n［参加費］\n無料 \n［所在地］\nhttps://maps.app.goo.gl/4VsH3bGQGnGiy4R38
URL:https://olylife-japan.com/all-event/%e3%80%902026%e5%b9%b42%e6%9c%88%e5%ba%a6%e3%80%80aj%e4%b8%bb%e5%82%ac%ef%bc%9a%e5%a4%a7%e9%98%aa%e2%9c%a8%e4%bd%93%e9%a8%93%e4%bc%9a%ef%bc%86%e3%82%bb%e3%83%9f%e3%83%8a%e3%83%bc%e3%80%91/
LOCATION:新大阪丸ビル別館\, 大阪府大阪市東淀川区東中島1-18-22　新大阪丸ビル別館
END:VEVENT
BEGIN:VEVENT
DTSTART;TZID=Asia/Tokyo:20260211T130000
DTEND;TZID=Asia/Tokyo:20260211T170000
DTSTAMP:20260420T152655
CREATED:20251207T053418Z
LAST-MODIFIED:20251207T053418Z
UID:4733-1770814800-1770829200@olylife-japan.com
SUMMARY:兵庫姫路✨体験会＆セミナー
DESCRIPTION:【兵庫姫路セミナー＆体験会】\n2月11日(水) \n受付）13時\n開演）13時30分〜\n第1部　セミナー＆無料体験会\n第2部　ビジネストレーニング \n講師：小澤正道 \n主催：世良めぐみ \n担当：加藤裕希依\n電話：090-1905-0862 \n会員協力費　会員　500円\n新規　無料 \n体験は当日先着〇〇名様までとなりますのでご了承下さい。\n新規様のお水はご用意ください。 \n場所:兵庫県姫路市総合福祉\n会館\n5階　第1会議室 \n住所:兵庫県姫路市安田3丁目\n1番地 \n駐車場:近隣パーキング
URL:https://olylife-japan.com/all-event/%e5%85%b5%e5%ba%ab%e5%a7%ab%e8%b7%af%e2%9c%a8%e4%bd%93%e9%a8%93%e4%bc%9a%ef%bc%86%e3%82%bb%e3%83%9f%e3%83%8a%e3%83%bc-7/
LOCATION:兵庫県姫路市総合福祉会館\, 兵庫県姫路市安田3丁目1番地　兵庫県姫路市総合福祉会館
END:VEVENT
BEGIN:VEVENT
DTSTART;TZID=Asia/Tokyo:20260211T130000
DTEND;TZID=Asia/Tokyo:20260211T170000
DTSTAMP:20260420T152655
CREATED:20260122T191429Z
LAST-MODIFIED:20260122T191429Z
UID:4887-1770814800-1770829200@olylife-japan.com
SUMMARY:札幌✨セミナー＆体験会
DESCRIPTION:札幌✨セミナー＆体験会\n札幌セミナー&体験会 \n▪️日時 2月11日水曜日\n受付）13時00分\n開演）13時30分予定 \n講師：坂井正人 \n主催：向山理 \n会員協力費　会員500円 新規　無料 \n※ご紹介様は、体験ご希望の方のお水のご準備をお願いいたします。 \n住所: 〒003-0005 北海道札幌市白石区東札幌５条１丁目１−１\n会場：産業振興センターセミナールームA
URL:https://olylife-japan.com/all-event/%e6%9c%ad%e5%b9%8c%e2%9c%a8%e3%82%bb%e3%83%9f%e3%83%8a%e3%83%bc%ef%bc%86%e4%bd%93%e9%a8%93%e4%bc%9a-20/
LOCATION:札幌市産業振興センター\, 札幌市白石区東札幌5条1丁目1－1　札幌市産業振興センター\, Japan
END:VEVENT
BEGIN:VEVENT
DTSTART;TZID=Asia/Tokyo:20260213T130000
DTEND;TZID=Asia/Tokyo:20260213T170000
DTSTAMP:20260420T152655
CREATED:20260122T191524Z
LAST-MODIFIED:20260122T191524Z
UID:4889-1770987600-1771002000@olylife-japan.com
SUMMARY:名古屋✨体験会・セミナー
DESCRIPTION:名古屋✨体験会・セミナー\n●2月　名古屋体験会セミナー\n　　　＆ビジネストレーニング \n【日時】2月13日（金）\n【場所】ウインクあいち1204号室 \n13:00 受付スタート\n13:30〜15:30 体験会セミナー\n15:30〜15:45 休憩\n15:45〜16:45 ビジトレ \n【講師】　小澤正道\n【主催】　松本幸弘\n【会場住所】\n名古屋市中村区名駅4丁目4-38 \n＊会場協力費: 500円(新規無料)\n＊体験希望者は当日受け付け時にお申し込み下さい。 \nまた体験希望の方はご紹介者様がお水のご用意をお願いします。 \n【アクセス】\nhttps://www.winc-aichi.jp/access/
URL:https://olylife-japan.com/all-event/%e5%90%8d%e5%8f%a4%e5%b1%8b%e2%9c%a8%e4%bd%93%e9%a8%93%e4%bc%9a%e3%83%bb%e3%82%bb%e3%83%9f%e3%83%8a%e3%83%bc-12/
LOCATION:ウインクあいち\, 愛知県名古屋市中村区名駅4丁目4-38 ウインクあいち
END:VEVENT
BEGIN:VEVENT
DTSTART;TZID=Asia/Tokyo:20260216T131000
DTEND;TZID=Asia/Tokyo:20260216T170000
DTSTAMP:20260420T152655
CREATED:20260122T191631Z
LAST-MODIFIED:20260122T191631Z
UID:4891-1771247400-1771261200@olylife-japan.com
SUMMARY:福岡✨体験会＆セミナー
DESCRIPTION:福岡✨体験会＆セミナー\n【福岡 体験会&セミナー】 \n▪️日時\n2月16日(月)\n受付）13時10分\n開演）13時30分 \n講師：小澤正道 \n主催：AOT \n会員協力費　会員500円\n新規　無料 \n※ご紹介様は、体験ご希望の方のお水のご準備をお願いいたします。 \n▪️会場\n第三博多偕成ビル4階 \n福岡市博多区博多駅南1丁目3番6号
URL:https://olylife-japan.com/all-event/%e7%a6%8f%e5%b2%a1%e2%9c%a8%e4%bd%93%e9%a8%93%e4%bc%9a%ef%bc%86%e3%82%bb%e3%83%9f%e3%83%8a%e3%83%bc-12/
LOCATION:第三博多偕成ビル\, 福岡市博多区博多駅南1丁目3番6号 第三博多偕成ビル4階　第三博多偕成ビル\, Japan
END:VEVENT
BEGIN:VEVENT
DTSTART;TZID=Asia/Tokyo:20260218T130000
DTEND;TZID=Asia/Tokyo:20260218T190000
DTSTAMP:20260420T152655
CREATED:20260122T191802Z
LAST-MODIFIED:20260122T191802Z
UID:4893-1771419600-1771441200@olylife-japan.com
SUMMARY:新潟 上越市✨体験会・セミナー
DESCRIPTION:新潟 上越市✨体験会・セミナー\n【上越市　体験会＆セミナー】 \n新潟初！\n２部制の体験会＆説明会となります。 \nお仕事や家事など、ご都合の良いお時間にてご参加下さい♪ \n◉2/18日(火) \n［時間］\n◎第1部：体験会＆セミナー\n受付開始：13:00〜\n説明会開演：13:30〜 \n◎第2部：体験会＆セミナー\n受付開始：17:00〜\n説明会開演：17:30〜 \n※）体験は当日整理券を先着順お配り致しますのでご了承下さい。 \n［講師］\n森　義一 \n［会場費］\n※会員　500円\n※新規の方　無料 \n［会場］\n金谷地区公民館\n住所：上越市大貫2-17-50 \n主催　世良　めぐみ \n担当　佐藤　貴紀\n08041569701
URL:https://olylife-japan.com/all-event/%e6%96%b0%e6%bd%9f-%e4%b8%8a%e8%b6%8a%e5%b8%82%e2%9c%a8%e4%bd%93%e9%a8%93%e4%bc%9a%e3%83%bb%e3%82%bb%e3%83%9f%e3%83%8a%e3%83%bc/
LOCATION:金谷地区公民館\, 新潟県上越市大貫２丁目１７　金谷地区公民館
END:VEVENT
BEGIN:VEVENT
DTSTART;TZID=Asia/Tokyo:20260219T131500
DTEND;TZID=Asia/Tokyo:20260219T170000
DTSTAMP:20260420T152655
CREATED:20260122T191918Z
LAST-MODIFIED:20260122T191918Z
UID:4896-1771506900-1771520400@olylife-japan.com
SUMMARY:東京✨体験会＆セミナー
DESCRIPTION:東京✨体験会＆セミナー\n東京セミナー \n▪️日時\n2月19日(木)\n受付）13時15分開場\n開演）13時30分 \n講師：小澤正道 \n主催：世良めぐみ \n担当：中村千佐江\n電話：09089620119 \n会員協力費　会員500円\n新規　無料 \n※ご紹介様は、体験ご希望の方のお水のご準備をお願いいたします。 \n▪️会場\nあうるすぽっと
URL:https://olylife-japan.com/all-event/%e6%9d%b1%e4%ba%ac%e2%9c%a8%e4%bd%93%e9%a8%93%e4%bc%9a%ef%bc%86%e3%82%bb%e3%83%9f%e3%83%8a%e3%83%bc-21/
LOCATION:あうるすぽっと\, 豊島区東池袋4-5-2 ライズアリーナビル　あうるすぽっと
END:VEVENT
BEGIN:VEVENT
DTSTART;TZID=Asia/Tokyo:20260220T130000
DTEND;TZID=Asia/Tokyo:20260220T170000
DTSTAMP:20260420T152655
CREATED:20260122T192005Z
LAST-MODIFIED:20260122T192005Z
UID:4898-1771592400-1771606800@olylife-japan.com
SUMMARY:札幌✨セミナー＆体験会
DESCRIPTION:札幌✨セミナー＆体験会\n札幌セミナー&体験会 \n▪️日時 2月20日金曜日\n受付）13時00分\n開演）13時30分予定 \n講師：小澤正道 \n主催：向山理 \n会員協力費　会員500円 新規　無料 \n※ご紹介様は、体験ご希望の方のお水のご準備をお願いいたします。 \n住所: 〒003-0005 北海道札幌市白石区東札幌５条１丁目１−１\n会場：産業振興センターセミナールーム１
URL:https://olylife-japan.com/all-event/%e6%9c%ad%e5%b9%8c%e2%9c%a8%e3%82%bb%e3%83%9f%e3%83%8a%e3%83%bc%ef%bc%86%e4%bd%93%e9%a8%93%e4%bc%9a-21/
LOCATION:札幌市産業振興センター\, 札幌市白石区東札幌5条1丁目1－1　札幌市産業振興センター\, Japan
END:VEVENT
BEGIN:VEVENT
DTSTART;TZID=Asia/Tokyo:20260302T133000
DTEND;TZID=Asia/Tokyo:20260302T160000
DTSTAMP:20260420T152655
CREATED:20260122T192131Z
LAST-MODIFIED:20260122T192131Z
UID:4900-1772458200-1772467200@olylife-japan.com
SUMMARY:【2026年3月度　AJ主催：(仮)大阪✨体験会＆セミナー】
DESCRIPTION:【2026年3月度　AJ主催：(仮)大阪✨体験会＆セミナー】\n【2026年3月度　AJ主催：(仮)大阪✨体験会＆セミナー】 \n2026年\nAJ主催のセミナーになります！\n受付時間にご注意下さい。 \n［日時］\n3/2日(月) \n【講師】　小澤正道 \n13:30受付スタート\n14:00開始\n16:00終了予定 \n［体験コーナー］\n14:00\n14:30\n15:00 \n【注意】\n同フロアに他のご利用者様もいらっしゃいますので、受付時間に合わせてお越し頂けますようご協力願います。 \n※定員オーバーする可能性ありますのでご了承ください。\n※お席取りもご遠慮ください。\n※受付スタート以前に会場でのお席取りはご遠慮ください。\n※体験を希望される方は早めにお越し下さい。先着順に整理券をお配りします。 \n［主催］\nアベンジャーズJAPAN \n［会場］\nCIVI研修センター新大阪東、7階 \n［参加費］\n無料 \n［所在地］\nhttps://maps.app.goo.gl/swrkv5NJhEZJXrLu8?g_st=com.google.maps.preview.copy
URL:https://olylife-japan.com/all-event/%e3%80%902026%e5%b9%b43%e6%9c%88%e5%ba%a6%e3%80%80aj%e4%b8%bb%e5%82%ac%ef%bc%9a%e4%bb%ae%e5%a4%a7%e9%98%aa%e2%9c%a8%e4%bd%93%e9%a8%93%e4%bc%9a%ef%bc%86%e3%82%bb%e3%83%9f%e3%83%8a%e3%83%bc%e3%80%91/
LOCATION:CIVI研修センター新大阪東\, 大阪府大阪市東淀川区東中島１丁目１９−４ LUCID SQUARE SHIN-OSAKA （ルーシッドスクエア新大阪）7階　CIVI研修センター新大阪東\, Japan
END:VEVENT
BEGIN:VEVENT
DTSTART;TZID=Asia/Tokyo:20260306T130000
DTEND;TZID=Asia/Tokyo:20260306T170000
DTSTAMP:20260420T152655
CREATED:20260228T061445Z
LAST-MODIFIED:20260228T061445Z
UID:4993-1772802000-1772816400@olylife-japan.com
SUMMARY:㊗️OlyLife大阪サロンオープン記念✨体験会＆セミナー
DESCRIPTION:㊗️OlyLife大阪サロンオープン記念✨体験会＆セミナー\n  \n㊗️OlyLife大阪サロンオープン記念✨体験会＆セミナー \n【大阪梅田セミナー】 \n【日時】\n3月6日（金） \n◾️13:00〜\n受付開始 \n◾️13:30〜15:00\n会社、商品説明\n講師:小澤 正道 \n◾️15:00〜15:15\n休憩 \n◾️15:15〜16:45\nOlylife世界No.1ディストリビューター　\n世界で唯一の7スター⭐️ブライアン氏によるスピーチ🎤 \n※当日の進行状況により変更になる場合がございます。 \n📣17:00完全撤収 \n※定員オーバーする可能性ありますのでご了承ください。\n※基本お席取りもご遠慮ください。\n※受付スタート以前に会場でのお席取りはご遠慮ください。\n※体験を希望される方は早めにお越し下さい。先着順に整理券をお配りします。 \n［主催］\nAOT \n［参加費］\n会員500円\n新規 無料 \n［会場］\n大阪市北区梅田1-2-2\n大阪駅前第２ビル 4F\nComo Rental Office内413 \nマップ: https://maps.google.com/maps?q=34.6989342\,135.4979539&zoom=16
URL:https://olylife-japan.com/all-event/%e3%8a%97%ef%b8%8folylife%e5%a4%a7%e9%98%aa%e3%82%b5%e3%83%ad%e3%83%b3%e3%82%aa%e3%83%bc%e3%83%97%e3%83%b3%e8%a8%98%e5%bf%b5%e2%9c%a8%e4%bd%93%e9%a8%93%e4%bc%9a%ef%bc%86%e3%82%bb%e3%83%9f%e3%83%8a/
LOCATION:Como Rental Office\, 大阪市北区梅田1-2-2 大阪駅前第２ビル 4F
END:VEVENT
BEGIN:VEVENT
DTSTART;TZID=Asia/Tokyo:20260307T131500
DTEND;TZID=Asia/Tokyo:20260307T170000
DTSTAMP:20260420T152655
CREATED:20260228T061628Z
LAST-MODIFIED:20260228T061628Z
UID:4996-1772889300-1772902800@olylife-japan.com
SUMMARY:東京✨スペシャルセミナー
DESCRIPTION:東京✨スペシャルセミナー\n東京\nスペシャルセミナー \n▪️日時\n3月7日(土)\n受付）13時15分開場\n開演）13時30分 \n講師：小澤正道 \n特別ゲスト：\nブライアン \n主催：世良めぐみ \n担当：中村千佐江\n電話：09089620119 \n会員協力費\n会員　500円\n新規　無料 \n※ご紹介様は、体験ご希望の方のお水のご準備をお願いいたします。 \n▪️会場\nTKP品川カンファレンスセンターANNEX
URL:https://olylife-japan.com/all-event/%e6%9d%b1%e4%ba%ac%e2%9c%a8%e3%82%b9%e3%83%9a%e3%82%b7%e3%83%a3%e3%83%ab%e3%82%bb%e3%83%9f%e3%83%8a%e3%83%bc-2/
LOCATION:TKP品川カンファレンスセンターANNEX\, 東京都港区高輪3-13-1 TAKANAWA COURT 3階　TKP品川カンファレンスセンターANNEX
END:VEVENT
BEGIN:VEVENT
DTSTART;TZID=Asia/Tokyo:20260308T131500
DTEND;TZID=Asia/Tokyo:20260308T170000
DTSTAMP:20260420T152655
CREATED:20260122T192234Z
LAST-MODIFIED:20260122T192234Z
UID:4902-1772975700-1772989200@olylife-japan.com
SUMMARY:埼玉 川越市✨体験会＆セミナー
DESCRIPTION:埼玉 川越市✨体験会＆セミナー\n【埼玉セミナー＆体験会】 \n［日時］ 3月8日(日)\n13:15受付\n13:30開演\n15:30終了予定 \n16:00〜16:30\n「ハロートーク 」 \n📣17:00完全撤収 \n※定員オーバーする可能性ありますのでご了承ください。\n※基本お席取りもご遠慮ください。\n※ご紹介様は、体験ご希望の方のお水のご準備をお願いいたします。 \n［講師］\n小澤正道 \n［主催］ AOT \n[担当者]\n石川 恵美子\n☎︎080-5023-3006 \n［参加費］\n無料 \n［会場］\nウエスタ川越\n埼玉県川越市新宿町\n１丁目17-17\nhttps://www.westa-kawagoe.jp/access/
URL:https://olylife-japan.com/all-event/%e5%9f%bc%e7%8e%89-%e5%b7%9d%e8%b6%8a%e5%b8%82%e2%9c%a8%e4%bd%93%e9%a8%93%e4%bc%9a%ef%bc%86%e3%82%bb%e3%83%9f%e3%83%8a%e3%83%bc/
LOCATION:ウエスタ川越\, 埼玉県川越市新宿町1-17-17　ウエスタ川越\, Japan
END:VEVENT
BEGIN:VEVENT
DTSTART;TZID=Asia/Tokyo:20260310T130000
DTEND;TZID=Asia/Tokyo:20260310T170000
DTSTAMP:20260420T152655
CREATED:20260122T192326Z
LAST-MODIFIED:20260122T192326Z
UID:4904-1773147600-1773162000@olylife-japan.com
SUMMARY:名古屋✨体験会・セミナー
DESCRIPTION:名古屋✨体験会・セミナー\n●3月　名古屋体験会＆セミナー \n【日時】3月10日（火）\n【場所】ウインクあいち1101号室\n【受付】　13時〜\n【開始】　13時30分〜 \n【講師】　小澤正道\n【主催】　松本幸弘\n【会場住所】\n名古屋市中村区名駅4丁目4-38 \n＊会場協力費: 500円(新規無料)\n＊体験希望者は当日受け付け時にお申し込み下さい。 \nまた体験希望の方はご紹介者様がお水のご用意をお願いします。 \n【アクセス】\nhttps://www.winc-aichi.jp/access/
URL:https://olylife-japan.com/all-event/%e5%90%8d%e5%8f%a4%e5%b1%8b%e2%9c%a8%e4%bd%93%e9%a8%93%e4%bc%9a%e3%83%bb%e3%82%bb%e3%83%9f%e3%83%8a%e3%83%bc-13/
LOCATION:ウインクあいち\, 愛知県名古屋市中村区名駅4丁目4-38 ウインクあいち
END:VEVENT
BEGIN:VEVENT
DTSTART;TZID=Asia/Tokyo:20260311T131500
DTEND;TZID=Asia/Tokyo:20260311T170000
DTSTAMP:20260420T152655
CREATED:20260228T061934Z
LAST-MODIFIED:20260228T061934Z
UID:5001-1773234900-1773248400@olylife-japan.com
SUMMARY:東京✨体験会＆セミナー
DESCRIPTION:東京✨体験会＆セミナー\n東京セミナー \n▪️日時\n3月11日(水)\n受付）13時15分開場\n開演）13時30分 \n講師：小澤正道 \n主催：世良めぐみ \n担当：中村千佐江\n電話：09089620119 \n会員協力費　会員500円\n新規　無料 \n※ご紹介様は、体験ご希望の方のお水のご準備をお願いいたします。 \n▪️会場\nあうるすぽっと
URL:https://olylife-japan.com/all-event/%e6%9d%b1%e4%ba%ac%e2%9c%a8%e4%bd%93%e9%a8%93%e4%bc%9a%ef%bc%86%e3%82%bb%e3%83%9f%e3%83%8a%e3%83%bc-22/
LOCATION:あうるすぽっと\, 豊島区東池袋4-5-2 ライズアリーナビル　あうるすぽっと
END:VEVENT
BEGIN:VEVENT
DTSTART;TZID=Asia/Tokyo:20260313T130000
DTEND;TZID=Asia/Tokyo:20260313T170000
DTSTAMP:20260420T152655
CREATED:20260122T192423Z
LAST-MODIFIED:20260228T062241Z
UID:4906-1773406800-1773421200@olylife-japan.com
SUMMARY:札幌✨セミナー＆体験会
DESCRIPTION:札幌✨セミナー＆体験会\n札幌セミナー&体験会 \n▪️日時 3月13日金曜日\n受付）13時00分\n開演）13時30分予定 \n講師：坂井正人 \n主催：向山理 \n会員協力費　会員500円 新規　無料 \n※ご紹介様は、体験ご希望の方のお水のご準備をお願いいたします。 \n住所: 〒003-0005 北海道札幌市白石区東札幌５条１丁目１−１\n会場：産業振興センターセミナールーム1
URL:https://olylife-japan.com/all-event/%e6%9c%ad%e5%b9%8c%e2%9c%a8%e3%82%bb%e3%83%9f%e3%83%8a%e3%83%bc%ef%bc%86%e4%bd%93%e9%a8%93%e4%bc%9a-22/
LOCATION:札幌市産業振興センター\, 札幌市白石区東札幌5条1丁目1－1　札幌市産業振興センター\, Japan
END:VEVENT
BEGIN:VEVENT
DTSTART;TZID=Asia/Tokyo:20260314T210000
DTEND;TZID=Asia/Tokyo:20260314T223000
DTSTAMP:20260420T152655
CREATED:20260228T061821Z
LAST-MODIFIED:20260307T235743Z
UID:4999-1773522000-1773527400@olylife-japan.com
SUMMARY:Zoom 一般セミナー
DESCRIPTION:Zoom 一般セミナー\n3月14日(土) 21時〜\n【一般セミナー】\n講師　小澤正道 \n※出来る限り顔出しでの参加をお願いします\n開始15分前から入室可能なので、表示名(漢字フルネーム)の変更など各自で準備を整えてください\n他の参加者のご迷惑となりますので極力時間厳守でお願いします\n \nミーティング ID: 624 926 6369\nパスコード: 6369
URL:https://olylife-japan.com/all-event/zoom-%e4%b8%80%e8%88%ac%e3%82%bb%e3%83%9f%e3%83%8a%e3%83%bc-18/
LOCATION:Zoom
END:VEVENT
BEGIN:VEVENT
DTSTART;TZID=Asia/Tokyo:20260315T130000
DTEND;TZID=Asia/Tokyo:20260315T170000
DTSTAMP:20260420T152655
CREATED:20260228T062406Z
LAST-MODIFIED:20260228T062406Z
UID:5004-1773579600-1773594000@olylife-japan.com
SUMMARY:山口県✨山口市セミナー体験会＆ビジトレ
DESCRIPTION:山口県✨山口市セミナー体験会＆ビジトレ\n山口県山口市\n【オリーライフ\nセミナー体験会＆ビジトレ】 \n▪️日時 3月 15日(日)\n13:00 受付開始\n13:30〜15:20 新規説明会\n15:20〜15:40 休憩\n15:40〜16:40 ビジトレ \n▪️講師：小澤正道\n▪️主催：世良めぐみ\n▪️担当：西村倫美\n（090-5231-4677）\n▪️会員協力費\n会員500円\n新規　無料 \n※ 体験\n体験は新規の方ご優先、ご来場順で行います。\n体験希望の方はお水のご用意をお願いします。 \n〒753-0056\n山口市湯田温泉5丁目1-1 \nカリエンテ山口\n3階　第4会議室 \n▪️交通手段\n⚪︎JR山口線「湯田温泉駅」から車で10分（徒歩25分）\n無料駐車場がございますが、近隣に有料駐車場もありますのでご利用ください
URL:https://olylife-japan.com/all-event/%e5%b1%b1%e5%8f%a3%e7%9c%8c%e2%9c%a8%e5%b1%b1%e5%8f%a3%e5%b8%82%e3%82%bb%e3%83%9f%e3%83%8a%e3%83%bc%e4%bd%93%e9%a8%93%e4%bc%9a%ef%bc%86%e3%83%93%e3%82%b8%e3%83%88%e3%83%ac/
LOCATION:カリエンテ山口\, 山口市湯田温泉5丁目1-1　カリエンテ山口
END:VEVENT
BEGIN:VEVENT
DTSTART;TZID=Asia/Tokyo:20260317T210000
DTEND;TZID=Asia/Tokyo:20260317T223000
DTSTAMP:20260420T152655
CREATED:20260228T062551Z
LAST-MODIFIED:20260228T062551Z
UID:5007-1773781200-1773786600@olylife-japan.com
SUMMARY:Zoom【スペシャルプラン勉強会】
DESCRIPTION:Zoom【スペシャルプラン勉強会】\n3月17日(火) 21時〜\n【スペシャルプラン勉強会】\n講師　阪下博之 \n今回は初心者🔰向けの勉強会となります✨✨\n◉ ネットワーク初めての方❗️\n◉ バイナリーが初めての方❗️ \n全ての疑問が解決します‼️\n是非ご参加ください✨✨✨✨ \n※出来る限り顔出しでの参加をお願いします\n開始15分前から入室可能なので、表示名(漢字フルネーム)の変更など各自で準備を整えてください\n他の参加者のご迷惑となりますので極力時間厳守でお願いします\n \nミーティング ID: 846 5817 6788\nパスコード: 20240501
URL:https://olylife-japan.com/all-event/zoom%e3%80%90%e3%82%b9%e3%83%9a%e3%82%b7%e3%83%a3%e3%83%ab%e3%83%97%e3%83%a9%e3%83%b3%e5%8b%89%e5%bc%b7%e4%bc%9a%e3%80%91-13/
LOCATION:Zoom
END:VEVENT
END:VCALENDAR