BEGIN:VCALENDAR
VERSION:2.0
PRODID:-//OlyLife P-90普及委員会 - ECPv6.8.1//NONSGML v1.0//EN
CALSCALE:GREGORIAN
METHOD:PUBLISH
X-WR-CALNAME:OlyLife P-90普及委員会
X-ORIGINAL-URL:https://olylife-japan.com
X-WR-CALDESC:OlyLife P-90普及委員会 のイベント
REFRESH-INTERVAL;VALUE=DURATION:PT1H
X-Robots-Tag:noindex
X-PUBLISHED-TTL:PT1H
BEGIN:VTIMEZONE
TZID:Asia/Tokyo
BEGIN:STANDARD
TZOFFSETFROM:+0900
TZOFFSETTO:+0900
TZNAME:JST
DTSTART:20250101T000000
END:STANDARD
END:VTIMEZONE
BEGIN:VEVENT
DTSTART;TZID=Asia/Tokyo:20250711T130000
DTEND;TZID=Asia/Tokyo:20250711T153000
DTSTAMP:20260420T134104
CREATED:20250609T041815Z
LAST-MODIFIED:20250609T041815Z
UID:3528-1752238800-1752247800@olylife-japan.com
SUMMARY:名古屋✨体験会・セミナー
DESCRIPTION:●7月度　名古屋セミナー＆体験会 \n【日時】7月11日（金曜日）\n【場所】　東別院会館　201号室（蓮）\n【受付】　13時〜\n【開始】　13時30分〜15時30分迄 \n【講師】　小澤正道\n【主催】　世良めぐみ\n【担当】　赤松聡\n07023263456\n【会場】　東別院会館\n名古屋市中区橘2-8-45\n052−331−9576\n・駐車場有り\n・体験会では、常温のお水をご用意下さい。\n・今回、ビジネストレーニングはございません。
URL:https://olylife-japan.com/all-event/%e5%90%8d%e5%8f%a4%e5%b1%8b%e2%9c%a8%e4%bd%93%e9%a8%93%e4%bc%9a%e3%83%bb%e3%82%bb%e3%83%9f%e3%83%8a%e3%83%bc-5/
LOCATION:東別院会館\, 愛知県名古屋市中区橘２丁目８−４５\, 愛知県\, 460-0016\, Japan
END:VEVENT
BEGIN:VEVENT
DTSTART;TZID=Asia/Tokyo:20250710T130000
DTEND;TZID=Asia/Tokyo:20250710T170000
DTSTAMP:20260420T134104
CREATED:20250707T081842Z
LAST-MODIFIED:20250707T081842Z
UID:3657-1752152400-1752166800@olylife-japan.com
SUMMARY:大阪✨体験会＆セミナー
DESCRIPTION:大阪✨体験会＆セミナー\n【大阪セミナー＆体験会】 \n［日時］ 7/10日(木)\n13:00受付スタート 13:30開始 15:00終了予定\n15:00〜15:30 4スター毛利さんハロートーク\n15:30〜15:45休憩\n15:45〜16:45ビジネストレーニング \n※定員オーバーする可能性ありますのでご了承ください。 ※基本お席取りもご遠慮ください。 ※受付スタート以前に会場でのお席取りはご遠慮ください。 ※体験を希望される方は早めにお越し下さい。先着順に整理券をお配りします。 \n［講師］\n小澤正道 \n［主催］ AOT \n［参加費］ 会員500円 新規 無料 \n［会場］ \n丸ビル新館4階402 \n新大阪丸ビル新館
URL:https://olylife-japan.com/all-event/%e5%a4%a7%e9%98%aa%e2%9c%a8%e4%bd%93%e9%a8%93%e4%bc%9a%ef%bc%86%e3%82%bb%e3%83%9f%e3%83%8a%e3%83%bc-3/
LOCATION:新大阪丸ビル新館\, 大阪府大阪市東淀川区東中島1丁目18番27号　新大阪丸ビル新館\, Japan
END:VEVENT
BEGIN:VEVENT
DTSTART;TZID=Asia/Tokyo:20250708T210000
DTEND;TZID=Asia/Tokyo:20250708T223000
DTSTAMP:20260420T134104
CREATED:20250707T081650Z
LAST-MODIFIED:20250707T081650Z
UID:3655-1752008400-1752013800@olylife-japan.com
SUMMARY:Zoom《会員限定》A9についての勉強会
DESCRIPTION:Zoom《会員限定》A9についての勉強会\n7月8日(火) 21時〜\n【A9 勉強会】\n講師　阪下博之 \n3月のキャンペーンでA9を獲得した方、またはいつかA9を購入したいと考えている方は必見です‼️ \nスマホアプリとの接続方法についても説明しますので\n・A9を操作出来る状態でご参加下さい。\n・Zoomにはパソコンorタブレットで参加し、お手元でスマホを操作できる状態にしておいて下さい\n・Wi-Fiが繋がる状態、環境でご参加ください。\n又、お手元にご自身のWi-Fiパスワードをご準備ください \n※出来る限り顔出しでの参加をお願いします\n開始15分前から入室可能なので、表示名(漢字フルネーム)の変更など各自で準備を整えてください\n他の参加者のご迷惑となりますので極力時間厳守でお願いします \n \nミーティング ID: 846 5817 6788\nパスコード: 20240501
URL:https://olylife-japan.com/all-event/zoom%e3%80%8a%e4%bc%9a%e5%93%a1%e9%99%90%e5%ae%9a%e3%80%8ba9%e3%81%ab%e3%81%a4%e3%81%84%e3%81%a6%e3%81%ae%e5%8b%89%e5%bc%b7%e4%bc%9a/
LOCATION:Zoom
END:VEVENT
BEGIN:VEVENT
DTSTART;TZID=Asia/Tokyo:20250707T210000
DTEND;TZID=Asia/Tokyo:20250707T223000
DTSTAMP:20260420T134104
CREATED:20250707T081509Z
LAST-MODIFIED:20250707T081509Z
UID:3653-1751922000-1751927400@olylife-japan.com
SUMMARY:Zoom 一般セミナー
DESCRIPTION:Zoom 一般セミナー\n7月7日(月) 21時〜\n【一般セミナー】\n講師　小澤正道 \n※出来る限り顔出しでの参加をお願いします\n開始15分前から入室可能なので、表示名(漢字フルネーム)の変更など各自で準備を整えてください\n他の参加者のご迷惑となりますので極力時間厳守でお願いします \n \nミーティング ID: 624 926 6369\nパスコード: 6369
URL:https://olylife-japan.com/all-event/zoom-%e4%b8%80%e8%88%ac%e3%82%bb%e3%83%9f%e3%83%8a%e3%83%bc-9/
LOCATION:Zoom
END:VEVENT
BEGIN:VEVENT
DTSTART;TZID=Asia/Tokyo:20250703T131500
DTEND;TZID=Asia/Tokyo:20250703T170000
DTSTAMP:20260420T134104
CREATED:20250609T041654Z
LAST-MODIFIED:20250609T041654Z
UID:3526-1751548500-1751562000@olylife-japan.com
SUMMARY:東京✨体験会＆セミナー
DESCRIPTION:東京✨体験会＆セミナー\n東京セミナー \n▪️日時\n7月3日(木)\n受付）13時15分開場\n開演）13時30分 \n講師：小澤正道 \n主催：世良めぐみ \n担当：中村千佐江\n電話：09089620119 \n会員協力費　会員500円\n新規　無料 \n※ご紹介様は、体験ご希望の方のお水のご準備をお願いいたします。 \n▪️会場\nとしま区民センター\n7階\n〒170-0013 東京都豊島区東池袋１丁目２０−１０\nhttps://maps.app.goo.gl/xY1ehNiii8KzkjYB8?g_st=com.google.maps.preview.copy
URL:https://olylife-japan.com/all-event/%e6%9d%b1%e4%ba%ac%e2%9c%a8%e4%bd%93%e9%a8%93%e4%bc%9a%ef%bc%86%e3%82%bb%e3%83%9f%e3%83%8a%e3%83%bc-7/
LOCATION:としま区民センター\, 東京都豊島区東池袋1-20-10　としま区民センター\, Japan
END:VEVENT
BEGIN:VEVENT
DTSTART;TZID=Asia/Tokyo:20250702T130000
DTEND;TZID=Asia/Tokyo:20250702T170000
DTSTAMP:20260420T134104
CREATED:20250609T041535Z
LAST-MODIFIED:20250609T041535Z
UID:3523-1751461200-1751475600@olylife-japan.com
SUMMARY:兵庫姫路✨体験会＆セミナー
DESCRIPTION:【兵庫姫路セミナー＆体験会】\n７月２日水曜日 \n受付）13時00分\n開演）13時30分〜\n第1部　セミナー＆無料体験会 \n第2部　ビジネストレーニング \n講師：小澤正道 \n主催：世良めぐみ \n担当：加藤裕希依\n電話：090-1905-0862 \n会員協力費　会員　500円\n新規　無料 \n体験は当日先着〇〇名様までとなりますのでご了承下さい。\n新規様のお水はご用意ください。 \n場所:兵庫県姫路市総合福祉\n会館\n5階　第2会議室 \n住所:兵庫県姫路市安田3丁目\n1番地 \n駐車場:近隣パーキング
URL:https://olylife-japan.com/all-event/%e5%85%b5%e5%ba%ab%e5%a7%ab%e8%b7%af%e2%9c%a8%e4%bd%93%e9%a8%93%e4%bc%9a%ef%bc%86%e3%82%bb%e3%83%9f%e3%83%8a%e3%83%bc/
LOCATION:兵庫県姫路市総合福祉会館\, 兵庫県姫路市安田3丁目1番地　兵庫県姫路市総合福祉会館
END:VEVENT
BEGIN:VEVENT
DTSTART;TZID=Asia/Tokyo:20250628T210000
DTEND;TZID=Asia/Tokyo:20250628T223000
DTSTAMP:20260420T134104
CREATED:20250609T041254Z
LAST-MODIFIED:20250609T041254Z
UID:3521-1751144400-1751149800@olylife-japan.com
SUMMARY:Zoom《会員限定》プラン勉強会
DESCRIPTION:Zoom《会員限定》プラン勉強会\n6月28日(土) 21時〜\n【プラン勉強会】\n講師　阪下博之 \n※出来る限り顔出しでの参加をお願いします\n開始15分前から入室可能なので、表示名(漢字フルネーム)の変更など各自で準備を整えてください\n他の参加者のご迷惑となりますので極力時間厳守でお願いします \n \n  \nミーティング ID: 846 5817 6788\nパスコード: 20240501
URL:https://olylife-japan.com/all-event/zoom%e3%80%8a%e4%bc%9a%e5%93%a1%e9%99%90%e5%ae%9a%e3%80%8b%e3%83%97%e3%83%a9%e3%83%b3%e5%8b%89%e5%bc%b7%e4%bc%9a-11/
LOCATION:Zoom
END:VEVENT
BEGIN:VEVENT
DTSTART;TZID=Asia/Tokyo:20250628T130000
DTEND;TZID=Asia/Tokyo:20250628T170000
DTSTAMP:20260420T134104
CREATED:20250515T044124Z
LAST-MODIFIED:20250515T044124Z
UID:3221-1751115600-1751130000@olylife-japan.com
SUMMARY:札幌✨セミナー＆体験会
DESCRIPTION:札幌セミナー&体験会\n▪️日時 6月28日(土)\n受付）13時00分\n開演）13時30分予定\n講師：小澤正道\n主催：坂井正人\n会員協力費　会員500円\n新規　無料\n※ご紹介様は、体験ご希望の方のお水のご準備をお願いいたします。\n住所:産業振興センターセミナールームA\n〒003-0005 北海道札幌市白石区東札幌５条１丁目１−１\n会場：\nhttps://maps.app.goo.gl/K7gkQk5cScKxjtNF6?g_st=com.google.maps.preview.copy
URL:https://olylife-japan.com/all-event/%e6%9c%ad%e5%b9%8c%e2%9c%a8%e3%82%bb%e3%83%9f%e3%83%8a%e3%83%bc%ef%bc%86%e4%bd%93%e9%a8%93%e4%bc%9a-8/
LOCATION:札幌市産業振興センター\, 札幌市白石区東札幌5条1丁目1－1　札幌市産業振興センター\, Japan
END:VEVENT
BEGIN:VEVENT
DTSTART;TZID=Asia/Tokyo:20250626T131500
DTEND;TZID=Asia/Tokyo:20250626T170000
DTSTAMP:20260420T134104
CREATED:20250515T044018Z
LAST-MODIFIED:20250515T044018Z
UID:3219-1750943700-1750957200@olylife-japan.com
SUMMARY:東京✨体験会＆セミナー
DESCRIPTION:東京✨体験会＆セミナー\n東京セミナー \n▪️日時\n６月26日(木)\n受付）13時15分開場\n開演）13時30分 \n講師：小澤正道 \n主催：世良めぐみ \n担当：中村千佐江\n電話：09089620119 \n会員協力費　会員500円\n新規　無料 \n※ご紹介様は、体験ご希望の方のお水のご準備をお願いいたします。 \n▪️会場\nとしま区民センター\n7階\n〒170-0013 東京都豊島区東池袋１丁目２０−１０\nhttps://maps.app.goo.gl/xY1ehNiii8KzkjYB8?g_st=com.google.maps.preview.copy
URL:https://olylife-japan.com/all-event/%e6%9d%b1%e4%ba%ac%e2%9c%a8%e4%bd%93%e9%a8%93%e4%bc%9a%ef%bc%86%e3%82%bb%e3%83%9f%e3%83%8a%e3%83%bc-5/
LOCATION:としま区民センター\, 東京都豊島区東池袋1-20-10　としま区民センター\, Japan
END:VEVENT
BEGIN:VEVENT
DTSTART;TZID=Asia/Tokyo:20250625T131000
DTEND;TZID=Asia/Tokyo:20250625T170000
DTSTAMP:20260420T134104
CREATED:20250609T041109Z
LAST-MODIFIED:20250609T041109Z
UID:3519-1750857000-1750870800@olylife-japan.com
SUMMARY:熊本✨体験会＆セミナー
DESCRIPTION:熊本✨体験会＆セミナー\n【熊本セミナー&体験会】\n6月25日(水) 受付）13時10分 開演）13時30分〜\n講師：小澤正道\n主催：AOT\n担当：松岡衣美 電話：090-7539-1676\n会員協力費　会員　500円 新規　無料\n※新規の方とご一緒に来られる方は新規の方のお水をご準備お願いします。 \n■場所\n桜の馬場 城彩苑\n多目的交流室\n〒860-0008\n熊本市中央区二の丸1番1\n（総合観光案内所の2階）
URL:https://olylife-japan.com/all-event/%e7%86%8a%e6%9c%ac%e2%9c%a8%e4%bd%93%e9%a8%93%e4%bc%9a%ef%bc%86%e3%82%bb%e3%83%9f%e3%83%8a%e3%83%bc-4/
LOCATION:桜の馬場 城彩苑\, 熊本県熊本市中央区二の丸１−１−２ 桜の馬場 城彩苑\, Japan
END:VEVENT
BEGIN:VEVENT
DTSTART;TZID=Asia/Tokyo:20250624T130000
DTEND;TZID=Asia/Tokyo:20250624T170000
DTSTAMP:20260420T134104
CREATED:20250609T040953Z
LAST-MODIFIED:20250609T040953Z
UID:3517-1750770000-1750784400@olylife-japan.com
SUMMARY:福岡✨体験会＆セミナー
DESCRIPTION:福岡✨体験会＆セミナー\n【福岡セミナー&体験会】 \n▪️日時 6月24日(火) 受付）13時10分 開演）13時30分\n講師：小澤正道\n主催：AOT\n担当：松本紀子 電話：090-3412-1243\n会員協力費　会員500円 新規　無料\n※ご紹介様は、体験ご希望の方のお水のご準備をお願いいたします。 \n▪️会場\n第三博多偕成ビル４階\n〒812-0016\n福岡市博多区博多駅南1丁目3番6号
URL:https://olylife-japan.com/all-event/%e7%a6%8f%e5%b2%a1%e2%9c%a8%e4%bd%93%e9%a8%93%e4%bc%9a%ef%bc%86%e3%82%bb%e3%83%9f%e3%83%8a%e3%83%bc-4/
LOCATION:第三博多偕成ビル\, 福岡市博多区博多駅南1丁目3番6号 第三博多偕成ビル4階　第三博多偕成ビル\, Japan
END:VEVENT
BEGIN:VEVENT
DTSTART;TZID=Asia/Tokyo:20250622T123000
DTEND;TZID=Asia/Tokyo:20250622T160000
DTSTAMP:20260420T134104
CREATED:20250515T043857Z
LAST-MODIFIED:20250515T043857Z
UID:3217-1750595400-1750608000@olylife-japan.com
SUMMARY:埼玉✨体験会＆セミナー
DESCRIPTION:埼玉✨体験会＆セミナー\n【狭山セミナー＆体験会】 \n講師　小澤　正道 \n［日時］\n6月22日日曜日 \n12:30受付スタート\n13時開始\n16時完全撤収 \n［体験コーナー］ \n13:30\n14:00\n14:30\n15:00 \n※定員オーバーする可能性ありますのでご了承ください。\n※基本お席取りもご遠慮ください。\n※受付スタート以前に会場でのお席取りはご遠慮ください。\n※体験を希望される方は早めにお越し下さい。先着順に整理券をお配りします。 \n［主催］\n磯崎　奈良　横田 \n［会場］\n狭山市産業センター\n2階 \n［参加費] \n¥500 \n［所在地］\nhttps://www.sayama-sanrou.jp/access/
URL:https://olylife-japan.com/all-event/%e5%9f%bc%e7%8e%89%e2%9c%a8%e4%bd%93%e9%a8%93%e4%bc%9a%ef%bc%86%e3%82%bb%e3%83%9f%e3%83%8a%e3%83%bc-5/
LOCATION:狭山市産業労働センター\, 埼玉県狭山市入間川１丁目３−３　狭山市産業労働センター\, Japan
END:VEVENT
BEGIN:VEVENT
DTSTART;TZID=Asia/Tokyo:20250621T130000
DTEND;TZID=Asia/Tokyo:20250621T153000
DTSTAMP:20260420T134104
CREATED:20250515T043754Z
LAST-MODIFIED:20250515T043754Z
UID:3215-1750510800-1750519800@olylife-japan.com
SUMMARY:名古屋✨体験会・セミナー
DESCRIPTION:名古屋✨体験会・セミナー\n●6月度　名古屋セミナー＆体験会 \n【日時】6月21日（土曜日）\n【場所】　東別院会館　201号室（蓮）\n【受付】　13時〜\n【開始】　13時30分〜15時30分迄 \n【講師】　小澤正道\n【主催】　世良めぐみ\n【担当】　赤松聡\n07023263456\n【会場】　東別院会館\n名古屋市中区橘2-8-45\n052−331−9576\n・駐車場有り\n・体験会では、常温のお水をご用意下さい。\n・今回、ビジネストレーニングはございません。
URL:https://olylife-japan.com/all-event/%e5%90%8d%e5%8f%a4%e5%b1%8b%e2%9c%a8%e4%bd%93%e9%a8%93%e4%bc%9a%e3%83%bb%e3%82%bb%e3%83%9f%e3%83%8a%e3%83%bc-4/
LOCATION:東別院会館\, 愛知県名古屋市中区橘２丁目８−４５\, 愛知県\, 460-0016\, Japan
END:VEVENT
BEGIN:VEVENT
DTSTART;TZID=Asia/Tokyo:20250620T210000
DTEND;TZID=Asia/Tokyo:20250620T223000
DTSTAMP:20260420T134104
CREATED:20250609T040757Z
LAST-MODIFIED:20250609T040757Z
UID:3515-1750453200-1750458600@olylife-japan.com
SUMMARY:Zoom【スペシャルプラン勉強会】
DESCRIPTION:6月20日(金) 21時〜\n【スペシャルプラン勉強会】\n講師　阪下博之 \n今回は初心者🔰向けの勉強会となります✨✨\n◉ ネットワーク初めての方❗️\n◉ バイナリーが初めての方❗️ \n全ての疑問が解決します‼️\n是非ご参加ください✨✨✨✨ \n※出来る限り顔出しでの参加をお願いします\n開始15分前から入室可能なので、表示名(漢字フルネーム)の変更など各自で準備を整えてください\n他の参加者のご迷惑となりますので極力時間厳守でお願いします \n \n  \nミーティング ID: 846 5817 6788\nパスコード: 20240501
URL:https://olylife-japan.com/all-event/zoom%e3%80%90%e3%82%b9%e3%83%9a%e3%82%b7%e3%83%a3%e3%83%ab%e3%83%97%e3%83%a9%e3%83%b3%e5%8b%89%e5%bc%b7%e4%bc%9a%e3%80%91-4/
LOCATION:Zoom
END:VEVENT
BEGIN:VEVENT
DTSTART;TZID=Asia/Tokyo:20250620T130000
DTEND;TZID=Asia/Tokyo:20250620T170000
DTSTAMP:20260420T134104
CREATED:20250609T040617Z
LAST-MODIFIED:20250609T040617Z
UID:3513-1750424400-1750438800@olylife-japan.com
SUMMARY:兵庫✨体験会＆セミナー
DESCRIPTION:兵庫✨体験会＆セミナー\n6/20金曜日\n兵庫セミナー体験会 \n《場所》\n兵庫区文化センター講習室2階 \n・12:30〜準備、設営\n・13:00 受付開始\n・13:30〜15:00 セミナー\n・15:00〜15:30 ハロートーク\n・15:30〜15:45 休憩\n・15:45〜16:45 ビジトレ \n📣17:00完全撤収 \n※定員オーバーする可能性ありますのでご了承ください。 ※基本お席取りもご遠慮ください。 ※受付スタート以前に会場でのお席取りはご遠慮ください。 ※体験を希望される方は早めにお越し下さい。先着順に整理券をお配りします。 \n[ 講師 ］\n小澤正道 \n［主催］ AOT \n［参加費］ 会員500円 新規 無料
URL:https://olylife-japan.com/all-event/%e5%85%b5%e5%ba%ab%e2%9c%a8%e4%bd%93%e9%a8%93%e4%bc%9a%ef%bc%86%e3%82%bb%e3%83%9f%e3%83%8a%e3%83%bc-4/
LOCATION:兵庫区文化センター\, 神戸市兵庫区羽坂通4-1-1　兵庫区文化センター
END:VEVENT
BEGIN:VEVENT
DTSTART;TZID=Asia/Tokyo:20250619T210000
DTEND;TZID=Asia/Tokyo:20250619T223000
DTSTAMP:20260420T134104
CREATED:20250609T040438Z
LAST-MODIFIED:20250609T040438Z
UID:3511-1750366800-1750372200@olylife-japan.com
SUMMARY:Zoom 一般セミナー
DESCRIPTION:6月19日(木) 21時〜\n【一般セミナー】\n講師　小澤正道 \n※出来る限り顔出しでの参加をお願いします\n開始15分前から入室可能なので、表示名(漢字フルネーム)の変更など各自で準備を整えてください\n他の参加者のご迷惑となりますので極力時間厳守でお願いします \n \n  \nミーティング ID: 624 926 6369\nパスコード: 6369
URL:https://olylife-japan.com/all-event/zoom-%e4%b8%80%e8%88%ac%e3%82%bb%e3%83%9f%e3%83%8a%e3%83%bc-8/
LOCATION:Zoom
END:VEVENT
BEGIN:VEVENT
DTSTART;TZID=Asia/Tokyo:20250618T131500
DTEND;TZID=Asia/Tokyo:20250618T170000
DTSTAMP:20260420T134104
CREATED:20250515T043648Z
LAST-MODIFIED:20250515T043648Z
UID:3213-1750252500-1750266000@olylife-japan.com
SUMMARY:東京✨体験会＆セミナー
DESCRIPTION:東京✨体験会＆セミナー\n東京セミナー \n▪️日時\n６月18日(水)\n受付）13時15分開場\n開演）13時30分 \n講師：小澤正道 \n主催：世良めぐみ \n担当：中村千佐江\n電話：09089620119 \n会員協力費　会員500円\n新規　無料 \n※ご紹介様は、体験ご希望の方のお水のご準備をお願いいたします。 \n▪️会場\nとしま区民センター\n7階\n〒170-0013 東京都豊島区東池袋１丁目２０−１０\nhttps://maps.app.goo.gl/xY1ehNiii8KzkjYB8?g_st=com.google.maps.preview.copy
URL:https://olylife-japan.com/all-event/%e6%9d%b1%e4%ba%ac%e2%9c%a8%e4%bd%93%e9%a8%93%e4%bc%9a%ef%bc%86%e3%82%bb%e3%83%9f%e3%83%8a%e3%83%bc-4/
LOCATION:としま区民センター\, 東京都豊島区東池袋1-20-10　としま区民センター\, Japan
END:VEVENT
BEGIN:VEVENT
DTSTART;TZID=Asia/Tokyo:20250612T210000
DTEND;TZID=Asia/Tokyo:20250612T223000
DTSTAMP:20260420T134104
CREATED:20250609T040241Z
LAST-MODIFIED:20250609T040241Z
UID:3508-1749762000-1749767400@olylife-japan.com
SUMMARY:Zoom《会員限定》プラン勉強会
DESCRIPTION:Zoom《会員限定》プラン勉強会\n6月12日(木) 21時〜\n【プラン勉強会】\n講師　阪下博之 \n※出来る限り顔出しでの参加をお願いします\n開始15分前から入室可能なので、表示名(漢字フルネーム)の変更など各自で準備を整えてください\n他の参加者のご迷惑となりますので極力時間厳守でお願いします \n \n  \nミーティング ID: 846 5817 6788\nパスコード: 20240501
URL:https://olylife-japan.com/all-event/zoom%e3%80%8a%e4%bc%9a%e5%93%a1%e9%99%90%e5%ae%9a%e3%80%8b%e3%83%97%e3%83%a9%e3%83%b3%e5%8b%89%e5%bc%b7%e4%bc%9a-10/
LOCATION:Zoom
END:VEVENT
BEGIN:VEVENT
DTSTART;TZID=Asia/Tokyo:20250610T130000
DTEND;TZID=Asia/Tokyo:20250610T170000
DTSTAMP:20260420T134104
CREATED:20250609T035935Z
LAST-MODIFIED:20250609T035935Z
UID:3506-1749560400-1749574800@olylife-japan.com
SUMMARY:東京✨体験会＆セミナー
DESCRIPTION:東京✨体験会＆セミナー\n東京セミナー \n▪️日時\n6月10日火曜日\n受付）13時開場\n開演）13時30分 \n講師：坂井正人 \n主催：世良めぐみ \n担当：中村千佐江\n電話：09089620119 \n会員協力費　会員500円\n新規　無料 \n※ご紹介様は、体験ご希望の方のお水のご準備をお願いいたします。 \n▪️会場\nとしま区民センター\n7階\n〒170-0013 東京都豊島区東池袋１丁目２０−１０\nhttps://maps.app.goo.gl/xY1ehNiii8KzkjYB8?g_st=com.google.maps.preview.copy
URL:https://olylife-japan.com/all-event/%e6%9d%b1%e4%ba%ac%e2%9c%a8%e4%bd%93%e9%a8%93%e4%bc%9a%ef%bc%86%e3%82%bb%e3%83%9f%e3%83%8a%e3%83%bc-6/
LOCATION:としま区民センター\, 東京都豊島区東池袋1-20-10　としま区民センター\, Japan
END:VEVENT
BEGIN:VEVENT
DTSTART;TZID=Asia/Tokyo:20250610T130000
DTEND;TZID=Asia/Tokyo:20250610T170000
DTSTAMP:20260420T134104
CREATED:20241130T032559Z
LAST-MODIFIED:20250609T035648Z
UID:1893-1749560400-1749574800@olylife-japan.com
SUMMARY:大阪✨体験会＆セミナー
DESCRIPTION:大阪✨体験会＆セミナー\n【大阪セミナー＆体験会】 \n［日時］ 6/10日(火)\n13:00受付スタート 13:30開始 15:00終了予定\n15:00〜15:30 お楽しみトーク(毛利4star)\n15:30〜15:45 休憩\n15:45〜16:45 ビジネストレーニング \n📣17:00完全撤収 \n※定員オーバーする可能性ありますのでご了承ください。\n※基本お席取りもご遠慮ください。\n※受付スタート以前に会場でのお席取りはご遠慮ください。\n※体験を希望される方は早めにお越し下さい。先着順に整理券をお配りします。 \n［講師］\n小澤正道 \n［主催］ AOT \n［参加費］ 会員500円 新規 無料 \n［会場］ \nNLC新大阪8号館9階\n901号室 \n大阪市淀川区西中島3丁目9-13
URL:https://olylife-japan.com/all-event/%e5%a4%a7%e9%98%aa%e2%9c%a8%e3%82%bb%e3%83%9f%e3%83%8a%e3%83%bc%ef%bc%86%e4%bd%93%e9%a8%93%e4%bc%9a/
LOCATION:NLC新大阪8号館\, 大阪府大阪市淀川区西中島3丁目9-13　NLC新大阪8号館\, Japan
END:VEVENT
BEGIN:VEVENT
DTSTART;TZID=Asia/Tokyo:20250605T130000
DTEND;TZID=Asia/Tokyo:20250605T163000
DTSTAMP:20260420T134104
CREATED:20250515T043518Z
LAST-MODIFIED:20250515T043518Z
UID:3210-1749128400-1749141000@olylife-japan.com
SUMMARY:沖縄✨体験会＆セミナー
DESCRIPTION:沖縄✨体験会＆セミナー\n【沖縄セミナー＆体験会】\n6月5日(木曜日) \n受付）13時00分\n開演）13時30分〜\n第1部　セミナー＆無料体験会 \n第2部　ビジネストレーニング \n講師：小澤正道 \n主催：世良めぐみ \n担当：根間秀人\n電話：070-5412-3512 \n会員協力費　会員　500円\n新規　無料 \n体験は当日先着〇〇名様までとなりますのでご了承下さい。 \n場所https://maps.app.goo.gl/D5H8QH7tC6Yv3yoS6?g_st=al \n宜野湾マリン支援センター\n2F\n大会議室
URL:https://olylife-japan.com/all-event/%e6%b2%96%e7%b8%84%e2%9c%a8%e4%bd%93%e9%a8%93%e4%bc%9a%ef%bc%86%e3%82%bb%e3%83%9f%e3%83%8a%e3%83%bc-3/
LOCATION:宜野湾マリン支援センター\, 沖縄県宜野湾市大山7-10-27　宜野湾マリン支援センター
END:VEVENT
BEGIN:VEVENT
DTSTART;TZID=Asia/Tokyo:20250601T131500
DTEND;TZID=Asia/Tokyo:20250601T170000
DTSTAMP:20260420T134104
CREATED:20250515T043339Z
LAST-MODIFIED:20250515T043339Z
UID:3207-1748783700-1748797200@olylife-japan.com
SUMMARY:富山✨体験会＆セミナー
DESCRIPTION:富山✨体験会＆セミナー\n【第一回富山セミナー】 \n▪️日時\n６月１日(日)\n受付）13時15分開場\n開演）13時30分 \n講師：小澤正道 \n主催：世良めぐみ \n担当：金森規伊子\n電話：090 2120 0214 \n会員協力費　会員500円\n新規　無料 \n※ご紹介者様は、体験ご希望の方のお水のご準備をお願いいたします。 \n▪️会場\n高岡商工会議所505号室\n富山県高岡市丸の内1-40\nhttps://maps.app.goo.gl/fkEFtmdbYSrLw1wk7?g_st=com.google.maps.preview.copy
URL:https://olylife-japan.com/all-event/%e5%af%8c%e5%b1%b1%e2%9c%a8%e4%bd%93%e9%a8%93%e4%bc%9a%ef%bc%86%e3%82%bb%e3%83%9f%e3%83%8a%e3%83%bc/
LOCATION:高岡商工会議所\, 富山県高岡市丸の内1-40　高岡商工会議所
END:VEVENT
BEGIN:VEVENT
DTSTART;TZID=Asia/Tokyo:20250528T131000
DTEND;TZID=Asia/Tokyo:20250528T170000
DTSTAMP:20260420T134104
CREATED:20250426T074004Z
LAST-MODIFIED:20250426T074004Z
UID:2948-1748437800-1748451600@olylife-japan.com
SUMMARY:熊本✨体験会＆セミナー
DESCRIPTION:熊本✨体験会＆セミナー\n【熊本セミナー&体験会】\n5月28日(水) 受付）13時10分 開演）13時30分〜\n講師：小澤正道\n主催：AOT\n担当：松岡衣美 電話：090-7539-1676\n会員協力費　会員　500円 新規　無料\n※新規の方とご一緒に来られる方は新規の方のお水をご準備お願いします。 \n■場所\n桜の馬場 城彩苑　多目的交流室\n〒860-0008\n熊本市中央区二の丸1番1\n城彩苑　総合観光案内所の2階
URL:https://olylife-japan.com/all-event/%e7%86%8a%e6%9c%ac%e2%9c%a8%e4%bd%93%e9%a8%93%e4%bc%9a%ef%bc%86%e3%82%bb%e3%83%9f%e3%83%8a%e3%83%bc-3/
LOCATION:桜の馬場 城彩苑\, 熊本県熊本市中央区二の丸１−１−２ 桜の馬場 城彩苑\, Japan
END:VEVENT
BEGIN:VEVENT
DTSTART;TZID=Asia/Tokyo:20250527T210000
DTEND;TZID=Asia/Tokyo:20250527T223000
DTSTAMP:20260420T134104
CREATED:20250515T043159Z
LAST-MODIFIED:20250515T043159Z
UID:3205-1748379600-1748385000@olylife-japan.com
SUMMARY:Zoom《会員限定》プラン勉強会
DESCRIPTION:Zoom《会員限定》プラン勉強会\n5月27日(火) 21時〜\n【プラン勉強会】\n講師　阪下博之 \n※出来る限り顔出しでの参加をお願いします\n開始15分前から入室可能なので、表示名(漢字フルネーム)の変更など各自で準備を整えてください\n他の参加者のご迷惑となりますので極力時間厳守でお願いします \n \nミーティング ID: 846 5817 6788\nパスコード: 20240501
URL:https://olylife-japan.com/all-event/zoom%e3%80%8a%e4%bc%9a%e5%93%a1%e9%99%90%e5%ae%9a%e3%80%8b%e3%83%97%e3%83%a9%e3%83%b3%e5%8b%89%e5%bc%b7%e4%bc%9a-9/
LOCATION:Zoom
END:VEVENT
BEGIN:VEVENT
DTSTART;TZID=Asia/Tokyo:20250527T130000
DTEND;TZID=Asia/Tokyo:20250527T170000
DTSTAMP:20260420T134104
CREATED:20250426T073852Z
LAST-MODIFIED:20250426T073852Z
UID:2946-1748350800-1748365200@olylife-japan.com
SUMMARY:福岡✨体験会＆セミナー
DESCRIPTION:福岡✨体験会＆セミナー\n【福岡セミナー&体験会】\n▪️日時 5月27日(火) 受付）13時10分 開演）13時30分\n講師：小澤正道\n主催：AOT\n担当：松本紀子 電話：090-3412-1243\n会員協力費　会員500円 新規　無料\n※ご紹介様は、体験ご希望の方のお水のご準備をお願いいたします。\n▪️会場　第三博多偕成ビル４階\n〒812-0016\n福岡市博多区博多駅南1丁目3番6号
URL:https://olylife-japan.com/all-event/%e7%a6%8f%e5%b2%a1%e2%9c%a8%e4%bd%93%e9%a8%93%e4%bc%9a%ef%bc%86%e3%82%bb%e3%83%9f%e3%83%8a%e3%83%bc-3/
LOCATION:第三博多偕成ビル\, 福岡市博多区博多駅南1丁目3番6号 第三博多偕成ビル4階　第三博多偕成ビル\, Japan
END:VEVENT
BEGIN:VEVENT
DTSTART;TZID=Asia/Tokyo:20250523T130000
DTEND;TZID=Asia/Tokyo:20250523T170000
DTSTAMP:20260420T134104
CREATED:20250515T043014Z
LAST-MODIFIED:20250515T043014Z
UID:3203-1748005200-1748019600@olylife-japan.com
SUMMARY:仙台✨体験会＆セミナー
DESCRIPTION:仙台✨体験会＆セミナー\n【仙台セミナー＆体験会】 \n5月23日 金曜日\n■会場：みやぎ婦人会館\n（第5・第6）会議室 \n受付） 13時〜\n開演） 13時30分スタート \n講師： 小澤　正道 \n主催：世良　めぐみ \n担当： 半田　茂良\n電話番号　080−3319−9699 \n会員協力費　会員　500円\n新規　無料 \n体験は当日先着順となりますのでご了承下さい。
URL:https://olylife-japan.com/all-event/%e4%bb%99%e5%8f%b0%e2%9c%a8%e4%bd%93%e9%a8%93%e4%bc%9a%ef%bc%86%e3%82%bb%e3%83%9f%e3%83%8a%e3%83%bc-2/
LOCATION:みやぎ婦人会館\, 宮城県仙台市宮城野区榴ケ岡5番地　宮城県婦人会館\, Japan
END:VEVENT
BEGIN:VEVENT
DTSTART;TZID=Asia/Tokyo:20250522T210000
DTEND;TZID=Asia/Tokyo:20250522T223000
DTSTAMP:20260420T134104
CREATED:20250515T042849Z
LAST-MODIFIED:20250515T042849Z
UID:3199-1747947600-1747953000@olylife-japan.com
SUMMARY:Zoom【スペシャルプラン勉強会】
DESCRIPTION:Zoom【スペシャルプラン勉強会】\n5月22日(木) 21時〜\n【スペシャルプラン勉強会】\n講師　阪下博之 \n今回は初心者🔰向けの勉強会となります✨✨\n◉ ネットワーク初めての方❗️\n◉ バイナリーが初めての方❗️ \n全ての疑問が解決します‼️\n是非ご参加ください✨✨✨✨ \n※出来る限り顔出しでの参加をお願いします\n開始15分前から入室可能なので、表示名(漢字フルネーム)の変更など各自で準備を整えてください\n他の参加者のご迷惑となりますので極力時間厳守でお願いします \n \nミーティング ID: 846 5817 6788\nパスコード: 20240501
URL:https://olylife-japan.com/all-event/zoom%e3%80%90%e3%82%b9%e3%83%9a%e3%82%b7%e3%83%a3%e3%83%ab%e3%83%97%e3%83%a9%e3%83%b3%e5%8b%89%e5%bc%b7%e4%bc%9a%e3%80%91-3/
LOCATION:Zoom
END:VEVENT
BEGIN:VEVENT
DTSTART;TZID=Asia/Tokyo:20250521T210000
DTEND;TZID=Asia/Tokyo:20250521T223000
DTSTAMP:20260420T134104
CREATED:20250515T042711Z
LAST-MODIFIED:20250515T042711Z
UID:3197-1747861200-1747866600@olylife-japan.com
SUMMARY:Zoom 一般セミナー
DESCRIPTION:Zoom 一般セミナー\n5月21日(水) 21時〜\n【一般セミナー】\n講師　小澤正道 \n※出来る限り顔出しでの参加をお願いします\n開始15分前から入室可能なので、表示名(漢字フルネーム)の変更など各自で準備を整えてください\n他の参加者のご迷惑となりますので極力時間厳守でお願いします \n  \n \nミーティング ID: 624 926 6369\nパスコード: 6369
URL:https://olylife-japan.com/all-event/zoom-%e4%b8%80%e8%88%ac%e3%82%bb%e3%83%9f%e3%83%8a%e3%83%bc-7/
LOCATION:Zoom
END:VEVENT
BEGIN:VEVENT
DTSTART;TZID=Asia/Tokyo:20250520T130000
DTEND;TZID=Asia/Tokyo:20250520T170000
DTSTAMP:20260420T134104
CREATED:20250515T042442Z
LAST-MODIFIED:20250515T042442Z
UID:3194-1747746000-1747760400@olylife-japan.com
SUMMARY:兵庫✨体験会＆セミナー
DESCRIPTION:兵庫✨体験会＆セミナー\n5/20(火)\n兵庫セミナー体験会 \n《場所》\n兵庫区文化センター講習室2階 \n・12:30〜準備、設営\n・13:00 受付開始\n・13:30〜15:00 セミナー\n・15:00〜15:30 ハロートーク(3人)\n・15:30〜15:45 休憩\n・15:45〜16:45 ビジトレ \n📣17:00完全撤収 \n※定員オーバーする可能性ありますのでご了承ください。 ※基本お席取りもご遠慮ください。 ※受付スタート以前に会場でのお席取りはご遠慮ください。 ※体験を希望される方は早めにお越し下さい。先着順に整理券をお配りします。 \n[ 講師 ］\n小澤正道 \n［主催］ AOT \n［参加費］ 会員500円 新規 無料
URL:https://olylife-japan.com/all-event/%e5%85%b5%e5%ba%ab%e2%9c%a8%e4%bd%93%e9%a8%93%e4%bc%9a%ef%bc%86%e3%82%bb%e3%83%9f%e3%83%8a%e3%83%bc-3/
LOCATION:兵庫区文化センター\, 神戸市兵庫区羽坂通4-1-1　兵庫区文化センター
END:VEVENT
BEGIN:VEVENT
DTSTART;TZID=Asia/Tokyo:20250518T131500
DTEND;TZID=Asia/Tokyo:20250518T170000
DTSTAMP:20260420T134104
CREATED:20250328T172423Z
LAST-MODIFIED:20250426T073700Z
UID:2611-1747574100-1747587600@olylife-japan.com
SUMMARY:埼玉✨体験会＆セミナー
DESCRIPTION:埼玉✨体験会＆セミナー\n【狭山セミナー＆体験会】 \n講師　小澤　正道 \n［日時］\n5月18日日曜日 \n13:15受付スタート \n13:30開始\n15:30終了 \n15時45分ビジトレ\n17時　終了 \n［体験コーナー］\n13:30\n14:00\n14:30 \n※定員オーバーする可能性ありますのでご了承ください。\n※基本お席取りもご遠慮ください。\n※受付スタート以前に会場でのお席取りはご遠慮ください。\n※体験を希望される方は早めにお越し下さい。先着順に整理券をお配りします。 \n［主催］\n磯崎　奈良　横田 \n［会場］\n新狭山ホテル\nカトレア&アイリス \n［参加費］\n¥500 \n［所在地］\n〒350-1331 埼玉県狭山市新狭山３丁目９−２\nhttps://maps.app.goo.gl/qv5a3W9dV2GUjRZEA?g_st=com.google.maps.preview.copy
URL:https://olylife-japan.com/all-event/%e5%9f%bc%e7%8e%89%e2%9c%a8%e4%bd%93%e9%a8%93%e4%bc%9a%ef%bc%86%e3%82%bb%e3%83%9f%e3%83%8a%e3%83%bc-4/
LOCATION:新狭山ホテル\, 埼玉県狭山市新狭山３丁目９−２　新狭山ホテル\, Japan
END:VEVENT
END:VCALENDAR