BEGIN:VCALENDAR
VERSION:2.0
PRODID:-//OlyLife P-90普及委員会 - ECPv6.8.1//NONSGML v1.0//EN
CALSCALE:GREGORIAN
METHOD:PUBLISH
X-ORIGINAL-URL:https://olylife-japan.com
X-WR-CALDESC:OlyLife P-90普及委員会 のイベント
REFRESH-INTERVAL;VALUE=DURATION:PT1H
X-Robots-Tag:noindex
X-PUBLISHED-TTL:PT1H
BEGIN:VTIMEZONE
TZID:Asia/Tokyo
BEGIN:STANDARD
TZOFFSETFROM:+0900
TZOFFSETTO:+0900
TZNAME:JST
DTSTART:20250101T000000
END:STANDARD
END:VTIMEZONE
BEGIN:VEVENT
DTSTART;TZID=Asia/Tokyo:20250106T131500
DTEND;TZID=Asia/Tokyo:20250106T170000
DTSTAMP:20260420T194753
CREATED:20241129T113509Z
LAST-MODIFIED:20241129T113509Z
UID:1890-1736169300-1736182800@olylife-japan.com
SUMMARY:東京新春✨セミナー・体験会
DESCRIPTION:東京新春✨セミナー・体験会\n東京新春セミナー \n◎日時1月6日（月）\n受付）13時15分\n開演）13時30〜 \n講師： 小澤正道 \n主催：世良めぐみ \n担当：中村 千佐江\n電話：090-8962-0119 \n◎会員協力費\n会員500円\nご新規様　無料！ \n※ 体験\n体験は新規の方ご優先、ご来場順で行います。 \n◎会場\n品川中小企業センター\n大講習室2F \n◎住所\n住所:〒141-0033\n品川区西品川1-28-3 \n◎交通手段\n⚪︎東急大井町線下神明駅　徒歩2分\n⚪︎JR線・東急線・りんかい線大井町駅　徒歩15分
URL:https://olylife-japan.com/all-event/%e6%9d%b1%e4%ba%ac%e6%96%b0%e6%98%a5%e2%9c%a8%e3%82%bb%e3%83%9f%e3%83%8a%e3%83%bc%e3%83%bb%e4%bd%93%e9%a8%93%e4%bc%9a/
LOCATION:品川区立中小企業センター\, 東京都品川区西品川1-28-3　品川区立中小企業センター\, Japan
END:VEVENT
BEGIN:VEVENT
DTSTART;TZID=Asia/Tokyo:20250108T130000
DTEND;TZID=Asia/Tokyo:20250108T170000
DTSTAMP:20260420T194753
CREATED:20241120T081837Z
LAST-MODIFIED:20241120T081837Z
UID:1833-1736341200-1736355600@olylife-japan.com
SUMMARY:沖縄✨セミナー＆体験会
DESCRIPTION:  \n沖縄🌟セミナー＆体験会 \n【沖縄セミナー＆体験会】 \n1月8日(水曜日) \n受付）13時00分\n第1部セミナー\n開演）13時30分〜 \n第2部ビジネストレーニング\n開演）15時30分〜 \n講師：小澤正道 \n主催：世良めぐみ \n担当：根間秀人\n電話：070-5412-3512 \n会員協力費　会員　500円\n新規　無料 \n場所：「みんなの貸会議室　那覇小禄駅前店」\n※小禄イオンの近くです。\n701会議室(定員90名)
URL:https://olylife-japan.com/all-event/%e6%b2%96%e7%b8%84%e2%9c%a8%e3%82%bb%e3%83%9f%e3%83%8a%e3%83%bc%ef%bc%86%e4%bd%93%e9%a8%93%e4%bc%9a/
LOCATION:みんなの貸会議室　那覇小禄駅前店\, 沖縄県那覇市金城5-8-6みんなの貸会議室　那覇小禄駅前店\, Japan
END:VEVENT
BEGIN:VEVENT
DTSTART;TZID=Asia/Tokyo:20250112T130000
DTEND;TZID=Asia/Tokyo:20250112T170000
DTSTAMP:20260420T194753
CREATED:20241120T082548Z
LAST-MODIFIED:20241120T082952Z
UID:1837-1736686800-1736701200@olylife-japan.com
SUMMARY:札幌✨セミナー＆体験会
DESCRIPTION:札幌🌟セミナー体験会 \n【札幌セミナー体験会】\n◎日時1月12日 日曜日\n受付）13時00分\n開演）13時30〜 \n講師:小澤正道 \n主催:坂井正人\n番号:08065620545 \n参加費:新規無料🆓\n既存会員:資料代500円 \n[備考]\n体験の際の飲み水は各自、ご持参をお願いいたします。 \n[会場]\n札幌市産業振興センター　2階\nセミナールームA
URL:https://olylife-japan.com/all-event/%e6%9c%ad%e5%b9%8c%e2%9c%a8%e3%82%bb%e3%83%9f%e3%83%8a%e3%83%bc%ef%bc%86%e4%bd%93%e9%a8%93%e4%bc%9a-2/
LOCATION:札幌市産業振興センター\, 札幌市白石区東札幌5条1丁目1－1　札幌市産業振興センター\, Japan
END:VEVENT
BEGIN:VEVENT
DTSTART;TZID=Asia/Tokyo:20250121T130000
DTEND;TZID=Asia/Tokyo:20250121T163000
DTSTAMP:20260420T194753
CREATED:20250108T082637Z
LAST-MODIFIED:20250108T082637Z
UID:2016-1737464400-1737477000@olylife-japan.com
SUMMARY:名古屋✨セミナー・体験会
DESCRIPTION:名古屋✨セミナー・体験会\n【1月度名古屋体験会&セミナー】 \n1月21日（火曜日）\n●（受付）13時00分\n（開演）13時30分〜15時30分 \n●ビジネストレーニング\n16時〜 \n講師：小澤正道 \n主催：世良めぐみ\n担当：赤松聡\n電話：090-8180−2365 \n会員協力費　会員　500円\n新規　無料 \n■場所　東別院会館\n210号室\n名古屋市中区橘2-8-45\n0523319576\n駅からのアクセスはこちら\n地下鉄「東別院駅」4番出口より西へ徒歩3分 \n【注意事項】\n．トレーニング中は、体験会しませんので、体験希望の方はお早めにお越し下さい。\n．体験される方は常温のお水をこ用意下さい。
URL:https://olylife-japan.com/all-event/%e5%90%8d%e5%8f%a4%e5%b1%8b%e2%9c%a8%e3%82%bb%e3%83%9f%e3%83%8a%e3%83%bc%e3%83%bb%e4%bd%93%e9%a8%93%e4%bc%9a-3/
LOCATION:東別院会館\, 愛知県名古屋市中区橘２丁目８−４５\, 愛知県\, 460-0016\, Japan
END:VEVENT
BEGIN:VEVENT
DTSTART;TZID=Asia/Tokyo:20250123T130000
DTEND;TZID=Asia/Tokyo:20250123T170000
DTSTAMP:20260420T194753
CREATED:20250108T082957Z
LAST-MODIFIED:20250108T082957Z
UID:2018-1737637200-1737651600@olylife-japan.com
SUMMARY:仙台✨セミナー＆体験会
DESCRIPTION:仙台✨セミナー＆体験会\n【仙台セミナー&体験会】 \n1月23日　木曜日 \n受付）13時〜\nセミナー　13時30〜 \n講師：小澤正道\n主催：世良めぐみ \n担当：半田　茂良\n電話番号080 3319 9699 \n会員協力費　会員　500円\n新規　無料 \n会場：日立システムホール仙台 (仙台市文化センター) \n仙台市青葉区旭ケ丘3丁目27−5
URL:https://olylife-japan.com/all-event/%e4%bb%99%e5%8f%b0%e2%9c%a8%e3%82%bb%e3%83%9f%e3%83%8a%e3%83%bc%ef%bc%86%e4%bd%93%e9%a8%93%e4%bc%9a-3/
LOCATION:日立システムホール仙台\, 仙台市青葉区旭ケ丘3-27-5　日立システムホール仙台\, Japan
END:VEVENT
BEGIN:VEVENT
DTSTART;TZID=Asia/Tokyo:20250125T130000
DTEND;TZID=Asia/Tokyo:20250125T170000
DTSTAMP:20260420T194753
CREATED:20250108T083153Z
LAST-MODIFIED:20250108T083153Z
UID:2021-1737810000-1737824400@olylife-japan.com
SUMMARY:福岡✨セミナー＆体験会
DESCRIPTION:福岡✨セミナー＆体験会\n【福岡セミナー&体験会】 \n▪️日時\n1月25日(土)\n受付）13時00分\n開演）13時30分 \n講師：小澤正道 \n主催：世良めぐみ \n担当：松本紀子\n電話：090-3412-1243 \n会員協力費　会員500円\n新規　無料 \n※ご紹介様は、体験ご希望の方のお水のご準備をお願いいたします。 \n▪️会場\n第五博多偕成ビル9階\n第2・第3会議室 \n〒812-0013 福岡県福岡市博多区博多駅東１丁目１８−２５
URL:https://olylife-japan.com/all-event/%e7%a6%8f%e5%b2%a1%e2%9c%a8%e3%82%bb%e3%83%9f%e3%83%8a%e3%83%bc%ef%bc%86%e4%bd%93%e9%a8%93%e4%bc%9a-2/
LOCATION:第五博多偕成ビル\, 福岡市博多区博多駅東1丁目18番25号 第五博多偕成ビル10階
END:VEVENT
END:VCALENDAR