BEGIN:VCALENDAR
VERSION:2.0
PRODID:-//OlyLife P-90普及委員会 - ECPv6.8.1//NONSGML v1.0//EN
CALSCALE:GREGORIAN
METHOD:PUBLISH
X-ORIGINAL-URL:https://olylife-japan.com
X-WR-CALDESC:OlyLife P-90普及委員会 のイベント
REFRESH-INTERVAL;VALUE=DURATION:PT1H
X-Robots-Tag:noindex
X-PUBLISHED-TTL:PT1H
BEGIN:VTIMEZONE
TZID:Asia/Tokyo
BEGIN:STANDARD
TZOFFSETFROM:+0900
TZOFFSETTO:+0900
TZNAME:JST
DTSTART:20250101T000000
END:STANDARD
END:VTIMEZONE
BEGIN:VEVENT
DTSTART;TZID=Asia/Tokyo:20250302T123000
DTEND;TZID=Asia/Tokyo:20250302T160000
DTSTAMP:20260420T145939
CREATED:20250224T091701Z
LAST-MODIFIED:20250224T091701Z
UID:2291-1740918600-1740931200@olylife-japan.com
SUMMARY:埼玉✨体験会＆セミナー
DESCRIPTION:埼玉✨体験会＆セミナー\n【狭山市セミナー＆体験会】 \n［日時］\n3月2日(日) \n12:30受付スタート\n13:00開始\n16時完全撤収 \n［講師］\n小澤 正道 \n［主催］\n磯崎　奈良　横田 \n［担当］\n磯崎　奈良　横田 \n［会場］\n狭山市産業労働センター2F \n［参加費］\n新規様無料\n会員500円 \n［所在地］ \n〒350-1305 埼玉県狭山市入間川１丁目３−３\nhttps://maps.app.goo.gl/UchNaaWPZ4NRB7Ze6?g_st=il \n※駐車サービス制度\n隣に有料立体駐車場あり \n※定員オーバーする可能性ありますのでご了承ください。\n※基本お席取りもご遠慮ください。\n※受付スタート以前に会場でのお席取りはご遠慮ください。\n※体験を希望される方は早めにお越し下さい。先着順に整理券をお配りします。
URL:https://olylife-japan.com/all-event/%e5%9f%bc%e7%8e%89%e2%9c%a8%e4%bd%93%e9%a8%93%e4%bc%9a%ef%bc%86%e3%82%bb%e3%83%9f%e3%83%8a%e3%83%bc/
LOCATION:狭山市産業労働センター\, 埼玉県狭山市入間川１丁目３−３　狭山市産業労働センター\, Japan
END:VEVENT
BEGIN:VEVENT
DTSTART;TZID=Asia/Tokyo:20250303T210000
DTEND;TZID=Asia/Tokyo:20250303T223000
DTSTAMP:20260420T145939
CREATED:20250224T092212Z
LAST-MODIFIED:20250224T092212Z
UID:2297-1741035600-1741041000@olylife-japan.com
SUMMARY:Zoom 一般セミナー
DESCRIPTION:Zoom 一般セミナー\n【zoomセミナー】 \n3月3日(月) 21時〜\n一般セミナー\n講師　小澤正道 \n※出来る限り顔出しでの参加をお願いします。\n開始30分前から入室可能なので、表示名(漢字フルネーム)の変更など各自で準備を整えてください。 \n \nミーティング ID: 624 926 6369\nパスコード: 6369
URL:https://olylife-japan.com/all-event/zoom-%e4%b8%80%e8%88%ac%e3%82%bb%e3%83%9f%e3%83%8a%e3%83%bc-3/
LOCATION:Zoom
END:VEVENT
BEGIN:VEVENT
DTSTART;TZID=Asia/Tokyo:20250304T130000
DTEND;TZID=Asia/Tokyo:20250304T170000
DTSTAMP:20260420T145939
CREATED:20250212T112511Z
LAST-MODIFIED:20250212T112511Z
UID:2221-1741093200-1741107600@olylife-japan.com
SUMMARY:仙台✨体験会＆セミナー
DESCRIPTION:仙台✨体験会＆セミナー\n【仙台セミナー&体験会】 \n3月4日 火曜日 \n受付）13時〜\n開演）13時30スタート \n講師：小澤正道\n主催：世良めぐみ \n担当：半田　茂良\n電話番号080 3319 9699 \n会員協力費　会員　500円\n新規　無料 \n体験は当日先着順となりますのでご了承下さい。 \n■場所\nみやぎ婦人会館第１研修室\nhttps://maps.app.goo.gl/42xrfafKH4FUUkgd8?g_st=il
URL:https://olylife-japan.com/all-event/%e4%bb%99%e5%8f%b0%e2%9c%a8%e4%bd%93%e9%a8%93%e4%bc%9a%ef%bc%86%e3%82%bb%e3%83%9f%e3%83%8a%e3%83%bc/
LOCATION:みやぎ婦人会館\, 宮城県仙台市宮城野区榴ケ岡5番地　宮城県婦人会館\, Japan
END:VEVENT
BEGIN:VEVENT
DTSTART;TZID=Asia/Tokyo:20250307T210000
DTEND;TZID=Asia/Tokyo:20250307T223000
DTSTAMP:20260420T145939
CREATED:20250224T092825Z
LAST-MODIFIED:20250224T092825Z
UID:2300-1741381200-1741386600@olylife-japan.com
SUMMARY:Zoom《会員限定》プラン勉強会
DESCRIPTION:Zoom《会員限定》プラン勉強会\nプラン勉強会 \n3月7日(金) 21時〜 \n講師　阪下博之 \n※出来る限り顔出しでの参加をお願いします\n開始15分前から入室可能なので、表示名(漢字フルネーム)の変更など各自で準備を整えてください\n他の参加者のご迷惑となりますので極力時間厳守でお願いします \n［🔽阪下担当日🆔］ \n \nミーティング ID: 846 5817 6788\nパスコード: 20240501
URL:https://olylife-japan.com/all-event/zoom%e3%80%8a%e4%bc%9a%e5%93%a1%e9%99%90%e5%ae%9a%e3%80%8b%e3%83%97%e3%83%a9%e3%83%b3%e5%8b%89%e5%bc%b7%e4%bc%9a-4/
LOCATION:Zoom
END:VEVENT
BEGIN:VEVENT
DTSTART;TZID=Asia/Tokyo:20250310T130000
DTEND;TZID=Asia/Tokyo:20250310T164500
DTSTAMP:20260420T145939
CREATED:20250305T084920Z
LAST-MODIFIED:20250305T084920Z
UID:2333-1741611600-1741625100@olylife-japan.com
SUMMARY:大阪✨体験会＆セミナー
DESCRIPTION:大阪✨体験会＆セミナー\n【大阪セミナー＆体験会】 \n［日時］ 3/10日(月)\n13:00受付スタート 13:30開始 15:15終了予定\n15:15〜15:30ハロートーク3名 \n15:45ビジネストレーニング\n16:45終了予定 \n※定員オーバーする可能性ありますのでご了承ください。\n※基本お席取りもご遠慮ください。\n※受付スタート以前に会場でのお席取りはご遠慮ください。\n※体験を希望される方は早めにお越し下さい。先着順に整理券をお配りします。 \n［講師］\n小澤正道 \n［主催］ AOT \n［参加費］ 会員500円 新規 無料 \n［会場］ \nNLC新大阪8号館9階\n901号室 \n大阪市淀川区西中島3丁目9-13
URL:https://olylife-japan.com/all-event/%e5%a4%a7%e9%98%aa%e2%9c%a8%e4%bd%93%e9%a8%93%e4%bc%9a%ef%bc%86%e3%82%bb%e3%83%9f%e3%83%8a%e3%83%bc/
LOCATION:NLC新大阪8号館\, 大阪府大阪市淀川区西中島3丁目9-13　NLC新大阪8号館\, Japan
END:VEVENT
BEGIN:VEVENT
DTSTART;TZID=Asia/Tokyo:20250314T131500
DTEND;TZID=Asia/Tokyo:20250314T170000
DTSTAMP:20260420T145939
CREATED:20250310T103927Z
LAST-MODIFIED:20250310T103927Z
UID:2462-1741958100-1741971600@olylife-japan.com
SUMMARY:東京✨体験会＆セミナー
DESCRIPTION:東京✨体験会＆セミナー\n東京セミナー&体験会 \n▪️日時 3月14日(金)\n受付）13時15分\n開演）13時30分予定 \n講師：小澤正道 \n主催：世良めぐみ \n担当：中村千佐江\n電話：09089620119 \n会員協力費　会員500円\n新規　無料 \n※ご紹介様は、体験ご希望の方のお水のご準備をお願いいたします。 \n会場：\nNATULUCK築地東銀座\n〒104-0045\n中央区築地1-7-10\nABL築地3F \nhttps://www.google.com/maps/search/1040045+東京都+中央区+築地+1-7-10?entry=gmail&source=g
URL:https://olylife-japan.com/all-event/%e6%9d%b1%e4%ba%ac%e2%9c%a8%e4%bd%93%e9%a8%93%e4%bc%9a%ef%bc%86%e3%82%bb%e3%83%9f%e3%83%8a%e3%83%bc-2/
LOCATION:NATULUCK築地東銀座\, 東京都中央区築地1-7-10 　ＡＢＬ築地　NATULUCK築地東銀座
END:VEVENT
BEGIN:VEVENT
DTSTART;TZID=Asia/Tokyo:20250317T131500
DTEND;TZID=Asia/Tokyo:20250317T170000
DTSTAMP:20260420T145939
CREATED:20250305T091446Z
LAST-MODIFIED:20250305T091446Z
UID:2335-1742217300-1742230800@olylife-japan.com
SUMMARY:東京✨体験会＆セミナー
DESCRIPTION:東京✨体験会＆セミナー\n東京セミナー\n◎日時3月17日\n受付）13時15分\n開演）13時30〜 \n講師： 坂井正人 \n主催：世良めぐみ \n担当：中村 千佐江\n電話：090-8962-0119 \n◎会員協力費\n会員500円\nご新規様　無料！ \n※ 体験\n体験は新規の方ご優先、ご来場順で行います。 \n◎会場\n池袋としま区民センター\n7F 会議室701〜703 \n◎住所:\n〒170-0013\n東京都豊島区東池袋1-20-10 \n◎交通手段\nJR池袋駅 東口徒歩7分
URL:https://olylife-japan.com/all-event/%e6%9d%b1%e4%ba%ac%e2%9c%a8%e4%bd%93%e9%a8%93%e4%bc%9a%ef%bc%86%e3%82%bb%e3%83%9f%e3%83%8a%e3%83%bc/
LOCATION:としま区民センター\, 東京都豊島区東池袋1-20-10　としま区民センター\, Japan
END:VEVENT
BEGIN:VEVENT
DTSTART;TZID=Asia/Tokyo:20250321T210000
DTEND;TZID=Asia/Tokyo:20250321T223000
DTSTAMP:20260420T145939
CREATED:20250224T093202Z
LAST-MODIFIED:20250224T093202Z
UID:2302-1742590800-1742596200@olylife-japan.com
SUMMARY:Zoom 一般セミナー
DESCRIPTION:【zoomセミナー】 \n3月21日（金）21時〜\n一般セミナー\n講師　小澤正道 \n※出来る限り顔出しでの参加をお願いします。\n開始30分前から入室可能なので、表示名(漢字フルネーム)の変更など各自で準備を整えてください。 \n \nミーティング ID: 624 926 6369\nパスコード: 6369
URL:https://olylife-japan.com/all-event/zoom-%e4%b8%80%e8%88%ac%e3%82%bb%e3%83%9f%e3%83%8a%e3%83%bc-4/
LOCATION:Zoom
END:VEVENT
BEGIN:VEVENT
DTSTART;TZID=Asia/Tokyo:20250322T130000
DTEND;TZID=Asia/Tokyo:20250322T170000
DTSTAMP:20260420T145939
CREATED:20250305T091759Z
LAST-MODIFIED:20250305T091759Z
UID:2337-1742648400-1742662800@olylife-japan.com
SUMMARY:福岡✨体験会＆セミナー
DESCRIPTION:福岡✨体験会＆セミナー\n【福岡セミナー&体験会】 \n▪️日時\n3月22日(土)\n受付）13時00分\n開演）13時30分 \n講師：小澤正道 \n主催：世良めぐみ \n担当：松本紀子\n電話：090-3412-1243 \n会員協力費　会員500円\n新規　無料 \n※ご紹介様は、体験ご希望の方のお水のご準備をお願いいたします。 \n▪️会場\n第五博多偕成ビル10階\n第2・第3会議室 \n〒812-0013 福岡県福岡市博多区博多駅東１丁目１８−２５ \n遠山偕成株式会社　物件案内／福岡／貸会議室／博多偕成ビル \nwww.t-kaisei.co.jp
URL:https://olylife-japan.com/all-event/%e7%a6%8f%e5%b2%a1%e2%9c%a8%e4%bd%93%e9%a8%93%e4%bc%9a%ef%bc%86%e3%82%bb%e3%83%9f%e3%83%8a%e3%83%bc/
LOCATION:第五博多偕成ビル\, 福岡市博多区博多駅東1丁目18番25号 第五博多偕成ビル10階
END:VEVENT
BEGIN:VEVENT
DTSTART;TZID=Asia/Tokyo:20250323T131000
DTEND;TZID=Asia/Tokyo:20250323T170000
DTSTAMP:20260420T145939
CREATED:20250305T091929Z
LAST-MODIFIED:20250305T091929Z
UID:2339-1742735400-1742749200@olylife-japan.com
SUMMARY:熊本✨体験会＆セミナー
DESCRIPTION:熊本✨体験会＆セミナー\n【熊本セミナー&体験会】 \n3月23日(日)\n受付）13時10分\n開演）13時30分〜 \n講師：小澤正道 \n主催：世良めぐみ \n担当：松岡衣美\n電話：090-7539-1676 \n会員協力費　会員　500円\n新規　無料 \n※新規の方とご一緒に来られる方は新規の方のお水をご準備お願いします。 \n■場所\nくまもと森都心プラザ\nA・B会議室 \n熊本市西区春日1丁目14番1号
URL:https://olylife-japan.com/all-event/%e7%86%8a%e6%9c%ac%e2%9c%a8%e4%bd%93%e9%a8%93%e4%bc%9a%ef%bc%86%e3%82%bb%e3%83%9f%e3%83%8a%e3%83%bc/
LOCATION:くまもと森都心プラザ\, 熊本県熊本市西区春日１丁目１４−１　くまもと森都心プラザ
END:VEVENT
BEGIN:VEVENT
DTSTART;TZID=Asia/Tokyo:20250325T130000
DTEND;TZID=Asia/Tokyo:20250325T170000
DTSTAMP:20260420T145939
CREATED:20250305T092047Z
LAST-MODIFIED:20250305T092047Z
UID:2341-1742907600-1742922000@olylife-japan.com
SUMMARY:沖縄✨体験会＆セミナー
DESCRIPTION:沖縄✨体験会＆セミナー\n【沖縄セミナー＆体験会】\n3月25日(火曜日) \n受付）13時00分\n開演）13時30分〜\n第1部　セミナー＆無料体験会 \n第2部　ビジネストレーニング \n講師：小澤正道 \n主催：世良めぐみ \n担当：根間秀人\n電話：070-5412-3512 \n会員協力費　会員　500円\n新規　無料 \n体験は当日先着〇〇名様までとなりますのでご了承下さい。 \n場所\nhttps://maps.app.goo.gl/LTstBP1zBEtETcpJ7 \n浦添市産業振興センター 結の街\n3F、大研修
URL:https://olylife-japan.com/all-event/%e6%b2%96%e7%b8%84%e2%9c%a8%e4%bd%93%e9%a8%93%e4%bc%9a%ef%bc%86%e3%82%bb%e3%83%9f%e3%83%8a%e3%83%bc/
LOCATION:浦添市産業振興センター 結の街\, 沖縄県浦添市勢理客4丁目13番1号 浦添市産業振興センター 結の街\, Japan
END:VEVENT
BEGIN:VEVENT
DTSTART;TZID=Asia/Tokyo:20250329T130000
DTEND;TZID=Asia/Tokyo:20250329T170000
DTSTAMP:20260420T145939
CREATED:20250328T165328Z
LAST-MODIFIED:20250328T165328Z
UID:2582-1743253200-1743267600@olylife-japan.com
SUMMARY:札幌✨セミナー＆体験会
DESCRIPTION:札幌✨セミナー＆体験会\n札幌セミナー&体験会 \n▪️日時 3月29日(土)\n受付）13時00分\n開演）13時30分予定 \n講師：小澤正道 \n主催：坂井正人 \n担当：坂井正人\n電話：08065620545 \n会員協力費　会員500円\n新規　無料 \n※ご紹介様は、体験ご希望の方のお水のご準備をお願いいたします。 \n会場：札幌市産業振興センター\nセミナールームA
URL:https://olylife-japan.com/all-event/%e6%9c%ad%e5%b9%8c%e2%9c%a8%e3%82%bb%e3%83%9f%e3%83%8a%e3%83%bc%ef%bc%86%e4%bd%93%e9%a8%93%e4%bc%9a-5/
LOCATION:札幌市産業振興センター\, 札幌市白石区東札幌5条1丁目1－1　札幌市産業振興センター\, Japan
END:VEVENT
BEGIN:VEVENT
DTSTART;TZID=Asia/Tokyo:20250330T130000
DTEND;TZID=Asia/Tokyo:20250330T170000
DTSTAMP:20260420T145939
CREATED:20250328T165631Z
LAST-MODIFIED:20250328T165631Z
UID:2584-1743339600-1743354000@olylife-japan.com
SUMMARY:京都✨体験会＆セミナー
DESCRIPTION:京都✨体験会＆セミナー\n【京都セミナー＆体験会】 \n［日時］ 3/30日(日)\n13:00受付スタート\n13:30開始 15:15終了予定\n15:15〜15:30 ハロートーク3名 \n15:45ビジネストレーニング\n16:45終了予定 \n※定員オーバーする可能性ありますのでご了承ください。\n※基本お席取りもご遠慮ください。\n※受付スタート以前に会場でのお席取りはご遠慮ください。\n※体験を希望される方は早めにお越し下さい。先着順に整理券をお配りします。 \n［講師］\n小澤正道 \n［主催］ AOT \n［参加費］ 会員500円 新規 無料 \n［会場］ \n京都テルサ \n〒601-8047\n京都府京都市南区東九条下殿田町70
URL:https://olylife-japan.com/all-event/%e4%ba%ac%e9%83%bd%e2%9c%a8%e4%bd%93%e9%a8%93%e4%bc%9a%ef%bc%86%e3%82%bb%e3%83%9f%e3%83%8a%e3%83%bc-2/
LOCATION:京都テルサ\, 京都府京都市南区東九条下殿田町70　京都テルサ\, Japan
END:VEVENT
END:VCALENDAR