BEGIN:VCALENDAR
VERSION:2.0
PRODID:-//OlyLife P-90普及委員会 - ECPv6.8.1//NONSGML v1.0//EN
CALSCALE:GREGORIAN
METHOD:PUBLISH
X-WR-CALNAME:OlyLife P-90普及委員会
X-ORIGINAL-URL:https://olylife-japan.com
X-WR-CALDESC:OlyLife P-90普及委員会 のイベント
REFRESH-INTERVAL;VALUE=DURATION:PT1H
X-Robots-Tag:noindex
X-PUBLISHED-TTL:PT1H
BEGIN:VTIMEZONE
TZID:Asia/Tokyo
BEGIN:STANDARD
TZOFFSETFROM:+0900
TZOFFSETTO:+0900
TZNAME:JST
DTSTART:20240101T000000
END:STANDARD
END:VTIMEZONE
BEGIN:VEVENT
DTSTART;TZID=Asia/Tokyo:20241117T130000
DTEND;TZID=Asia/Tokyo:20241117T170000
DTSTAMP:20260420T225404
CREATED:20241105T181651Z
LAST-MODIFIED:20241106T085616Z
UID:1676-1731848400-1731862800@olylife-japan.com
SUMMARY:福岡✨セミナー＆体験会
DESCRIPTION:福岡🌟セミナー&体験会 \n【福岡セミナー&体験会】 \n11月17日(日)\n受付）13時00分\n開演）13時30分〜15時 \n休憩） 15時〜15時15分 \n第2部）ブライアン講演\n15時15分〜16時30分 \n講師：小澤正道 \n主催：世良めぐみ \n担当：松本紀子\n電話：090-3412-1243 \n会員協力費　会員　500円\n新規　無料 \n※新規の方とご一緒に来られる方は新規の方のお水をご準備お願いします。 \n■場所\n〒812-0011 福岡県福岡市博多区博多駅前２丁目２０−１ 大博多ビル11F\nリファレンス大博多ビル
URL:https://olylife-japan.com/all-event/20241117/
LOCATION:リファレンス大博多ビル\, 福岡県福岡市博多区博多駅前２丁目２０−１ 大博多ビル11F\, 812-0011\, Japan
END:VEVENT
END:VCALENDAR