BEGIN:VCALENDAR
VERSION:2.0
PRODID:-//OlyLife P-90普及委員会 - ECPv6.8.1//NONSGML v1.0//EN
CALSCALE:GREGORIAN
METHOD:PUBLISH
X-WR-CALNAME:OlyLife P-90普及委員会
X-ORIGINAL-URL:https://olylife-japan.com
X-WR-CALDESC:OlyLife P-90普及委員会 のイベント
REFRESH-INTERVAL;VALUE=DURATION:PT1H
X-Robots-Tag:noindex
X-PUBLISHED-TTL:PT1H
BEGIN:VTIMEZONE
TZID:Asia/Tokyo
BEGIN:STANDARD
TZOFFSETFROM:+0900
TZOFFSETTO:+0900
TZNAME:JST
DTSTART:20250101T000000
END:STANDARD
END:VTIMEZONE
BEGIN:VEVENT
DTSTART;TZID=Asia/Tokyo:20250220T130000
DTEND;TZID=Asia/Tokyo:20250220T170000
DTSTAMP:20260420T181925
CREATED:20250205T110710Z
LAST-MODIFIED:20250205T110710Z
UID:2177-1740056400-1740070800@olylife-japan.com
SUMMARY:兵庫✨体験会＆セミナー
DESCRIPTION:兵庫✨体験会＆セミナー\n【兵庫セミナー体験会】\n◎日時2月20日木曜日\n受付）13時00分\n開演）13時30〜 \n講師：小澤正道 \n主催：中村グループ \n担当：高田裕子 \n◎会員協力費\n会員500円\nご新規様　無料！ \n※ 体験\n体験は新規の方ご優先、ご来場順で行います。。 \n◎会場\n尼崎中小企業センター\n402\n◎所在地\n660-0881\n兵庫県尼崎市昭和通り2丁目6-66 \n◎最寄駅\n阪神尼崎駅徒歩5分\nhttps://g.co/kgs/YThmFvR
URL:https://olylife-japan.com/all-event/%e5%85%b5%e5%ba%ab%e2%9c%a8%e4%bd%93%e9%a8%93%e4%bc%9a%ef%bc%86%e3%82%bb%e3%83%9f%e3%83%8a%e3%83%bc/
LOCATION:尼崎中小企業センター\, 兵庫県尼崎市昭和通り2丁目6-66　尼崎中小企業センター\, Japan
END:VEVENT
END:VCALENDAR