BEGIN:VCALENDAR
VERSION:2.0
PRODID:-//OlyLife P-90普及委員会 - ECPv6.8.1//NONSGML v1.0//EN
CALSCALE:GREGORIAN
METHOD:PUBLISH
X-WR-CALNAME:OlyLife P-90普及委員会
X-ORIGINAL-URL:https://olylife-japan.com
X-WR-CALDESC:OlyLife P-90普及委員会 のイベント
REFRESH-INTERVAL;VALUE=DURATION:PT1H
X-Robots-Tag:noindex
X-PUBLISHED-TTL:PT1H
BEGIN:VTIMEZONE
TZID:Asia/Tokyo
BEGIN:STANDARD
TZOFFSETFROM:+0900
TZOFFSETTO:+0900
TZNAME:JST
DTSTART:20250101T000000
END:STANDARD
END:VTIMEZONE
BEGIN:VEVENT
DTSTART;TZID=Asia/Tokyo:20250304T130000
DTEND;TZID=Asia/Tokyo:20250304T170000
DTSTAMP:20260420T162725
CREATED:20250212T112511Z
LAST-MODIFIED:20250212T112511Z
UID:2221-1741093200-1741107600@olylife-japan.com
SUMMARY:仙台✨体験会＆セミナー
DESCRIPTION:仙台✨体験会＆セミナー\n【仙台セミナー&体験会】 \n3月4日 火曜日 \n受付）13時〜\n開演）13時30スタート \n講師：小澤正道\n主催：世良めぐみ \n担当：半田　茂良\n電話番号080 3319 9699 \n会員協力費　会員　500円\n新規　無料 \n体験は当日先着順となりますのでご了承下さい。 \n■場所\nみやぎ婦人会館第１研修室\nhttps://maps.app.goo.gl/42xrfafKH4FUUkgd8?g_st=il
URL:https://olylife-japan.com/all-event/%e4%bb%99%e5%8f%b0%e2%9c%a8%e4%bd%93%e9%a8%93%e4%bc%9a%ef%bc%86%e3%82%bb%e3%83%9f%e3%83%8a%e3%83%bc/
LOCATION:みやぎ婦人会館\, 宮城県仙台市宮城野区榴ケ岡5番地　宮城県婦人会館\, Japan
END:VEVENT
END:VCALENDAR