BEGIN:VCALENDAR
VERSION:2.0
PRODID:-//OlyLife P-90普及委員会 - ECPv6.8.1//NONSGML v1.0//EN
CALSCALE:GREGORIAN
METHOD:PUBLISH
X-ORIGINAL-URL:https://olylife-japan.com
X-WR-CALDESC:OlyLife P-90普及委員会 のイベント
REFRESH-INTERVAL;VALUE=DURATION:PT1H
X-Robots-Tag:noindex
X-PUBLISHED-TTL:PT1H
BEGIN:VTIMEZONE
TZID:Asia/Tokyo
BEGIN:STANDARD
TZOFFSETFROM:+0900
TZOFFSETTO:+0900
TZNAME:JST
DTSTART:20250101T000000
END:STANDARD
END:VTIMEZONE
BEGIN:VEVENT
DTSTART;TZID=Asia/Tokyo:20250426T130000
DTEND;TZID=Asia/Tokyo:20250426T170000
DTSTAMP:20260420T145841
CREATED:20250416T073347Z
LAST-MODIFIED:20250416T073347Z
UID:2859-1745672400-1745686800@olylife-japan.com
SUMMARY:札幌✨セミナー＆体験会
DESCRIPTION:札幌✨セミナー＆体験会\n札幌セミナー&体験会 \n▪️日時 4月26日(土)\n受付）13時00分\n開演）13時30分予定 \n講師：小澤正道 \n主催：坂井正人 \n担当：坂井正人\n電話：08065620545 \n会員協力費　会員500円\n新規　無料 \n※ご紹介様は、体験ご希望の方のお水のご準備をお願いいたします。 \n住所:\n〒063-0051 北海道札幌市西区宮の沢１条１丁目１−１０ 札幌市生涯学習総合センター \n会場：https://maps.app.goo.gl/bofTNE7Q4zvS3kCT6?g_st=com.google.maps.preview.copy
URL:https://olylife-japan.com/all-event/%e6%9c%ad%e5%b9%8c%e2%9c%a8%e3%82%bb%e3%83%9f%e3%83%8a%e3%83%bc%ef%bc%86%e4%bd%93%e9%a8%93%e4%bc%9a-6/
LOCATION:ちえりあ　札幌市生涯学習センター\, 札幌市西区宮の沢1条1丁目1-10　ちえりあ　札幌市生涯学習センター\, 北海道\, 063-0051\, Japan
END:VEVENT
END:VCALENDAR