BEGIN:VCALENDAR
VERSION:2.0
PRODID:-//OlyLife P-90普及委員会 - ECPv6.8.1//NONSGML v1.0//EN
CALSCALE:GREGORIAN
METHOD:PUBLISH
X-WR-CALNAME:OlyLife P-90普及委員会
X-ORIGINAL-URL:https://olylife-japan.com
X-WR-CALDESC:OlyLife P-90普及委員会 のイベント
REFRESH-INTERVAL;VALUE=DURATION:PT1H
X-Robots-Tag:noindex
X-PUBLISHED-TTL:PT1H
BEGIN:VTIMEZONE
TZID:Asia/Tokyo
BEGIN:STANDARD
TZOFFSETFROM:+0900
TZOFFSETTO:+0900
TZNAME:JST
DTSTART:20250101T000000
END:STANDARD
END:VTIMEZONE
BEGIN:VEVENT
DTSTART;TZID=Asia/Tokyo:20250720T130000
DTEND;TZID=Asia/Tokyo:20250720T170000
DTSTAMP:20260420T101334
CREATED:20250707T083043Z
LAST-MODIFIED:20250707T083043Z
UID:3677-1753016400-1753030800@olylife-japan.com
SUMMARY:兵庫✨体験会＆セミナー
DESCRIPTION:兵庫✨体験会＆セミナー\n7/20(日)\n✨兵庫セミナー体験会 \n《場所》\n✨兵庫区文化センター講習室2階 \n・12:30〜準備、設営\n・13:00 受付開始\n・13:30〜15:00 セミナー\n・15:00〜15:30 ハロートーク＆毛利さん(4スター)トーク\n・15:30〜15:45 休憩\n・15:45〜16:45 ビジトレ \n📣17:00完全撤収 \n※定員オーバーする可能性ありますのでご了承ください。 ※基本お席取りもご遠慮ください。 ※受付スタート以前に会場でのお席取りはご遠慮ください。 ※体験を希望される方は早めにお越し下さい。先着順に整理券をお配りします。 \n[ 講師 ］\n小澤正道 \n［主催］ AOT \n［参加費］ 会員500円 新規 無料
URL:https://olylife-japan.com/all-event/%e5%85%b5%e5%ba%ab%e2%9c%a8%e4%bd%93%e9%a8%93%e4%bc%9a%ef%bc%86%e3%82%bb%e3%83%9f%e3%83%8a%e3%83%bc-5/
LOCATION:兵庫区文化センター\, 神戸市兵庫区羽坂通4-1-1　兵庫区文化センター
END:VEVENT
BEGIN:VEVENT
DTSTART;TZID=Asia/Tokyo:20250720T210000
DTEND;TZID=Asia/Tokyo:20250720T223000
DTSTAMP:20260420T101334
CREATED:20250707T083216Z
LAST-MODIFIED:20250707T083216Z
UID:3679-1753045200-1753050600@olylife-japan.com
SUMMARY:Zoom【スペシャルプラン勉強会】
DESCRIPTION:7月20日(日) 21時〜\n【スペシャルプラン勉強会】\n講師　阪下博之 \n今回は初心者🔰向けの勉強会となります✨✨\n◉ ネットワーク初めての方❗️\n◉ バイナリーが初めての方❗️ \n全ての疑問が解決します‼️\n是非ご参加ください✨✨✨✨ \n※出来る限り顔出しでの参加をお願いします\n開始15分前から入室可能なので、表示名(漢字フルネーム)の変更など各自で準備を整えてください\n他の参加者のご迷惑となりますので極力時間厳守でお願いします \n \nミーティング ID: 846 5817 6788\nパスコード: 20240501
URL:https://olylife-japan.com/all-event/zoom%e3%80%90%e3%82%b9%e3%83%9a%e3%82%b7%e3%83%a3%e3%83%ab%e3%83%97%e3%83%a9%e3%83%b3%e5%8b%89%e5%bc%b7%e4%bc%9a%e3%80%91-5/
LOCATION:Zoom
END:VEVENT
END:VCALENDAR