BEGIN:VCALENDAR
VERSION:2.0
PRODID:-//OlyLife P-90普及委員会 - ECPv6.8.1//NONSGML v1.0//EN
CALSCALE:GREGORIAN
METHOD:PUBLISH
X-WR-CALNAME:OlyLife P-90普及委員会
X-ORIGINAL-URL:https://olylife-japan.com
X-WR-CALDESC:OlyLife P-90普及委員会 のイベント
REFRESH-INTERVAL;VALUE=DURATION:PT1H
X-Robots-Tag:noindex
X-PUBLISHED-TTL:PT1H
BEGIN:VTIMEZONE
TZID:Asia/Tokyo
BEGIN:STANDARD
TZOFFSETFROM:+0900
TZOFFSETTO:+0900
TZNAME:JST
DTSTART:20250101T000000
END:STANDARD
END:VTIMEZONE
BEGIN:VEVENT
DTSTART;TZID=Asia/Tokyo:20250923T123000
DTEND;TZID=Asia/Tokyo:20250923T160000
DTSTAMP:20260420T064020
CREATED:20250816T061529Z
LAST-MODIFIED:20250816T061529Z
UID:3948-1758630600-1758643200@olylife-japan.com
SUMMARY:埼玉 狭山市✨体験会＆セミナー
DESCRIPTION:埼玉 狭山市✨体験会＆セミナー\n【狭山セミナー＆体験会】 \n講師　小澤　正道 \n［日時］\n9月23日火曜日秋分の日 \n12:30受付スタート\n13時開始\n16時完全撤収 \n［体験コーナー］ \n13:30\n14:00\n14:30\n15:00 \n※定員オーバーする可能性ありますのでご了承ください。\n※基本お席取りもご遠慮ください。\n※受付スタート以前に会場でのお席取りはご遠慮ください。\n※体験を希望される方は早めにお越し下さい。先着順に整理券をお配りします。 \n［主催］\n磯崎　奈良　横田 \n［会場］\n狭山市産業センター\n2階 \n［参加費] \n¥500 \n［所在地］\nhttps://www.sayama-sanrou.jp/access/
URL:https://olylife-japan.com/all-event/%e5%9f%bc%e7%8e%89-%e7%8b%ad%e5%b1%b1%e5%b8%82%e2%9c%a8%e4%bd%93%e9%a8%93%e4%bc%9a%ef%bc%86%e3%82%bb%e3%83%9f%e3%83%8a%e3%83%bc-2/
LOCATION:狭山市産業労働センター\, 埼玉県狭山市入間川１丁目３−３　狭山市産業労働センター\, Japan
END:VEVENT
BEGIN:VEVENT
DTSTART;TZID=Asia/Tokyo:20250923T210000
DTEND;TZID=Asia/Tokyo:20250923T223000
DTSTAMP:20260420T064020
CREATED:20250911T072201Z
LAST-MODIFIED:20250911T072201Z
UID:4123-1758661200-1758666600@olylife-japan.com
SUMMARY:Zoom《会員限定》プラン勉強会
DESCRIPTION:Zoom《会員限定》プラン勉強会\n9月23日(火) 21時〜\n【プラン勉強会】\n講師　阪下博之 \n※出来る限り顔出しでの参加をお願いします\n開始15分前から入室可能なので、表示名(漢字フルネーム)の変更など各自で準備を整えてください\n他の参加者のご迷惑となりますので極力時間厳守でお願いします \n \nミーティング ID: 846 5817 6788\nパスコード: 20240501
URL:https://olylife-japan.com/all-event/zoom%e3%80%8a%e4%bc%9a%e5%93%a1%e9%99%90%e5%ae%9a%e3%80%8b%e3%83%97%e3%83%a9%e3%83%b3%e5%8b%89%e5%bc%b7%e4%bc%9a-16/
LOCATION:Zoom
END:VEVENT
END:VCALENDAR