BEGIN:VCALENDAR
VERSION:2.0
PRODID:-//OlyLife P-90普及委員会 - ECPv6.8.1//NONSGML v1.0//EN
CALSCALE:GREGORIAN
METHOD:PUBLISH
X-WR-CALNAME:OlyLife P-90普及委員会
X-ORIGINAL-URL:https://olylife-japan.com
X-WR-CALDESC:OlyLife P-90普及委員会 のイベント
REFRESH-INTERVAL;VALUE=DURATION:PT1H
X-Robots-Tag:noindex
X-PUBLISHED-TTL:PT1H
BEGIN:VTIMEZONE
TZID:Asia/Tokyo
BEGIN:STANDARD
TZOFFSETFROM:+0900
TZOFFSETTO:+0900
TZNAME:JST
DTSTART:20250101T000000
END:STANDARD
END:VTIMEZONE
BEGIN:VEVENT
DTSTART;TZID=Asia/Tokyo:20251006T130000
DTEND;TZID=Asia/Tokyo:20251006T170000
DTSTAMP:20260420T043829
CREATED:20250911T072628Z
LAST-MODIFIED:20250911T072628Z
UID:4132-1759755600-1759770000@olylife-japan.com
SUMMARY:名古屋✨体験会・セミナー
DESCRIPTION:名古屋✨体験会・セミナー\n●10月　名古屋体験会＆セミナー \n【日時】10月6日（月）\n【場所】ウインクあいち1003号室\n【受付】　13時〜\n【開始】　13時30分〜 \n【講師】　小澤正道\n【主催】　松本幸弘\n【会場住所】\n名古屋市中村区名駅4丁目4-38 \n＊会場協力費: 500円(新規無料) \n＊体験希望者は当日受け付け時にお申し込み下さい。\nまた体験希望の方はお水のご用意をお願いします。 \n【アクセス】\nhttps://www.winc-aichi.jp/access/
URL:https://olylife-japan.com/all-event/%e5%90%8d%e5%8f%a4%e5%b1%8b%e2%9c%a8%e4%bd%93%e9%a8%93%e4%bc%9a%e3%83%bb%e3%82%bb%e3%83%9f%e3%83%8a%e3%83%bc-8/
LOCATION:ウインクあいち\, 愛知県名古屋市中村区名駅4丁目4-38 ウインクあいち
END:VEVENT
END:VCALENDAR