BEGIN:VCALENDAR
VERSION:2.0
PRODID:-//OlyLife P-90普及委員会 - ECPv6.8.1//NONSGML v1.0//EN
CALSCALE:GREGORIAN
METHOD:PUBLISH
X-WR-CALNAME:OlyLife P-90普及委員会
X-ORIGINAL-URL:https://olylife-japan.com
X-WR-CALDESC:OlyLife P-90普及委員会 のイベント
REFRESH-INTERVAL;VALUE=DURATION:PT1H
X-Robots-Tag:noindex
X-PUBLISHED-TTL:PT1H
BEGIN:VTIMEZONE
TZID:Asia/Tokyo
BEGIN:STANDARD
TZOFFSETFROM:+0900
TZOFFSETTO:+0900
TZNAME:JST
DTSTART:20250101T000000
END:STANDARD
END:VTIMEZONE
BEGIN:VEVENT
DTSTART;TZID=Asia/Tokyo:20251012T130000
DTEND;TZID=Asia/Tokyo:20251012T170000
DTSTAMP:20260420T045151
CREATED:20251010T055030Z
LAST-MODIFIED:20251010T055030Z
UID:4398-1760274000-1760288400@olylife-japan.com
SUMMARY:山口✨周南セミナー体験会＆ビジトレ
DESCRIPTION:山口✨周南セミナー体験会＆ビジトレ\n山口周南セミナー体験会＆ビジトレ \n▪️日時 10月 12日(日)\n13:00 受付開始\n13:30〜15:20 新規説明会\n15:20〜15:40 休憩\n15:40〜16:40 ビジトレ \n▪️講師：小澤正道\n▪️主催：世良めぐみ\n▪️担当：黒田純枝\n（090-5262-6782）\n▪️会員協力費\n会員500円\n新規　無料 \n※ 体験\n体験は新規の方ご優先、ご来場順で行います。\n体験希望の方はお水のご用意をお願いします。 \n▪️住所:\n〒745-0034\n山口県周南市御幸通２丁目２８\n周南市駅前図書館3階\n交流室2 \n（エレベーターおりたら右側にあるガラス張りの部屋になります） \n交通手段\n⚪︎JR山陽本線新徳山駅徒歩2分\n駐車場は会場の隣にあります。（1時間無料）
URL:https://olylife-japan.com/all-event/%e5%b1%b1%e5%8f%a3%e2%9c%a8%e5%91%a8%e5%8d%97%e3%82%bb%e3%83%9f%e3%83%8a%e3%83%bc%e4%bd%93%e9%a8%93%e4%bc%9a%ef%bc%86%e3%83%93%e3%82%b8%e3%83%88%e3%83%ac/
LOCATION:周南市立徳山駅前図書館\, 山口県周南市御幸通２丁目２８番２　周南市立徳山駅前図書館
END:VEVENT
END:VCALENDAR