BEGIN:VCALENDAR
VERSION:2.0
PRODID:-//OlyLife P-90普及委員会 - ECPv6.8.1//NONSGML v1.0//EN
CALSCALE:GREGORIAN
METHOD:PUBLISH
X-WR-CALNAME:OlyLife P-90普及委員会
X-ORIGINAL-URL:https://olylife-japan.com
X-WR-CALDESC:OlyLife P-90普及委員会 のイベント
REFRESH-INTERVAL;VALUE=DURATION:PT1H
X-Robots-Tag:noindex
X-PUBLISHED-TTL:PT1H
BEGIN:VTIMEZONE
TZID:Asia/Tokyo
BEGIN:STANDARD
TZOFFSETFROM:+0900
TZOFFSETTO:+0900
TZNAME:JST
DTSTART:20250101T000000
END:STANDARD
END:VTIMEZONE
BEGIN:VEVENT
DTSTART;TZID=Asia/Tokyo:20251020T133000
DTEND;TZID=Asia/Tokyo:20251020T170000
DTSTAMP:20260420T043829
CREATED:20250911T073223Z
LAST-MODIFIED:20250911T073223Z
UID:4144-1760967000-1760979600@olylife-japan.com
SUMMARY:兵庫姫路✨体験会＆セミナー
DESCRIPTION:兵庫姫路✨体験会＆セミナー\n【兵庫姫路セミナー＆体験会】\n10月20日(月)\n☆受付、開始時間が変更となっておりますのでご注意願います。 \n受付）13時30分\n開演）14時〜\n第1部　セミナー＆無料体験会\n第2部　ビジネストレーニング \n講師：小澤正道 \n主催：世良めぐみ \n担当：加藤裕希依\n電話：090-1905-0862 \n会員協力費　会員　500円\n新規　無料 \n体験は当日先着〇〇名様までとなりますのでご了承下さい。\n新規様のお水はご用意ください。 \n場所:兵庫県姫路市総合福祉\n会館\n5階　第1会議室 \n住所:兵庫県姫路市安田3丁目\n1番地 \n駐車場:近隣パーキング
URL:https://olylife-japan.com/all-event/%e5%85%b5%e5%ba%ab%e5%a7%ab%e8%b7%af%e2%9c%a8%e4%bd%93%e9%a8%93%e4%bc%9a%ef%bc%86%e3%82%bb%e3%83%9f%e3%83%8a%e3%83%bc-4/
LOCATION:兵庫県姫路市総合福祉会館\, 兵庫県姫路市安田3丁目1番地　兵庫県姫路市総合福祉会館
END:VEVENT
BEGIN:VEVENT
DTSTART;TZID=Asia/Tokyo:20251020T210000
DTEND;TZID=Asia/Tokyo:20251020T223000
DTSTAMP:20260420T043829
CREATED:20251010T060010Z
LAST-MODIFIED:20251010T060010Z
UID:4408-1760994000-1760999400@olylife-japan.com
SUMMARY:Zoom【スペシャルプラン勉強会】
DESCRIPTION:Zoom【スペシャルプラン勉強会】\n10月20日(月) 21時〜\n【スペシャルプラン勉強会】\n講師　阪下博之 \n今回は初心者🔰向けの勉強会となります✨✨\n◉ ネットワーク初めての方❗️\n◉ バイナリーが初めての方❗️ \n全ての疑問が解決します‼️\n是非ご参加ください✨✨✨✨ \n※出来る限り顔出しでの参加をお願いします\n開始15分前から入室可能なので、表示名(漢字フルネーム)の変更など各自で準備を整えてください\n他の参加者のご迷惑となりますので極力時間厳守でお願いします \n \n  \nミーティング ID: 846 5817 6788\nパスコード: 20240501
URL:https://olylife-japan.com/all-event/zoom%e3%80%90%e3%82%b9%e3%83%9a%e3%82%b7%e3%83%a3%e3%83%ab%e3%83%97%e3%83%a9%e3%83%b3%e5%8b%89%e5%bc%b7%e4%bc%9a%e3%80%91-8/
LOCATION:Zoom
END:VEVENT
END:VCALENDAR