BEGIN:VCALENDAR
VERSION:2.0
PRODID:-//OlyLife P-90普及委員会 - ECPv6.8.1//NONSGML v1.0//EN
CALSCALE:GREGORIAN
METHOD:PUBLISH
X-WR-CALNAME:OlyLife P-90普及委員会
X-ORIGINAL-URL:https://olylife-japan.com
X-WR-CALDESC:OlyLife P-90普及委員会 のイベント
REFRESH-INTERVAL;VALUE=DURATION:PT1H
X-Robots-Tag:noindex
X-PUBLISHED-TTL:PT1H
BEGIN:VTIMEZONE
TZID:Asia/Tokyo
BEGIN:STANDARD
TZOFFSETFROM:+0900
TZOFFSETTO:+0900
TZNAME:JST
DTSTART:20250101T000000
END:STANDARD
END:VTIMEZONE
BEGIN:VEVENT
DTSTART;TZID=Asia/Tokyo:20251021T140000
DTEND;TZID=Asia/Tokyo:20251021T170000
DTSTAMP:20260420T045113
CREATED:20251010T060142Z
LAST-MODIFIED:20251010T060142Z
UID:4410-1761055200-1761066000@olylife-japan.com
SUMMARY:宮古島初オープンセミナー
DESCRIPTION:宮古島初オープンセミナー\n【宮古島セミナー＆体験会】\n10月21日(火曜日) \n受付）14時00分\n開演）14時30分〜 \n講師：毛利誠 \n主催：世良めぐみ \n担当：毛利誠\n電話：090-2700-3332 \n会員協力費　無料\n新規　無料 \n体験は当日先着〇〇名様までとなりますのでご了承下さい。 \n場所\n宮古島市平良下里108-11\n平良港ターミナルビル\n2階　大研究室
URL:https://olylife-japan.com/all-event/%e5%ae%ae%e5%8f%a4%e5%b3%b6%e5%88%9d%e3%82%aa%e3%83%bc%e3%83%97%e3%83%b3%e3%82%bb%e3%83%9f%e3%83%8a%e3%83%bc/
LOCATION:平良港ターミナルビル\, 沖縄県宮古島市平良下里１０８−１１　平良港ターミナルビル
END:VEVENT
END:VCALENDAR