BEGIN:VCALENDAR
VERSION:2.0
PRODID:-//OlyLife P-90普及委員会 - ECPv6.8.1//NONSGML v1.0//EN
CALSCALE:GREGORIAN
METHOD:PUBLISH
X-ORIGINAL-URL:https://olylife-japan.com
X-WR-CALDESC:OlyLife P-90普及委員会 のイベント
REFRESH-INTERVAL;VALUE=DURATION:PT1H
X-Robots-Tag:noindex
X-PUBLISHED-TTL:PT1H
BEGIN:VTIMEZONE
TZID:Asia/Tokyo
BEGIN:STANDARD
TZOFFSETFROM:+0900
TZOFFSETTO:+0900
TZNAME:JST
DTSTART:20250101T000000
END:STANDARD
END:VTIMEZONE
BEGIN:VEVENT
DTSTART;TZID=Asia/Tokyo:20251104T133000
DTEND;TZID=Asia/Tokyo:20251104T160000
DTSTAMP:20260420T030758
CREATED:20251013T055838Z
LAST-MODIFIED:20251013T055838Z
UID:4429-1762263000-1762272000@olylife-japan.com
SUMMARY:AJ主催：大阪✨体験会＆セミナー
DESCRIPTION:AJ主催：大阪✨体験会＆セミナー\n【大阪セミナー＆体験会】 \n2025年、後期AJ主催のセミナーになります！\n受付時間が変更となっておりますので、ご注意願います。 \n［日時］\n11/4日(火) \n【講師】　小澤正道 \n13:30受付スタート\n14:00開始\n16:00終了予定 \n［体験コーナー］\n14:00\n14:30\n15:00 \n【注意】\n同フロアに他のご利用者様もいらっしゃいますので、受付時間に合わせてお越し頂けますようご協力願います。 \n※定員オーバーする可能性ありますのでご了承ください。\n※お席取りもご遠慮ください。\n※受付スタート以前に会場でのお席取りはご遠慮ください。\n※体験を希望される方は早めにお越し下さい。先着順に整理券をお配りします。 \n［主催］\nアベンジャーズJAPAN \n［会場］\nCIVI研修センター新大阪東、7階 \n［参加費］\n無料 \n［所在地］\nhttps://maps.app.goo.gl/swrkv5NJhEZJXrLu8?g_st=com.google.maps.preview.copy
URL:https://olylife-japan.com/all-event/aj%e4%b8%bb%e5%82%ac%ef%bc%9a%e5%a4%a7%e9%98%aa%e2%9c%a8%e4%bd%93%e9%a8%93%e4%bc%9a%ef%bc%86%e3%82%bb%e3%83%9f%e3%83%8a%e3%83%bc-2/
LOCATION:CIVI研修センター新大阪東\, 大阪府大阪市東淀川区東中島１丁目１９−４ LUCID SQUARE SHIN-OSAKA （ルーシッドスクエア新大阪）7階　CIVI研修センター新大阪東\, Japan
END:VEVENT
BEGIN:VEVENT
DTSTART;TZID=Asia/Tokyo:20251104T210000
DTEND;TZID=Asia/Tokyo:20251104T223000
DTSTAMP:20260420T030758
CREATED:20251103T055258Z
LAST-MODIFIED:20251103T055258Z
UID:4527-1762290000-1762295400@olylife-japan.com
SUMMARY:Zoom【スペシャルプラン勉強会】
DESCRIPTION:Zoom【スペシャルプラン勉強会】\n11月4日(火) 21時〜\n【スペシャルプラン勉強会】\n講師　阪下博之 \n今回は初心者🔰向けの勉強会となります✨✨\n◉ ネットワーク初めての方❗️\n◉ バイナリーが初めての方❗️ \n全ての疑問が解決します‼️\n是非ご参加ください✨✨✨✨ \n※出来る限り顔出しでの参加をお願いします\n開始15分前から入室可能なので、表示名(漢字フルネーム)の変更など各自で準備を整えてください\n他の参加者のご迷惑となりますので極力時間厳守でお願いします \n \nミーティング ID: 846 5817 6788\nパスコード: 20240501
URL:https://olylife-japan.com/all-event/zoom%e3%80%90%e3%82%b9%e3%83%9a%e3%82%b7%e3%83%a3%e3%83%ab%e3%83%97%e3%83%a9%e3%83%b3%e5%8b%89%e5%bc%b7%e4%bc%9a%e3%80%91-9/
LOCATION:Zoom
END:VEVENT
END:VCALENDAR