BEGIN:VCALENDAR
VERSION:2.0
PRODID:-//OlyLife P-90普及委員会 - ECPv6.8.1//NONSGML v1.0//EN
CALSCALE:GREGORIAN
METHOD:PUBLISH
X-ORIGINAL-URL:https://olylife-japan.com
X-WR-CALDESC:OlyLife P-90普及委員会 のイベント
REFRESH-INTERVAL;VALUE=DURATION:PT1H
X-Robots-Tag:noindex
X-PUBLISHED-TTL:PT1H
BEGIN:VTIMEZONE
TZID:Asia/Tokyo
BEGIN:STANDARD
TZOFFSETFROM:+0900
TZOFFSETTO:+0900
TZNAME:JST
DTSTART:20250101T000000
END:STANDARD
END:VTIMEZONE
BEGIN:VEVENT
DTSTART;TZID=Asia/Tokyo:20251124T133000
DTEND;TZID=Asia/Tokyo:20251124T170000
DTSTAMP:20260420T030811
CREATED:20251103T061022Z
LAST-MODIFIED:20251103T061022Z
UID:4554-1763991000-1764003600@olylife-japan.com
SUMMARY:埼玉✨体験会＆セミナー
DESCRIPTION:埼玉✨体験会セミナー\n【埼玉セミナー＆体験会】 \n［日時］ 11月24日(月)\n13:30受付 14:00開演 15:30終了予定\n16:00〜16:30\n「ハロートーク 」 \n📣17:00完全撤収 \n※定員オーバーする可能性ありますのでご了承ください。\n※基本お席取りもご遠慮ください。\n※ご紹介様は、体験ご希望の方のお水のご準備をお願いいたします。 \n［講師］\n小澤正道 \n［主催］ AOT \n[担当者]\n石川 恵美子\n☎︎080-5023-3006 \n［参加費］ 会員500円\n新規 無料 \n［会場］\nウエスタ川越\n埼玉県川越市新宿町\n１丁目17-17\nhttps://www.westa-kawagoe.jp/access/
URL:https://olylife-japan.com/all-event/%e5%9f%bc%e7%8e%89%e2%9c%a8%e4%bd%93%e9%a8%93%e4%bc%9a%ef%bc%86%e3%82%bb%e3%83%9f%e3%83%8a%e3%83%bc-6/
LOCATION:ウエスタ川越\, 埼玉県川越市新宿町1-17-17　ウエスタ川越\, Japan
END:VEVENT
END:VCALENDAR