BEGIN:VCALENDAR
VERSION:2.0
PRODID:-//OlyLife P-90普及委員会 - ECPv6.8.1//NONSGML v1.0//EN
CALSCALE:GREGORIAN
METHOD:PUBLISH
X-ORIGINAL-URL:https://olylife-japan.com
X-WR-CALDESC:OlyLife P-90普及委員会 のイベント
REFRESH-INTERVAL;VALUE=DURATION:PT1H
X-Robots-Tag:noindex
X-PUBLISHED-TTL:PT1H
BEGIN:VTIMEZONE
TZID:Asia/Tokyo
BEGIN:STANDARD
TZOFFSETFROM:+0900
TZOFFSETTO:+0900
TZNAME:JST
DTSTART:20250101T000000
END:STANDARD
END:VTIMEZONE
BEGIN:VEVENT
DTSTART;TZID=Asia/Tokyo:20251226T130000
DTEND;TZID=Asia/Tokyo:20251226T170000
DTSTAMP:20260420T011738
CREATED:20251207T051233Z
LAST-MODIFIED:20251207T051233Z
UID:4702-1766754000-1766768400@olylife-japan.com
SUMMARY:【栃木】宇都宮✨体験会＆セミナー
DESCRIPTION:【栃木】宇都宮✨体験会＆セミナー\n【宇都宮セミナー&体験会】 \n▪️日時 12月26日(金) 受付）13時00分 開演）13時30分\n講師：小澤正道\n主催：AOT\n担当：松本紀子 電話：090-3412-1243\n会員協力費　会員500円 新規　無料\n※ご紹介様は、体験ご希望の方のお水のご準備をお願いいたします。 \n▪️会場\nとちぎ男女共同参画センター\n「パルティ」 3階301号室 \n宇都宮市野沢町4－1
URL:https://olylife-japan.com/all-event/%e3%80%90%e6%a0%83%e6%9c%a8%e3%80%91%e5%ae%87%e9%83%bd%e5%ae%ae%e2%9c%a8%e4%bd%93%e9%a8%93%e4%bc%9a%ef%bc%86%e3%82%bb%e3%83%9f%e3%83%8a%e3%83%bc-2/
LOCATION:とちぎ男女共同参画センター\, 栃木県宇都宮市野沢町４−１ とちぎ男女共同参画センター 「パルティ」
END:VEVENT
END:VCALENDAR