BEGIN:VCALENDAR
VERSION:2.0
PRODID:-//OlyLife P-90普及委員会 - ECPv6.8.1//NONSGML v1.0//EN
CALSCALE:GREGORIAN
METHOD:PUBLISH
X-WR-CALNAME:OlyLife P-90普及委員会
X-ORIGINAL-URL:https://olylife-japan.com
X-WR-CALDESC:OlyLife P-90普及委員会 のイベント
REFRESH-INTERVAL;VALUE=DURATION:PT1H
X-Robots-Tag:noindex
X-PUBLISHED-TTL:PT1H
BEGIN:VTIMEZONE
TZID:Asia/Tokyo
BEGIN:STANDARD
TZOFFSETFROM:+0900
TZOFFSETTO:+0900
TZNAME:JST
DTSTART:20260101T000000
END:STANDARD
END:VTIMEZONE
BEGIN:VEVENT
DTSTART;TZID=Asia/Tokyo:20260115T130000
DTEND;TZID=Asia/Tokyo:20260115T164000
DTSTAMP:20260419T233628
CREATED:20260106T034209Z
LAST-MODIFIED:20260106T034209Z
UID:4810-1768482000-1768495200@olylife-japan.com
SUMMARY:山口✨岩国市セミナー体験会＆ビジトレ
DESCRIPTION:山口✨岩国市セミナー体験会＆ビジトレ\n  \n山口県岩国市\n【オリーライフ セミナー体験会＆ビジトレ】 \n▪️日時 1月 15日(木)\n13:00 受付開始\n13:30〜15:20 新規説明会\n15:20〜15:40 休憩\n15:40〜16:40 ビジトレ \n▪️講師：小澤正道\n▪️主催：世良めぐみ\n▪️担当：黒田純枝\n（090-5262-6782）\n▪️会員協力費\n会員500円\n新規　無料 \n※ 体験\n体験は新規の方ご優先、ご来場順で行います。\n体験希望の方はお水のご用意をお願いします。 \n〒740-0022山口県岩国市山手町1丁目15-3 \n岩国市民文化会館（1階会議室） \n▪️交通手段\n⚪︎JR山陽本線岩国駅 徒歩10分\n駐車場は会場の近くにあります。
URL:https://olylife-japan.com/all-event/%e5%b1%b1%e5%8f%a3%e2%9c%a8%e5%b2%a9%e5%9b%bd%e5%b8%82%e3%82%bb%e3%83%9f%e3%83%8a%e3%83%bc%e4%bd%93%e9%a8%93%e4%bc%9a%ef%bc%86%e3%83%93%e3%82%b8%e3%83%88%e3%83%ac/
LOCATION:岩国市民文化会館\, 岩国市山手町一丁目15番3号　岩国市民文化会館
END:VEVENT
BEGIN:VEVENT
DTSTART;TZID=Asia/Tokyo:20260115T131500
DTEND;TZID=Asia/Tokyo:20260115T170000
DTSTAMP:20260419T233628
CREATED:20260106T034323Z
LAST-MODIFIED:20260106T034323Z
UID:4813-1768482900-1768496400@olylife-japan.com
SUMMARY:東京✨スペシャルセミナー&体験会
DESCRIPTION:東京✨スペシャルセミナー&体験会\n東京スペシャルセミナー&体験会 \n▪️日時\n1月15日(木)\n受付）13時15分開場\n開演）13時30分\n(17時終了予定) \n講師：坂井正人 \n主催：世良めぐみ \n担当：中村千佐江\n電話：09089620119 \n会員協力費\n会員500円\n新規　無料 \n※ご紹介様は、体験ご希望の方のお水のご準備をお願いいたします。 \n▪️会場\nとしま区民センター7階(池袋駅東口より徒歩約7分)\n〒170-0013\n東京都豊島区東池袋1丁目20-10
URL:https://olylife-japan.com/all-event/%e6%9d%b1%e4%ba%ac%e2%9c%a8%e3%82%b9%e3%83%9a%e3%82%b7%e3%83%a3%e3%83%ab%e3%82%bb%e3%83%9f%e3%83%8a%e3%83%bc%e4%bd%93%e9%a8%93%e4%bc%9a/
LOCATION:としま区民センター\, 東京都豊島区東池袋1-20-10　としま区民センター\, Japan
END:VEVENT
END:VCALENDAR