BEGIN:VCALENDAR
VERSION:2.0
PRODID:-//OlyLife P-90普及委員会 - ECPv6.8.1//NONSGML v1.0//EN
CALSCALE:GREGORIAN
METHOD:PUBLISH
X-ORIGINAL-URL:https://olylife-japan.com
X-WR-CALDESC:OlyLife P-90普及委員会 のイベント
REFRESH-INTERVAL;VALUE=DURATION:PT1H
X-Robots-Tag:noindex
X-PUBLISHED-TTL:PT1H
BEGIN:VTIMEZONE
TZID:Asia/Tokyo
BEGIN:STANDARD
TZOFFSETFROM:+0900
TZOFFSETTO:+0900
TZNAME:JST
DTSTART:20260101T000000
END:STANDARD
END:VTIMEZONE
BEGIN:VEVENT
DTSTART;TZID=Asia/Tokyo:20260202T133000
DTEND;TZID=Asia/Tokyo:20260202T160000
DTSTAMP:20260419T220648
CREATED:20251207T053317Z
LAST-MODIFIED:20251207T053317Z
UID:4730-1770039000-1770048000@olylife-japan.com
SUMMARY:【2026年2月度　AJ主催：大阪✨体験会＆セミナー】
DESCRIPTION:【2026年2月度　AJ主催：大阪✨体験会＆セミナー】\n【2026年2月度　AJ主催：大阪✨体験会＆セミナー】 \n2026年、前半期スタート！\nAJ主催のセミナーになります！\n受付時間にご注意下さい。 \n［日時］\n2/2日(月) \n【講師】　小澤正道 \n13:30受付スタート\n14:00開始\n16:00終了予定 \n［体験コーナー］\n14:00\n14:30\n15:00 \n【注意】\n同フロアに他のご利用者様もいらっしゃいますので、受付時間に合わせてお越し頂けますようご協力願います。 \n※定員オーバーする可能性ありますのでご了承ください。\n※お席取りもご遠慮ください。\n※受付スタート以前に会場でのお席取りはご遠慮ください。\n※体験を希望される方は早めにお越し下さい。先着順に整理券をお配りします。 \n［主催］\nアベンジャーズJAPAN \n［会場］\n新大阪丸ビル別館、2階 \n［参加費］\n無料 \n［所在地］\nhttps://maps.app.goo.gl/4VsH3bGQGnGiy4R38
URL:https://olylife-japan.com/all-event/%e3%80%902026%e5%b9%b42%e6%9c%88%e5%ba%a6%e3%80%80aj%e4%b8%bb%e5%82%ac%ef%bc%9a%e5%a4%a7%e9%98%aa%e2%9c%a8%e4%bd%93%e9%a8%93%e4%bc%9a%ef%bc%86%e3%82%bb%e3%83%9f%e3%83%8a%e3%83%bc%e3%80%91/
LOCATION:新大阪丸ビル別館\, 大阪府大阪市東淀川区東中島1-18-22　新大阪丸ビル別館
END:VEVENT
END:VCALENDAR