BEGIN:VCALENDAR
VERSION:2.0
PRODID:-//OlyLife P-90普及委員会 - ECPv6.8.1//NONSGML v1.0//EN
CALSCALE:GREGORIAN
METHOD:PUBLISH
X-ORIGINAL-URL:https://olylife-japan.com
X-WR-CALDESC:OlyLife P-90普及委員会 のイベント
REFRESH-INTERVAL;VALUE=DURATION:PT1H
X-Robots-Tag:noindex
X-PUBLISHED-TTL:PT1H
BEGIN:VTIMEZONE
TZID:Asia/Tokyo
BEGIN:STANDARD
TZOFFSETFROM:+0900
TZOFFSETTO:+0900
TZNAME:JST
DTSTART:20260101T000000
END:STANDARD
END:VTIMEZONE
BEGIN:VEVENT
DTSTART;TZID=Asia/Tokyo:20260211T130000
DTEND;TZID=Asia/Tokyo:20260211T170000
DTSTAMP:20260419T220725
CREATED:20251207T053418Z
LAST-MODIFIED:20251207T053418Z
UID:4733-1770814800-1770829200@olylife-japan.com
SUMMARY:兵庫姫路✨体験会＆セミナー
DESCRIPTION:【兵庫姫路セミナー＆体験会】\n2月11日(水) \n受付）13時\n開演）13時30分〜\n第1部　セミナー＆無料体験会\n第2部　ビジネストレーニング \n講師：小澤正道 \n主催：世良めぐみ \n担当：加藤裕希依\n電話：090-1905-0862 \n会員協力費　会員　500円\n新規　無料 \n体験は当日先着〇〇名様までとなりますのでご了承下さい。\n新規様のお水はご用意ください。 \n場所:兵庫県姫路市総合福祉\n会館\n5階　第1会議室 \n住所:兵庫県姫路市安田3丁目\n1番地 \n駐車場:近隣パーキング
URL:https://olylife-japan.com/all-event/%e5%85%b5%e5%ba%ab%e5%a7%ab%e8%b7%af%e2%9c%a8%e4%bd%93%e9%a8%93%e4%bc%9a%ef%bc%86%e3%82%bb%e3%83%9f%e3%83%8a%e3%83%bc-7/
LOCATION:兵庫県姫路市総合福祉会館\, 兵庫県姫路市安田3丁目1番地　兵庫県姫路市総合福祉会館
END:VEVENT
BEGIN:VEVENT
DTSTART;TZID=Asia/Tokyo:20260211T130000
DTEND;TZID=Asia/Tokyo:20260211T170000
DTSTAMP:20260419T220725
CREATED:20260122T191429Z
LAST-MODIFIED:20260122T191429Z
UID:4887-1770814800-1770829200@olylife-japan.com
SUMMARY:札幌✨セミナー＆体験会
DESCRIPTION:札幌✨セミナー＆体験会\n札幌セミナー&体験会 \n▪️日時 2月11日水曜日\n受付）13時00分\n開演）13時30分予定 \n講師：坂井正人 \n主催：向山理 \n会員協力費　会員500円 新規　無料 \n※ご紹介様は、体験ご希望の方のお水のご準備をお願いいたします。 \n住所: 〒003-0005 北海道札幌市白石区東札幌５条１丁目１−１\n会場：産業振興センターセミナールームA
URL:https://olylife-japan.com/all-event/%e6%9c%ad%e5%b9%8c%e2%9c%a8%e3%82%bb%e3%83%9f%e3%83%8a%e3%83%bc%ef%bc%86%e4%bd%93%e9%a8%93%e4%bc%9a-20/
LOCATION:札幌市産業振興センター\, 札幌市白石区東札幌5条1丁目1－1　札幌市産業振興センター\, Japan
END:VEVENT
END:VCALENDAR