BEGIN:VCALENDAR
VERSION:2.0
PRODID:-//OlyLife P-90普及委員会 - ECPv6.8.1//NONSGML v1.0//EN
CALSCALE:GREGORIAN
METHOD:PUBLISH
X-WR-CALNAME:OlyLife P-90普及委員会
X-ORIGINAL-URL:https://olylife-japan.com
X-WR-CALDESC:OlyLife P-90普及委員会 のイベント
REFRESH-INTERVAL;VALUE=DURATION:PT1H
X-Robots-Tag:noindex
X-PUBLISHED-TTL:PT1H
BEGIN:VTIMEZONE
TZID:Asia/Tokyo
BEGIN:STANDARD
TZOFFSETFROM:+0900
TZOFFSETTO:+0900
TZNAME:JST
DTSTART:20260101T000000
END:STANDARD
END:VTIMEZONE
BEGIN:VEVENT
DTSTART;TZID=Asia/Tokyo:20260218T130000
DTEND;TZID=Asia/Tokyo:20260218T190000
DTSTAMP:20260419T220519
CREATED:20260122T191802Z
LAST-MODIFIED:20260122T191802Z
UID:4893-1771419600-1771441200@olylife-japan.com
SUMMARY:新潟 上越市✨体験会・セミナー
DESCRIPTION:新潟 上越市✨体験会・セミナー\n【上越市　体験会＆セミナー】 \n新潟初！\n２部制の体験会＆説明会となります。 \nお仕事や家事など、ご都合の良いお時間にてご参加下さい♪ \n◉2/18日(火) \n［時間］\n◎第1部：体験会＆セミナー\n受付開始：13:00〜\n説明会開演：13:30〜 \n◎第2部：体験会＆セミナー\n受付開始：17:00〜\n説明会開演：17:30〜 \n※）体験は当日整理券を先着順お配り致しますのでご了承下さい。 \n［講師］\n森　義一 \n［会場費］\n※会員　500円\n※新規の方　無料 \n［会場］\n金谷地区公民館\n住所：上越市大貫2-17-50 \n主催　世良　めぐみ \n担当　佐藤　貴紀\n08041569701
URL:https://olylife-japan.com/all-event/%e6%96%b0%e6%bd%9f-%e4%b8%8a%e8%b6%8a%e5%b8%82%e2%9c%a8%e4%bd%93%e9%a8%93%e4%bc%9a%e3%83%bb%e3%82%bb%e3%83%9f%e3%83%8a%e3%83%bc/
LOCATION:金谷地区公民館\, 新潟県上越市大貫２丁目１７　金谷地区公民館
END:VEVENT
END:VCALENDAR